BEGIN:VCALENDAR
VERSION:2.0
PRODID:-//The Pines Times - ECPv6.15.20//NONSGML v1.0//EN
CALSCALE:GREGORIAN
METHOD:PUBLISH
X-ORIGINAL-URL:https://thepinestimes.com
X-WR-CALDESC:Events for The Pines Times
REFRESH-INTERVAL;VALUE=DURATION:PT1H
X-Robots-Tag:noindex
X-PUBLISHED-TTL:PT1H
BEGIN:VTIMEZONE
TZID:America/New_York
BEGIN:DAYLIGHT
TZOFFSETFROM:-0500
TZOFFSETTO:-0400
TZNAME:EDT
DTSTART:20250309T070000
END:DAYLIGHT
BEGIN:STANDARD
TZOFFSETFROM:-0400
TZOFFSETTO:-0500
TZNAME:EST
DTSTART:20251102T060000
END:STANDARD
BEGIN:DAYLIGHT
TZOFFSETFROM:-0500
TZOFFSETTO:-0400
TZNAME:EDT
DTSTART:20260308T070000
END:DAYLIGHT
BEGIN:STANDARD
TZOFFSETFROM:-0400
TZOFFSETTO:-0500
TZNAME:EST
DTSTART:20261101T060000
END:STANDARD
BEGIN:DAYLIGHT
TZOFFSETFROM:-0500
TZOFFSETTO:-0400
TZNAME:EDT
DTSTART:20270314T070000
END:DAYLIGHT
BEGIN:STANDARD
TZOFFSETFROM:-0400
TZOFFSETTO:-0500
TZNAME:EST
DTSTART:20271107T060000
END:STANDARD
END:VTIMEZONE
BEGIN:VEVENT
DTSTART;TZID=America/New_York:20260501T090000
DTEND;TZID=America/New_York:20260501T170000
DTSTAMP:20260422T072330
CREATED:20230421T173254Z
LAST-MODIFIED:20260413T175739Z
UID:10086829-1777626000-1777654800@thepinestimes.com
SUMMARY:Cameron Spring Antiques Street Fair 2026
DESCRIPTION:Step by in time and relive history like never before! The 2026 Cameron Spring Antiques Street Fair takes place on Friday\, May 1st & Saturday\, May 2nd\, from 9AM-5PM each day in Historic Downtown Cameron! Celebrating over 40 years of bi-annual antique street fairs! Enjoy shopping all antique stores plus the over 100 vendors. It is a favorite Moore County event that includes shopping\, great food and fun for the whole family. This is a rain or shine event.
URL:https://thepinestimes.com/event/cameron-spring-antiques-street-fair-2026/2026-05-01/
LOCATION:Downtown Cameron\, Carthage Street\, Cameron\, NC\, 28326\, United States
CATEGORIES:Adults,Antiques,Cameron Events,Fair/Festival,Family,Historical,Hobby/Enthusiast,Markets,Shopping,Social,Vendors
ATTACH;FMTTYPE=image/jpeg:https://thepinestimes.com/wp-content/uploads/CameronAntiqueFairFeature.jpg
END:VEVENT
BEGIN:VEVENT
DTSTART;TZID=America/New_York:20260502T090000
DTEND;TZID=America/New_York:20260502T170000
DTSTAMP:20260422T072330
CREATED:20230421T173254Z
LAST-MODIFIED:20260413T175739Z
UID:10086830-1777712400-1777741200@thepinestimes.com
SUMMARY:Cameron Spring Antiques Street Fair 2026
DESCRIPTION:Step by in time and relive history like never before! The 2026 Cameron Spring Antiques Street Fair takes place on Friday\, May 1st & Saturday\, May 2nd\, from 9AM-5PM each day in Historic Downtown Cameron! Celebrating over 40 years of bi-annual antique street fairs! Enjoy shopping all antique stores plus the over 100 vendors. It is a favorite Moore County event that includes shopping\, great food and fun for the whole family. This is a rain or shine event.
URL:https://thepinestimes.com/event/cameron-spring-antiques-street-fair-2026/2026-05-02/
LOCATION:Downtown Cameron\, Carthage Street\, Cameron\, NC\, 28326\, United States
CATEGORIES:Adults,Antiques,Cameron Events,Fair/Festival,Family,Historical,Hobby/Enthusiast,Markets,Shopping,Social,Vendors
ATTACH;FMTTYPE=image/jpeg:https://thepinestimes.com/wp-content/uploads/CameronAntiqueFairFeature.jpg
END:VEVENT
BEGIN:VEVENT
DTSTART;TZID=America/New_York:20260509T090000
DTEND;TZID=America/New_York:20260509T140000
DTSTAMP:20260422T072330
CREATED:20250301T205451Z
LAST-MODIFIED:20260406T172145Z
UID:10082086-1778317200-1778335200@thepinestimes.com
SUMMARY:Community Yard Sales 2026
DESCRIPTION:Come out to The Bee’s Knees Curated Vintage & Antiques for a Community Yard Sale! Community Yard Sales are held monthly on the second Saturday\, from 9:00AM-2:00PM. Shoppers are invited to support the community\, find unique items\, and bring their dogs to visit Waggy Butts for a treat. Additionally\, Sloppy Dogs food truck will be on-site. \nCommunity sales take place at 125 NC Highway 73 in West End\, NC\, on the corner of Highway 73 and 15/501. Vendors can reserve a 15’x15′ booth space for $30 on a first-come\, first-served basis by visiting the location Thursday through Sunday or calling 910-420-8970. \n \n  \n  \n 
URL:https://thepinestimes.com/event/community-yard-sales-2026/2026-05-09/
LOCATION:The Bee’s Knees Curated Vintage & Antiques\, 125 NC Highway 73\, West End\, NC\, 27376\, United States
CATEGORIES:Antiques,Family,Food,Hobby/Enthusiast,Markets,Pinehurst Events,Pop Ups,Shopping,Vendors,West End Events,Yard Sale
ATTACH;FMTTYPE=image/jpeg:https://thepinestimes.com/wp-content/uploads/TheBeesKneesFeature.jpg
ORGANIZER;CN="The Bee%E2%80%99s Knees Curated Vintage & Antiques":MAILTO:ami@beeskneespinehurst.com
END:VEVENT
BEGIN:VEVENT
DTSTART;TZID=America/New_York:20260509T090000
DTEND;TZID=America/New_York:20260509T160000
DTSTAMP:20260422T072330
CREATED:20230331T191723Z
LAST-MODIFIED:20260331T142506Z
UID:10011018-1778317200-1778342400@thepinestimes.com
SUMMARY:Carthage Buggy Festival 2026
DESCRIPTION:Join the Town of Carthage for the 37th Annual Buggy Festival! The festival takes place in Downtown Carthage on Mother’s Day weekend on Saturday\, May 9th\, from 9AM-4PM! Enjoy a great day with family and friends and find the perfect gift for Mom to celebrate Mother’s Day! \n\nJoin over 150+ craft and food vendors\, FREE Kid’s Zone\, Live Music with the Chocolate Chip & Company Band out of Myrtle Beach and Jill Charles & Nobody’s Business out of Fayetteville! \n\n\nFor the first time\, there will be BINGO games scheduled every 15 minutes beginning at 11am with the last game at 3pm. Cash prizes from $50 to $300! \n\n“Started in 1989\, the Carthage Buggy Festival is a celebration of the rich history of Carthage\, North Carolina. The Buggy Festival is held each year to commemorate the famous Tyson and Jones Buggy Factory that\, from the mid-1800’s to the 1920’s\, produced the carriages that were essential to life in rural North Carolina.” \nEnjoy a family-friendly time with fun to be had by all ages. This free event boasts live music\, a free Kid’s Zone\, vendors\, games\, food trucks\, a classic car show\, animal adoptions\, antiques appraisals and so much more! Don’t miss out on all the fun and be sure to find a gift for Mom too! Friendly\, well-behaved dogs are welcome to attend\, but they must remain on a leash.
URL:https://thepinestimes.com/event/carthage-buggy-festival-2026/
LOCATION:Downtown Carthage\, 1 Courthouse Square\, Carthage\, NC\, 28327\, United States
CATEGORIES:Adults,Antiques,Arts,Car Show/Motorcycle Show/Cruise In,Carthage Events,Crafts,Fair/Festival,Family,Food,Games,Holiday Events,Live Entertainment,Mother's Day,Music,Pines Connector,Piney's Kids,Piney's Tiny's,Senior,Shopping,Social,Teen Activities,Vendors,Young Adults
ATTACH;FMTTYPE=image/jpeg:https://thepinestimes.com/wp-content/uploads/BuggyFestivalFeature.jpg
END:VEVENT
BEGIN:VEVENT
DTSTART;TZID=America/New_York:20260516T090000
DTEND;TZID=America/New_York:20260516T170000
DTSTAMP:20260422T072330
CREATED:20230519T230536Z
LAST-MODIFIED:20260310T185832Z
UID:10035284-1778922000-1778950800@thepinestimes.com
SUMMARY:Crank Up at Ole Gilliam Mill Park 2026
DESCRIPTION:Come out for the 45th Ole Gilliam Mill Park “Crank Up” event on Saturday\, May 16th and Sunday\, May 17th! The old engines (steam and hit & miss) will be started up and the old sawmill will be running\, grist mill\, shingle & tobacco stick cutters. There will be several demos throughout the weekend including blacksmith\, weaving\, clothes washing. Enjoy browsing many vendors\, historical exhibits\, antique tractors\, tractor rides\, music\, food\, activities for the children and more! Enjoy time at the longest covered bridge in North Carolina! \nOnce a year we “Crank up” the old equipment and run demonstrations. From 9:00AM-5:00PM you can see an old sawmill in operation\, a “hit & miss” motor driven log splitter\, and a variety of of uses for “hit and miss” engines of all sizes. You can also see a liquor still in operation\, and weaving demonstrations. In addition\, you can take a tour of the park behind a 1950’s tractor\, watch a blacksmith at work\, and eat some ice cream. The grist mill will be cranked up for demonstration but we will not have cornmeal or grits for sale. Once again\, the main food concession will be run by Stubbs BBQ! ​ We will also have food trucks and a variety of vendors. (Please see the Vendor tab if you would like to be a vendor. The Crank-Up is always the weekend after Mother’s Day. \n  \n 
URL:https://thepinestimes.com/event/crank-up-at-ole-gilliam-mill-park-2026/2026-05-16/
LOCATION:Ole Gilliam Mill Park\, 4699 Carbonton Rd.\, Sanford\, NC\, 27330\, United States
CATEGORIES:Antiques,Arts,Crafts,Demonstrations,Educational,Exhibits,Family,Food,Historical,Music,Sanford Events,Social,Tours,Vendors
ATTACH;FMTTYPE=image/jpeg:https://thepinestimes.com/wp-content/uploads/OleGilliamMillParkFeature-1.jpg
END:VEVENT
BEGIN:VEVENT
DTSTART;TZID=America/New_York:20260517T090000
DTEND;TZID=America/New_York:20260517T170000
DTSTAMP:20260422T072330
CREATED:20230519T230536Z
LAST-MODIFIED:20260310T185832Z
UID:10083073-1779008400-1779037200@thepinestimes.com
SUMMARY:Crank Up at Ole Gilliam Mill Park 2026
DESCRIPTION:Come out for the 45th Ole Gilliam Mill Park “Crank Up” event on Saturday\, May 16th and Sunday\, May 17th! The old engines (steam and hit & miss) will be started up and the old sawmill will be running\, grist mill\, shingle & tobacco stick cutters. There will be several demos throughout the weekend including blacksmith\, weaving\, clothes washing. Enjoy browsing many vendors\, historical exhibits\, antique tractors\, tractor rides\, music\, food\, activities for the children and more! Enjoy time at the longest covered bridge in North Carolina! \nOnce a year we “Crank up” the old equipment and run demonstrations. From 9:00AM-5:00PM you can see an old sawmill in operation\, a “hit & miss” motor driven log splitter\, and a variety of of uses for “hit and miss” engines of all sizes. You can also see a liquor still in operation\, and weaving demonstrations. In addition\, you can take a tour of the park behind a 1950’s tractor\, watch a blacksmith at work\, and eat some ice cream. The grist mill will be cranked up for demonstration but we will not have cornmeal or grits for sale. Once again\, the main food concession will be run by Stubbs BBQ! ​ We will also have food trucks and a variety of vendors. (Please see the Vendor tab if you would like to be a vendor. The Crank-Up is always the weekend after Mother’s Day. \n  \n 
URL:https://thepinestimes.com/event/crank-up-at-ole-gilliam-mill-park-2026/2026-05-17/
LOCATION:Ole Gilliam Mill Park\, 4699 Carbonton Rd.\, Sanford\, NC\, 27330\, United States
CATEGORIES:Antiques,Arts,Crafts,Demonstrations,Educational,Exhibits,Family,Food,Historical,Music,Sanford Events,Social,Tours,Vendors
ATTACH;FMTTYPE=image/jpeg:https://thepinestimes.com/wp-content/uploads/OleGilliamMillParkFeature-1.jpg
END:VEVENT
BEGIN:VEVENT
DTSTART;TZID=America/New_York:20260530T090000
DTEND;TZID=America/New_York:20260530T160000
DTSTAMP:20260422T072330
CREATED:20250408T131122Z
LAST-MODIFIED:20260401T170538Z
UID:10056322-1780131600-1780156800@thepinestimes.com
SUMMARY:Colonial Day at the Shaw House 2026
DESCRIPTION:Join the Moore County Historical Association on Saturday\, May 30th from 9am-4pm for a special Colonial Day at the Shaw House in Southern Pines. Events will include Colonial reenactors in period dress\, crafts from the period including a blacksmith\, and hourly short talks about the time period and events. There will be exhibits and tours. Food and drinks will be available from the Pinecrest High School Wrestling Club. This event is free and open to the community.
URL:https://thepinestimes.com/event/colonial-day-at-the-shaw-house-2026/
LOCATION:Shaw House\, 110 Morganton Road\, Southern Pines\, NC\, 28387\, United States
CATEGORIES:Adults,Antiques,Crafts,Demonstrations,Educational,Exhibits,Family,Food,Historical,Hobby/Enthusiast,Memorial Day,Senior,Social,Southern Pines Events,Tours,Young Adults
ATTACH;FMTTYPE=image/jpeg:https://thepinestimes.com/wp-content/uploads/Moore-County-Historical-Association-Feature.jpg
END:VEVENT
BEGIN:VEVENT
DTSTART;TZID=America/New_York:20260613T090000
DTEND;TZID=America/New_York:20260613T140000
DTSTAMP:20260422T072330
CREATED:20250301T205451Z
LAST-MODIFIED:20260406T172145Z
UID:10082087-1781341200-1781359200@thepinestimes.com
SUMMARY:Community Yard Sales 2026
DESCRIPTION:Come out to The Bee’s Knees Curated Vintage & Antiques for a Community Yard Sale! Community Yard Sales are held monthly on the second Saturday\, from 9:00AM-2:00PM. Shoppers are invited to support the community\, find unique items\, and bring their dogs to visit Waggy Butts for a treat. Additionally\, Sloppy Dogs food truck will be on-site. \nCommunity sales take place at 125 NC Highway 73 in West End\, NC\, on the corner of Highway 73 and 15/501. Vendors can reserve a 15’x15′ booth space for $30 on a first-come\, first-served basis by visiting the location Thursday through Sunday or calling 910-420-8970. \n \n  \n  \n 
URL:https://thepinestimes.com/event/community-yard-sales-2026/2026-06-13/
LOCATION:The Bee’s Knees Curated Vintage & Antiques\, 125 NC Highway 73\, West End\, NC\, 27376\, United States
CATEGORIES:Antiques,Family,Food,Hobby/Enthusiast,Markets,Pinehurst Events,Pop Ups,Shopping,Vendors,West End Events,Yard Sale
ATTACH;FMTTYPE=image/jpeg:https://thepinestimes.com/wp-content/uploads/TheBeesKneesFeature.jpg
ORGANIZER;CN="The Bee%E2%80%99s Knees Curated Vintage & Antiques":MAILTO:ami@beeskneespinehurst.com
END:VEVENT
BEGIN:VEVENT
DTSTART;TZID=America/New_York:20260711T090000
DTEND;TZID=America/New_York:20260711T140000
DTSTAMP:20260422T072330
CREATED:20250301T205451Z
LAST-MODIFIED:20260406T172145Z
UID:10082088-1783760400-1783778400@thepinestimes.com
SUMMARY:Community Yard Sales 2026
DESCRIPTION:Come out to The Bee’s Knees Curated Vintage & Antiques for a Community Yard Sale! Community Yard Sales are held monthly on the second Saturday\, from 9:00AM-2:00PM. Shoppers are invited to support the community\, find unique items\, and bring their dogs to visit Waggy Butts for a treat. Additionally\, Sloppy Dogs food truck will be on-site. \nCommunity sales take place at 125 NC Highway 73 in West End\, NC\, on the corner of Highway 73 and 15/501. Vendors can reserve a 15’x15′ booth space for $30 on a first-come\, first-served basis by visiting the location Thursday through Sunday or calling 910-420-8970. \n \n  \n  \n 
URL:https://thepinestimes.com/event/community-yard-sales-2026/2026-07-11/
LOCATION:The Bee’s Knees Curated Vintage & Antiques\, 125 NC Highway 73\, West End\, NC\, 27376\, United States
CATEGORIES:Antiques,Family,Food,Hobby/Enthusiast,Markets,Pinehurst Events,Pop Ups,Shopping,Vendors,West End Events,Yard Sale
ATTACH;FMTTYPE=image/jpeg:https://thepinestimes.com/wp-content/uploads/TheBeesKneesFeature.jpg
ORGANIZER;CN="The Bee%E2%80%99s Knees Curated Vintage & Antiques":MAILTO:ami@beeskneespinehurst.com
END:VEVENT
BEGIN:VEVENT
DTSTART;TZID=America/New_York:20260808T090000
DTEND;TZID=America/New_York:20260808T140000
DTSTAMP:20260422T072330
CREATED:20250301T205451Z
LAST-MODIFIED:20260406T172145Z
UID:10082089-1786179600-1786197600@thepinestimes.com
SUMMARY:Community Yard Sales 2026
DESCRIPTION:Come out to The Bee’s Knees Curated Vintage & Antiques for a Community Yard Sale! Community Yard Sales are held monthly on the second Saturday\, from 9:00AM-2:00PM. Shoppers are invited to support the community\, find unique items\, and bring their dogs to visit Waggy Butts for a treat. Additionally\, Sloppy Dogs food truck will be on-site. \nCommunity sales take place at 125 NC Highway 73 in West End\, NC\, on the corner of Highway 73 and 15/501. Vendors can reserve a 15’x15′ booth space for $30 on a first-come\, first-served basis by visiting the location Thursday through Sunday or calling 910-420-8970. \n \n  \n  \n 
URL:https://thepinestimes.com/event/community-yard-sales-2026/2026-08-08/
LOCATION:The Bee’s Knees Curated Vintage & Antiques\, 125 NC Highway 73\, West End\, NC\, 27376\, United States
CATEGORIES:Antiques,Family,Food,Hobby/Enthusiast,Markets,Pinehurst Events,Pop Ups,Shopping,Vendors,West End Events,Yard Sale
ATTACH;FMTTYPE=image/jpeg:https://thepinestimes.com/wp-content/uploads/TheBeesKneesFeature.jpg
ORGANIZER;CN="The Bee%E2%80%99s Knees Curated Vintage & Antiques":MAILTO:ami@beeskneespinehurst.com
END:VEVENT
BEGIN:VEVENT
DTSTART;TZID=America/New_York:20260912T090000
DTEND;TZID=America/New_York:20260912T140000
DTSTAMP:20260422T072330
CREATED:20250301T205451Z
LAST-MODIFIED:20260406T172145Z
UID:10082090-1789203600-1789221600@thepinestimes.com
SUMMARY:Community Yard Sales 2026
DESCRIPTION:Come out to The Bee’s Knees Curated Vintage & Antiques for a Community Yard Sale! Community Yard Sales are held monthly on the second Saturday\, from 9:00AM-2:00PM. Shoppers are invited to support the community\, find unique items\, and bring their dogs to visit Waggy Butts for a treat. Additionally\, Sloppy Dogs food truck will be on-site. \nCommunity sales take place at 125 NC Highway 73 in West End\, NC\, on the corner of Highway 73 and 15/501. Vendors can reserve a 15’x15′ booth space for $30 on a first-come\, first-served basis by visiting the location Thursday through Sunday or calling 910-420-8970. \n \n  \n  \n 
URL:https://thepinestimes.com/event/community-yard-sales-2026/2026-09-12/
LOCATION:The Bee’s Knees Curated Vintage & Antiques\, 125 NC Highway 73\, West End\, NC\, 27376\, United States
CATEGORIES:Antiques,Family,Food,Hobby/Enthusiast,Markets,Pinehurst Events,Pop Ups,Shopping,Vendors,West End Events,Yard Sale
ATTACH;FMTTYPE=image/jpeg:https://thepinestimes.com/wp-content/uploads/TheBeesKneesFeature.jpg
ORGANIZER;CN="The Bee%E2%80%99s Knees Curated Vintage & Antiques":MAILTO:ami@beeskneespinehurst.com
END:VEVENT
BEGIN:VEVENT
DTSTART;TZID=America/New_York:20261010T090000
DTEND;TZID=America/New_York:20261010T140000
DTSTAMP:20260422T072330
CREATED:20250301T205451Z
LAST-MODIFIED:20260406T172145Z
UID:10082091-1791622800-1791640800@thepinestimes.com
SUMMARY:Community Yard Sales 2026
DESCRIPTION:Come out to The Bee’s Knees Curated Vintage & Antiques for a Community Yard Sale! Community Yard Sales are held monthly on the second Saturday\, from 9:00AM-2:00PM. Shoppers are invited to support the community\, find unique items\, and bring their dogs to visit Waggy Butts for a treat. Additionally\, Sloppy Dogs food truck will be on-site. \nCommunity sales take place at 125 NC Highway 73 in West End\, NC\, on the corner of Highway 73 and 15/501. Vendors can reserve a 15’x15′ booth space for $30 on a first-come\, first-served basis by visiting the location Thursday through Sunday or calling 910-420-8970. \n \n  \n  \n 
URL:https://thepinestimes.com/event/community-yard-sales-2026/2026-10-10/
LOCATION:The Bee’s Knees Curated Vintage & Antiques\, 125 NC Highway 73\, West End\, NC\, 27376\, United States
CATEGORIES:Antiques,Family,Food,Hobby/Enthusiast,Markets,Pinehurst Events,Pop Ups,Shopping,Vendors,West End Events,Yard Sale
ATTACH;FMTTYPE=image/jpeg:https://thepinestimes.com/wp-content/uploads/TheBeesKneesFeature.jpg
ORGANIZER;CN="The Bee%E2%80%99s Knees Curated Vintage & Antiques":MAILTO:ami@beeskneespinehurst.com
END:VEVENT
BEGIN:VEVENT
DTSTART;TZID=America/New_York:20261114T090000
DTEND;TZID=America/New_York:20261114T140000
DTSTAMP:20260422T072330
CREATED:20250301T205451Z
LAST-MODIFIED:20260406T172145Z
UID:10082092-1794646800-1794664800@thepinestimes.com
SUMMARY:Community Yard Sales 2026
DESCRIPTION:Come out to The Bee’s Knees Curated Vintage & Antiques for a Community Yard Sale! Community Yard Sales are held monthly on the second Saturday\, from 9:00AM-2:00PM. Shoppers are invited to support the community\, find unique items\, and bring their dogs to visit Waggy Butts for a treat. Additionally\, Sloppy Dogs food truck will be on-site. \nCommunity sales take place at 125 NC Highway 73 in West End\, NC\, on the corner of Highway 73 and 15/501. Vendors can reserve a 15’x15′ booth space for $30 on a first-come\, first-served basis by visiting the location Thursday through Sunday or calling 910-420-8970. \n \n  \n  \n 
URL:https://thepinestimes.com/event/community-yard-sales-2026/2026-11-14/
LOCATION:The Bee’s Knees Curated Vintage & Antiques\, 125 NC Highway 73\, West End\, NC\, 27376\, United States
CATEGORIES:Antiques,Family,Food,Hobby/Enthusiast,Markets,Pinehurst Events,Pop Ups,Shopping,Vendors,West End Events,Yard Sale
ATTACH;FMTTYPE=image/jpeg:https://thepinestimes.com/wp-content/uploads/TheBeesKneesFeature.jpg
ORGANIZER;CN="The Bee%E2%80%99s Knees Curated Vintage & Antiques":MAILTO:ami@beeskneespinehurst.com
END:VEVENT
BEGIN:VEVENT
DTSTART;TZID=America/New_York:20261212T090000
DTEND;TZID=America/New_York:20261212T140000
DTSTAMP:20260422T072330
CREATED:20250301T205451Z
LAST-MODIFIED:20260406T172145Z
UID:10082093-1797066000-1797084000@thepinestimes.com
SUMMARY:Community Yard Sales 2026
DESCRIPTION:Come out to The Bee’s Knees Curated Vintage & Antiques for a Community Yard Sale! Community Yard Sales are held monthly on the second Saturday\, from 9:00AM-2:00PM. Shoppers are invited to support the community\, find unique items\, and bring their dogs to visit Waggy Butts for a treat. Additionally\, Sloppy Dogs food truck will be on-site. \nCommunity sales take place at 125 NC Highway 73 in West End\, NC\, on the corner of Highway 73 and 15/501. Vendors can reserve a 15’x15′ booth space for $30 on a first-come\, first-served basis by visiting the location Thursday through Sunday or calling 910-420-8970. \n \n  \n  \n 
URL:https://thepinestimes.com/event/community-yard-sales-2026/2026-12-12/
LOCATION:The Bee’s Knees Curated Vintage & Antiques\, 125 NC Highway 73\, West End\, NC\, 27376\, United States
CATEGORIES:Antiques,Family,Food,Hobby/Enthusiast,Markets,Pinehurst Events,Pop Ups,Shopping,Vendors,West End Events,Yard Sale
ATTACH;FMTTYPE=image/jpeg:https://thepinestimes.com/wp-content/uploads/TheBeesKneesFeature.jpg
ORGANIZER;CN="The Bee%E2%80%99s Knees Curated Vintage & Antiques":MAILTO:ami@beeskneespinehurst.com
END:VEVENT
END:VCALENDAR