BEGIN:VCALENDAR
VERSION:2.0
PRODID:-//The Pines Times - ECPv6.15.20//NONSGML v1.0//EN
CALSCALE:GREGORIAN
METHOD:PUBLISH
X-WR-CALNAME:The Pines Times
X-ORIGINAL-URL:https://thepinestimes.com
X-WR-CALDESC:Events for The Pines Times
REFRESH-INTERVAL;VALUE=DURATION:PT1H
X-Robots-Tag:noindex
X-PUBLISHED-TTL:PT1H
BEGIN:VTIMEZONE
TZID:America/New_York
BEGIN:DAYLIGHT
TZOFFSETFROM:-0500
TZOFFSETTO:-0400
TZNAME:EDT
DTSTART:20250309T070000
END:DAYLIGHT
BEGIN:STANDARD
TZOFFSETFROM:-0400
TZOFFSETTO:-0500
TZNAME:EST
DTSTART:20251102T060000
END:STANDARD
BEGIN:DAYLIGHT
TZOFFSETFROM:-0500
TZOFFSETTO:-0400
TZNAME:EDT
DTSTART:20260308T070000
END:DAYLIGHT
BEGIN:STANDARD
TZOFFSETFROM:-0400
TZOFFSETTO:-0500
TZNAME:EST
DTSTART:20261101T060000
END:STANDARD
BEGIN:DAYLIGHT
TZOFFSETFROM:-0500
TZOFFSETTO:-0400
TZNAME:EDT
DTSTART:20270314T070000
END:DAYLIGHT
BEGIN:STANDARD
TZOFFSETFROM:-0400
TZOFFSETTO:-0500
TZNAME:EST
DTSTART:20271107T060000
END:STANDARD
END:VTIMEZONE
BEGIN:VEVENT
DTSTART;TZID=America/New_York:20261114T090000
DTEND;TZID=America/New_York:20261114T140000
DTSTAMP:20260423T124857
CREATED:20250301T205451Z
LAST-MODIFIED:20260406T172145Z
UID:10082092-1794646800-1794664800@thepinestimes.com
SUMMARY:Community Yard Sales 2026
DESCRIPTION:Come out to The Bee’s Knees Curated Vintage & Antiques for a Community Yard Sale! Community Yard Sales are held monthly on the second Saturday\, from 9:00AM-2:00PM. Shoppers are invited to support the community\, find unique items\, and bring their dogs to visit Waggy Butts for a treat. Additionally\, Sloppy Dogs food truck will be on-site. \nCommunity sales take place at 125 NC Highway 73 in West End\, NC\, on the corner of Highway 73 and 15/501. Vendors can reserve a 15’x15′ booth space for $30 on a first-come\, first-served basis by visiting the location Thursday through Sunday or calling 910-420-8970. \n \n  \n  \n 
URL:https://thepinestimes.com/event/community-yard-sales-2026/2026-11-14/
LOCATION:The Bee’s Knees Curated Vintage & Antiques\, 125 NC Highway 73\, West End\, NC\, 27376\, United States
CATEGORIES:Antiques,Family,Food,Hobby/Enthusiast,Markets,Pinehurst Events,Pop Ups,Shopping,Vendors,West End Events,Yard Sale
ATTACH;FMTTYPE=image/jpeg:https://thepinestimes.com/wp-content/uploads/TheBeesKneesFeature.jpg
ORGANIZER;CN="The Bee%E2%80%99s Knees Curated Vintage & Antiques":MAILTO:ami@beeskneespinehurst.com
END:VEVENT
BEGIN:VEVENT
DTSTART;TZID=America/New_York:20261212T090000
DTEND;TZID=America/New_York:20261212T140000
DTSTAMP:20260423T124857
CREATED:20250301T205451Z
LAST-MODIFIED:20260406T172145Z
UID:10082093-1797066000-1797084000@thepinestimes.com
SUMMARY:Community Yard Sales 2026
DESCRIPTION:Come out to The Bee’s Knees Curated Vintage & Antiques for a Community Yard Sale! Community Yard Sales are held monthly on the second Saturday\, from 9:00AM-2:00PM. Shoppers are invited to support the community\, find unique items\, and bring their dogs to visit Waggy Butts for a treat. Additionally\, Sloppy Dogs food truck will be on-site. \nCommunity sales take place at 125 NC Highway 73 in West End\, NC\, on the corner of Highway 73 and 15/501. Vendors can reserve a 15’x15′ booth space for $30 on a first-come\, first-served basis by visiting the location Thursday through Sunday or calling 910-420-8970. \n \n  \n  \n 
URL:https://thepinestimes.com/event/community-yard-sales-2026/2026-12-12/
LOCATION:The Bee’s Knees Curated Vintage & Antiques\, 125 NC Highway 73\, West End\, NC\, 27376\, United States
CATEGORIES:Antiques,Family,Food,Hobby/Enthusiast,Markets,Pinehurst Events,Pop Ups,Shopping,Vendors,West End Events,Yard Sale
ATTACH;FMTTYPE=image/jpeg:https://thepinestimes.com/wp-content/uploads/TheBeesKneesFeature.jpg
ORGANIZER;CN="The Bee%E2%80%99s Knees Curated Vintage & Antiques":MAILTO:ami@beeskneespinehurst.com
END:VEVENT
END:VCALENDAR