BEGIN:VCALENDAR
VERSION:2.0
PRODID:-//The Pines Times - ECPv6.15.20//NONSGML v1.0//EN
CALSCALE:GREGORIAN
METHOD:PUBLISH
X-ORIGINAL-URL:https://thepinestimes.com
X-WR-CALDESC:Events for The Pines Times
REFRESH-INTERVAL;VALUE=DURATION:PT1H
X-Robots-Tag:noindex
X-PUBLISHED-TTL:PT1H
BEGIN:VTIMEZONE
TZID:America/New_York
BEGIN:DAYLIGHT
TZOFFSETFROM:-0500
TZOFFSETTO:-0400
TZNAME:EDT
DTSTART:20250309T070000
END:DAYLIGHT
BEGIN:STANDARD
TZOFFSETFROM:-0400
TZOFFSETTO:-0500
TZNAME:EST
DTSTART:20251102T060000
END:STANDARD
BEGIN:DAYLIGHT
TZOFFSETFROM:-0500
TZOFFSETTO:-0400
TZNAME:EDT
DTSTART:20260308T070000
END:DAYLIGHT
BEGIN:STANDARD
TZOFFSETFROM:-0400
TZOFFSETTO:-0500
TZNAME:EST
DTSTART:20261101T060000
END:STANDARD
BEGIN:DAYLIGHT
TZOFFSETFROM:-0500
TZOFFSETTO:-0400
TZNAME:EDT
DTSTART:20270314T070000
END:DAYLIGHT
BEGIN:STANDARD
TZOFFSETFROM:-0400
TZOFFSETTO:-0500
TZNAME:EST
DTSTART:20271107T060000
END:STANDARD
END:VTIMEZONE
BEGIN:VEVENT
DTSTART;TZID=America/New_York:20260620T100000
DTEND;TZID=America/New_York:20260620T200000
DTSTAMP:20260423T033320
CREATED:20260224T152631Z
LAST-MODIFIED:20260224T152735Z
UID:10081577-1781949600-1781985600@thepinestimes.com
SUMMARY:Hand Clutch Tractor Association of Moore County: Tractor Show
DESCRIPTION:The Hand Clutch Tractor Association of Moore County is hosting a Tractor Show at the Carthage Fairgrounds on June 19th and 20th. Admission is $5.00\, and the weekend features a full schedule of live entertainment\, including bluegrass and gospel performances on Friday and Saturday\, along with karaoke by DJ Right on Friday evening. Community members are encouraged to bring their antique tractors\, trucks\, and cars for judging\, and children can participate in a pedal pull on Saturday starting with registration at 5:00pm. Raffle tickets are also available for $10.00 for a chance to win a 1942 Oliver. Those interested in becoming a vendor or seeking more information can contact Misty Akinson at 910-340-5455 or Jamie McKenzie at 910-528-2293.
URL:https://thepinestimes.com/event/hand-clutch-tractor-association-of-moore-county-tractor-show/2026-06-20/
LOCATION:Moore County Agricultural Fairgrounds\, 3699 US Hwy 15/501\, Carthage\, NC\, 28327\, United States
CATEGORIES:Adults,Carthage Events,Contest,Demonstrations,Exhibits,Fair/Festival,Family,Games,Hobby/Enthusiast,Live Entertainment,Music,Nature/Outdoors,Piney's Kids,Raffle,Social,Sports,Teen Activities,Vendors,Young Adults
ATTACH;FMTTYPE=image/jpeg:https://thepinestimes.com/wp-content/uploads/TractorShowFeature.jpg
ORGANIZER;CN="Hand Clutch Tractor Association":MAILTO:mistymda8@gmail.com
END:VEVENT
BEGIN:VEVENT
DTSTART;TZID=America/New_York:20260702T163000
DTEND;TZID=America/New_York:20260702T190000
DTSTAMP:20260423T033320
CREATED:20260228T213609Z
LAST-MODIFIED:20260410T143016Z
UID:10086696-1783009800-1783018800@thepinestimes.com
SUMMARY:The Cradle Knockout Series 2026
DESCRIPTION:Introducing The Cradle Knockout! A $10 cash game\, once a month on our short course \nRound 1: Hit the green\nRound 2: Land within 20 feet\nRound 3: Closest-to-the-pin \n50/50 with half going to charity and the winner of the night taking home the other half \nRegistration opens 4:30pm and must be paid in cash. Limited to the first 100 people to register.
URL:https://thepinestimes.com/event/the-cradle-knockout-series/2026-07-02/
LOCATION:The Cradle\, 1 Carolina Vis.\, Pinehurst\, NC\, 28374\, United States
CATEGORIES:Contest,Golf,Health & Wellness,Hobby/Enthusiast,Social,Sports
ATTACH;FMTTYPE=image/jpeg:https://thepinestimes.com/wp-content/uploads/TheCradleFeature.jpg
END:VEVENT
BEGIN:VEVENT
DTSTART;TZID=America/New_York:20260703T200000
DTEND;TZID=America/New_York:20260703T235900
DTSTAMP:20260423T033320
CREATED:20251219T183252Z
LAST-MODIFIED:20260122T182700Z
UID:10079944-1783108800-1783123140@thepinestimes.com
SUMMARY:First Friday Karaoke Championship
DESCRIPTION:Do you have what it takes to be a champion? Join at Hugger Mugger Brewing in Sanford every First Friday starting at 8:00pm to compete for the championship belt at December’s First Friday championship showdown.\n. Every month\, the audience will vote on a new monthly winner who will receive a coveted GOAT medal and advance to the finals. All monthly winners advance to compete on December 4th for a handsome karaoke prize belt that will make the winner the envy of their peers. This is a free event\, and only those over 21 years old are allowed to compete. \n \n 
URL:https://thepinestimes.com/event/first-friday-karaoke/2026-07-03/
LOCATION:Hugger Mugger Brewing\, 229 Wicker Street\, Sanford\, NC\, United States
CATEGORIES:Adult Connections,Adults,Contest,Holiday Events,Music,Sanford Events,Social,Young Adults
ATTACH;FMTTYPE=image/png:https://thepinestimes.com/wp-content/uploads/Karaoke-e1754409547503.png
END:VEVENT
BEGIN:VEVENT
DTSTART;TZID=America/New_York:20260724T180000
DTEND;TZID=America/New_York:20260724T200000
DTSTAMP:20260423T033320
CREATED:20260413T132523Z
LAST-MODIFIED:20260413T132523Z
UID:10086808-1784916000-1784923200@thepinestimes.com
SUMMARY:Jr. NBA Skills Challenge (Ages 7-14)
DESCRIPTION:The Parks and Recreation Departments of Aberdeen\, Pinehurst\, and Southern Pines are jointly hosting a Jr. NBA Skills Challenge on July 24th at 6:00PM. Held at the Cannon Park Community Center located at 210 Rattlesnake Trail\, this free competition is open to boys and girls ages 7-14. \nParticipants will compete in five fundamental basketball areas: shooting\, lay-ups\, dribbling\, passing\, and defense. Players will be divided into 8U\, 10U\, 12U\, and 14U age groups\, with medals awarded to winners in each skill category and trophies presented to overall age bracket winners. For those seeking more information on rules and scoring\, or with specific questions\, Judith Lawhon can be reached at jlawhon@vopnc.org. \n 
URL:https://thepinestimes.com/event/jr-nba-skills-challenge-ages-7-14/
LOCATION:Cannon Park Community Center\, 210 Rattlesnake Trail\, Pinehurst\, NC\, 28374
CATEGORIES:Basketball,Children,Contest,Games,Hobby/Enthusiast,Pinehurst Events,Piney's Kids,Social,Sports,Teen Activities
ORGANIZER;CN="Aberdeen Parks and Recreation":MAILTO:aprd@townofaberdeen.net
END:VEVENT
BEGIN:VEVENT
DTSTART;TZID=America/New_York:20260806T163000
DTEND;TZID=America/New_York:20260806T190000
DTSTAMP:20260423T033320
CREATED:20260228T213609Z
LAST-MODIFIED:20260410T143016Z
UID:10086697-1786033800-1786042800@thepinestimes.com
SUMMARY:The Cradle Knockout Series 2026
DESCRIPTION:Introducing The Cradle Knockout! A $10 cash game\, once a month on our short course \nRound 1: Hit the green\nRound 2: Land within 20 feet\nRound 3: Closest-to-the-pin \n50/50 with half going to charity and the winner of the night taking home the other half \nRegistration opens 4:30pm and must be paid in cash. Limited to the first 100 people to register.
URL:https://thepinestimes.com/event/the-cradle-knockout-series/2026-08-06/
LOCATION:The Cradle\, 1 Carolina Vis.\, Pinehurst\, NC\, 28374\, United States
CATEGORIES:Contest,Golf,Health & Wellness,Hobby/Enthusiast,Social,Sports
ATTACH;FMTTYPE=image/jpeg:https://thepinestimes.com/wp-content/uploads/TheCradleFeature.jpg
END:VEVENT
BEGIN:VEVENT
DTSTART;TZID=America/New_York:20260807T200000
DTEND;TZID=America/New_York:20260807T235900
DTSTAMP:20260423T033320
CREATED:20251219T183252Z
LAST-MODIFIED:20260122T182700Z
UID:10079945-1786132800-1786147140@thepinestimes.com
SUMMARY:First Friday Karaoke Championship
DESCRIPTION:Do you have what it takes to be a champion? Join at Hugger Mugger Brewing in Sanford every First Friday starting at 8:00pm to compete for the championship belt at December’s First Friday championship showdown.\n. Every month\, the audience will vote on a new monthly winner who will receive a coveted GOAT medal and advance to the finals. All monthly winners advance to compete on December 4th for a handsome karaoke prize belt that will make the winner the envy of their peers. This is a free event\, and only those over 21 years old are allowed to compete. \n \n 
URL:https://thepinestimes.com/event/first-friday-karaoke/2026-08-07/
LOCATION:Hugger Mugger Brewing\, 229 Wicker Street\, Sanford\, NC\, United States
CATEGORIES:Adult Connections,Adults,Contest,Holiday Events,Music,Sanford Events,Social,Young Adults
ATTACH;FMTTYPE=image/png:https://thepinestimes.com/wp-content/uploads/Karaoke-e1754409547503.png
END:VEVENT
BEGIN:VEVENT
DTSTART;TZID=America/New_York:20260903T163000
DTEND;TZID=America/New_York:20260903T190000
DTSTAMP:20260423T033320
CREATED:20260228T213609Z
LAST-MODIFIED:20260410T143016Z
UID:10086698-1788453000-1788462000@thepinestimes.com
SUMMARY:The Cradle Knockout Series 2026
DESCRIPTION:Introducing The Cradle Knockout! A $10 cash game\, once a month on our short course \nRound 1: Hit the green\nRound 2: Land within 20 feet\nRound 3: Closest-to-the-pin \n50/50 with half going to charity and the winner of the night taking home the other half \nRegistration opens 4:30pm and must be paid in cash. Limited to the first 100 people to register.
URL:https://thepinestimes.com/event/the-cradle-knockout-series/2026-09-03/
LOCATION:The Cradle\, 1 Carolina Vis.\, Pinehurst\, NC\, 28374\, United States
CATEGORIES:Contest,Golf,Health & Wellness,Hobby/Enthusiast,Social,Sports
ATTACH;FMTTYPE=image/jpeg:https://thepinestimes.com/wp-content/uploads/TheCradleFeature.jpg
END:VEVENT
BEGIN:VEVENT
DTSTART;TZID=America/New_York:20260904T200000
DTEND;TZID=America/New_York:20260904T235900
DTSTAMP:20260423T033320
CREATED:20251219T183252Z
LAST-MODIFIED:20260122T182700Z
UID:10079946-1788552000-1788566340@thepinestimes.com
SUMMARY:First Friday Karaoke Championship
DESCRIPTION:Do you have what it takes to be a champion? Join at Hugger Mugger Brewing in Sanford every First Friday starting at 8:00pm to compete for the championship belt at December’s First Friday championship showdown.\n. Every month\, the audience will vote on a new monthly winner who will receive a coveted GOAT medal and advance to the finals. All monthly winners advance to compete on December 4th for a handsome karaoke prize belt that will make the winner the envy of their peers. This is a free event\, and only those over 21 years old are allowed to compete. \n \n 
URL:https://thepinestimes.com/event/first-friday-karaoke/2026-09-04/
LOCATION:Hugger Mugger Brewing\, 229 Wicker Street\, Sanford\, NC\, United States
CATEGORIES:Adult Connections,Adults,Contest,Holiday Events,Music,Sanford Events,Social,Young Adults
ATTACH;FMTTYPE=image/png:https://thepinestimes.com/wp-content/uploads/Karaoke-e1754409547503.png
END:VEVENT
BEGIN:VEVENT
DTSTART;TZID=America/New_York:20261002T200000
DTEND;TZID=America/New_York:20261002T235900
DTSTAMP:20260423T033320
CREATED:20251219T183252Z
LAST-MODIFIED:20260122T182700Z
UID:10079947-1790971200-1790985540@thepinestimes.com
SUMMARY:First Friday Karaoke Championship
DESCRIPTION:Do you have what it takes to be a champion? Join at Hugger Mugger Brewing in Sanford every First Friday starting at 8:00pm to compete for the championship belt at December’s First Friday championship showdown.\n. Every month\, the audience will vote on a new monthly winner who will receive a coveted GOAT medal and advance to the finals. All monthly winners advance to compete on December 4th for a handsome karaoke prize belt that will make the winner the envy of their peers. This is a free event\, and only those over 21 years old are allowed to compete. \n \n 
URL:https://thepinestimes.com/event/first-friday-karaoke/2026-10-02/
LOCATION:Hugger Mugger Brewing\, 229 Wicker Street\, Sanford\, NC\, United States
CATEGORIES:Adult Connections,Adults,Contest,Holiday Events,Music,Sanford Events,Social,Young Adults
ATTACH;FMTTYPE=image/png:https://thepinestimes.com/wp-content/uploads/Karaoke-e1754409547503.png
END:VEVENT
BEGIN:VEVENT
DTSTART;TZID=America/New_York:20261008T163000
DTEND;TZID=America/New_York:20261008T190000
DTSTAMP:20260423T033320
CREATED:20260228T213609Z
LAST-MODIFIED:20260410T143016Z
UID:10086699-1791477000-1791486000@thepinestimes.com
SUMMARY:The Cradle Knockout Series 2026
DESCRIPTION:Introducing The Cradle Knockout! A $10 cash game\, once a month on our short course \nRound 1: Hit the green\nRound 2: Land within 20 feet\nRound 3: Closest-to-the-pin \n50/50 with half going to charity and the winner of the night taking home the other half \nRegistration opens 4:30pm and must be paid in cash. Limited to the first 100 people to register.
URL:https://thepinestimes.com/event/the-cradle-knockout-series/2026-10-08/
LOCATION:The Cradle\, 1 Carolina Vis.\, Pinehurst\, NC\, 28374\, United States
CATEGORIES:Contest,Golf,Health & Wellness,Hobby/Enthusiast,Social,Sports
ATTACH;FMTTYPE=image/jpeg:https://thepinestimes.com/wp-content/uploads/TheCradleFeature.jpg
END:VEVENT
BEGIN:VEVENT
DTSTART;TZID=America/New_York:20261104T163000
DTEND;TZID=America/New_York:20261104T190000
DTSTAMP:20260423T033320
CREATED:20260228T213609Z
LAST-MODIFIED:20260410T143016Z
UID:10086700-1793809800-1793818800@thepinestimes.com
SUMMARY:The Cradle Knockout Series 2026
DESCRIPTION:Introducing The Cradle Knockout! A $10 cash game\, once a month on our short course \nRound 1: Hit the green\nRound 2: Land within 20 feet\nRound 3: Closest-to-the-pin \n50/50 with half going to charity and the winner of the night taking home the other half \nRegistration opens 4:30pm and must be paid in cash. Limited to the first 100 people to register.
URL:https://thepinestimes.com/event/the-cradle-knockout-series/2026-11-04/
LOCATION:The Cradle\, 1 Carolina Vis.\, Pinehurst\, NC\, 28374\, United States
CATEGORIES:Contest,Golf,Health & Wellness,Hobby/Enthusiast,Social,Sports
ATTACH;FMTTYPE=image/jpeg:https://thepinestimes.com/wp-content/uploads/TheCradleFeature.jpg
END:VEVENT
BEGIN:VEVENT
DTSTART;TZID=America/New_York:20261106T200000
DTEND;TZID=America/New_York:20261106T235900
DTSTAMP:20260423T033320
CREATED:20251219T183252Z
LAST-MODIFIED:20260122T182700Z
UID:10079948-1793995200-1794009540@thepinestimes.com
SUMMARY:First Friday Karaoke Championship
DESCRIPTION:Do you have what it takes to be a champion? Join at Hugger Mugger Brewing in Sanford every First Friday starting at 8:00pm to compete for the championship belt at December’s First Friday championship showdown.\n. Every month\, the audience will vote on a new monthly winner who will receive a coveted GOAT medal and advance to the finals. All monthly winners advance to compete on December 4th for a handsome karaoke prize belt that will make the winner the envy of their peers. This is a free event\, and only those over 21 years old are allowed to compete. \n \n 
URL:https://thepinestimes.com/event/first-friday-karaoke/2026-11-06/
LOCATION:Hugger Mugger Brewing\, 229 Wicker Street\, Sanford\, NC\, United States
CATEGORIES:Adult Connections,Adults,Contest,Holiday Events,Music,Sanford Events,Social,Young Adults
ATTACH;FMTTYPE=image/png:https://thepinestimes.com/wp-content/uploads/Karaoke-e1754409547503.png
END:VEVENT
BEGIN:VEVENT
DTSTART;TZID=America/New_York:20261204T200000
DTEND;TZID=America/New_York:20261204T235900
DTSTAMP:20260423T033320
CREATED:20251219T183252Z
LAST-MODIFIED:20260122T182700Z
UID:10079949-1796414400-1796428740@thepinestimes.com
SUMMARY:First Friday Karaoke Championship
DESCRIPTION:Do you have what it takes to be a champion? Join at Hugger Mugger Brewing in Sanford every First Friday starting at 8:00pm to compete for the championship belt at December’s First Friday championship showdown.\n. Every month\, the audience will vote on a new monthly winner who will receive a coveted GOAT medal and advance to the finals. All monthly winners advance to compete on December 4th for a handsome karaoke prize belt that will make the winner the envy of their peers. This is a free event\, and only those over 21 years old are allowed to compete. \n \n 
URL:https://thepinestimes.com/event/first-friday-karaoke/2026-12-04/
LOCATION:Hugger Mugger Brewing\, 229 Wicker Street\, Sanford\, NC\, United States
CATEGORIES:Adult Connections,Adults,Contest,Holiday Events,Music,Sanford Events,Social,Young Adults
ATTACH;FMTTYPE=image/png:https://thepinestimes.com/wp-content/uploads/Karaoke-e1754409547503.png
END:VEVENT
END:VCALENDAR