BEGIN:VCALENDAR
VERSION:2.0
PRODID:-//The Pines Times - ECPv6.15.20//NONSGML v1.0//EN
CALSCALE:GREGORIAN
METHOD:PUBLISH
X-WR-CALNAME:The Pines Times
X-ORIGINAL-URL:https://thepinestimes.com
X-WR-CALDESC:Events for The Pines Times
REFRESH-INTERVAL;VALUE=DURATION:PT1H
X-Robots-Tag:noindex
X-PUBLISHED-TTL:PT1H
BEGIN:VTIMEZONE
TZID:America/New_York
BEGIN:DAYLIGHT
TZOFFSETFROM:-0500
TZOFFSETTO:-0400
TZNAME:EDT
DTSTART:20250309T070000
END:DAYLIGHT
BEGIN:STANDARD
TZOFFSETFROM:-0400
TZOFFSETTO:-0500
TZNAME:EST
DTSTART:20251102T060000
END:STANDARD
BEGIN:DAYLIGHT
TZOFFSETFROM:-0500
TZOFFSETTO:-0400
TZNAME:EDT
DTSTART:20260308T070000
END:DAYLIGHT
BEGIN:STANDARD
TZOFFSETFROM:-0400
TZOFFSETTO:-0500
TZNAME:EST
DTSTART:20261101T060000
END:STANDARD
BEGIN:DAYLIGHT
TZOFFSETFROM:-0500
TZOFFSETTO:-0400
TZNAME:EDT
DTSTART:20270314T070000
END:DAYLIGHT
BEGIN:STANDARD
TZOFFSETFROM:-0400
TZOFFSETTO:-0500
TZNAME:EST
DTSTART:20271107T060000
END:STANDARD
END:VTIMEZONE
BEGIN:VEVENT
DTSTART;TZID=America/New_York:20260504T173000
DTEND;TZID=America/New_York:20260504T190000
DTSTAMP:20260423T023337
CREATED:20260420T151113Z
LAST-MODIFIED:20260420T151517Z
UID:10086998-1777915800-1777921200@thepinestimes.com
SUMMARY:Thistle Talks: The Art of the Perfect PineScone
DESCRIPTION:Mark your calendar for Monday\, May 4th and join at Purple Thistle Kitchen & Co. for a cozy\, hands-on PineScone Demo! Learn how to make perfectly tender\, bakery-style scones using PineScone Café’s signature mixes—simple\, approachable\, and absolutely delicious. Whether you’re a seasoned baker or just getting started\, this is a fun way to build confidence in the kitchen. Each participant will head home with their own PineScone mix (in the flavor of your choice!) so you can recreate the magic in your own kitchen. This is a ticketed event and space is limited. The cost is $20. Register through the event website link provided below.
URL:https://thepinestimes.com/event/thistle-talks-the-art-of-the-perfect-pinescone/
LOCATION:Purple Thistle Kitchen & Co.\, 103 W. South Street\, Aberdeen\, NC\, 28315\, United States
CATEGORIES:Classes/Workshops,Cooking,Dance,Educational
ATTACH;FMTTYPE=image/jpeg:https://thepinestimes.com/wp-content/uploads/ThistleTalksFeature-1.jpg
ORGANIZER;CN="Purple Thistle Kitchen & Co.":MAILTO:info@purplethistleshop.com
END:VEVENT
END:VCALENDAR