BEGIN:VCALENDAR
VERSION:2.0
PRODID:-//The Pines Times - ECPv6.15.20//NONSGML v1.0//EN
CALSCALE:GREGORIAN
METHOD:PUBLISH
X-ORIGINAL-URL:https://thepinestimes.com
X-WR-CALDESC:Events for The Pines Times
REFRESH-INTERVAL;VALUE=DURATION:PT1H
X-Robots-Tag:noindex
X-PUBLISHED-TTL:PT1H
BEGIN:VTIMEZONE
TZID:America/New_York
BEGIN:DAYLIGHT
TZOFFSETFROM:-0500
TZOFFSETTO:-0400
TZNAME:EDT
DTSTART:20240310T070000
END:DAYLIGHT
BEGIN:STANDARD
TZOFFSETFROM:-0400
TZOFFSETTO:-0500
TZNAME:EST
DTSTART:20241103T060000
END:STANDARD
BEGIN:DAYLIGHT
TZOFFSETFROM:-0500
TZOFFSETTO:-0400
TZNAME:EDT
DTSTART:20250309T070000
END:DAYLIGHT
BEGIN:STANDARD
TZOFFSETFROM:-0400
TZOFFSETTO:-0500
TZNAME:EST
DTSTART:20251102T060000
END:STANDARD
BEGIN:DAYLIGHT
TZOFFSETFROM:-0500
TZOFFSETTO:-0400
TZNAME:EDT
DTSTART:20260308T070000
END:DAYLIGHT
BEGIN:STANDARD
TZOFFSETFROM:-0400
TZOFFSETTO:-0500
TZNAME:EST
DTSTART:20261101T060000
END:STANDARD
BEGIN:DAYLIGHT
TZOFFSETFROM:-0500
TZOFFSETTO:-0400
TZNAME:EDT
DTSTART:20270314T070000
END:DAYLIGHT
BEGIN:STANDARD
TZOFFSETFROM:-0400
TZOFFSETTO:-0500
TZNAME:EST
DTSTART:20271107T060000
END:STANDARD
END:VTIMEZONE
BEGIN:VEVENT
DTSTART;TZID=America/New_York:20260331T100000
DTEND;TZID=America/New_York:20260331T200000
DTSTAMP:20260425T161134
CREATED:20260108T152057Z
LAST-MODIFIED:20260421T171536Z
UID:10079148-1774951200-1774987200@thepinestimes.com
SUMMARY:Carolina Cinemas Sandhills 10: Treat Yourself Tuesday
DESCRIPTION:Treat Yourself Tuesday at Carolina Cinemas with a special deal on movie tickets! You can enjoy any standard film for just $8 all day long every Tuesday. Please keep in mind that this offer excludes 3D screenings\, special engagements\, and holidays. To purchase your movie tickets\, CLICK HERE.
URL:https://thepinestimes.com/event/carolina-cinemas-sandhills-10-treat-yourself-tuesday/2026-03-31/
LOCATION:Carolina Cinemas-Sandhills 10\, 104 Brucewood Drive\, Southern Pines\, NC\, 28387\, United States
CATEGORIES:Hobby/Enthusiast,Movie,Southern Pines Events,Teen Activities
ATTACH;FMTTYPE=image/jpeg:https://thepinestimes.com/wp-content/uploads/CarolinaCinemasFeature1.jpg
END:VEVENT
BEGIN:VEVENT
DTSTART;TZID=America/New_York:20260327T130000
DTEND;TZID=America/New_York:20260327T150000
DTSTAMP:20260425T161134
CREATED:20260305T153642Z
LAST-MODIFIED:20260305T153642Z
UID:10082346-1774616400-1774623600@thepinestimes.com
SUMMARY:Dementia-Friendly Cinema at Sunrise Theater: "Some Like It Hot"
DESCRIPTION:SanStone Health & Rehabilitation presents a series of Dementia-Friendly Cinema events at the Sunrise Theater\, designed specifically for guests with memory loss and their caregivers. These screenings feature softer lighting\, lower sound\, and a relaxed atmosphere to ensure a comfortable experience for all attendees. \nThe Dementia-Friendly Cinema series features the following screenings: \n“Some Like It Hot”- Friday\, March 27th at 1:00PM. “With no money and nowhere to hide\, two down on their luck jazz musicians (Tony Curtis and Jack Lemmon) masquerade as members of an all-girl band\, leading to a number of romantic complications when one falls for the band’s lead singer played by Marilyn Monroe in one of her most iconic performances.” To reserve your free ticket\, CLICK HERE. \n“Mary Poppins”-Friday\, April 24th at 1:00PM \n“The Odd Couple”-Friday\, May 22nd at 1:00PM \nGuests can enjoy free entry\, free popcorn\, and free valet parking at the theater where trained staff and volunteers will be on hand to assist. \n \n 
URL:https://thepinestimes.com/event/dementia-friendly-cinema-at-sunrise-theater-some-like-it-hot/
LOCATION:Sunrise Theater\, 250 NW Broad St\, Southern Pines\, NC\, 28387\, United States
CATEGORIES:Adults,Brain Change,Educational,Health & Wellness,Movie,Senior,Southern Pines Events
ATTACH;FMTTYPE=image/jpeg:https://thepinestimes.com/wp-content/uploads/DementiaCinemaSunriseFeature.jpg
END:VEVENT
BEGIN:VEVENT
DTSTART;TZID=America/New_York:20260324T100000
DTEND;TZID=America/New_York:20260324T200000
DTSTAMP:20260425T161134
CREATED:20260108T152057Z
LAST-MODIFIED:20260222T152838Z
UID:10079147-1774346400-1774382400@thepinestimes.com
SUMMARY:Carolina Cinemas Sandhills 10: Treat Yourself Tuesday
DESCRIPTION:Treat Yourself Tuesday at Carolina Cinemas with a special deal on movie tickets! You can enjoy any standard film for just $8 all day long every Tuesday. Please keep in mind that this offer excludes 3D screenings\, special engagements\, and holidays. To purchase your movie tickets\, CLICK HERE.
URL:https://thepinestimes.com/event/carolina-cinemas-sandhills-10-treat-yourself-tuesday/2026-03-24/
LOCATION:Carolina Cinemas-Sandhills 10\, 104 Brucewood Drive\, Southern Pines\, NC\, 28387\, United States
CATEGORIES:Hobby/Enthusiast,Movie,Southern Pines Events,Teen Activities
ATTACH;FMTTYPE=image/jpeg:https://thepinestimes.com/wp-content/uploads/CarolinaCinemasFeature1.jpg
END:VEVENT
BEGIN:VEVENT
DTSTART;TZID=America/New_York:20260317T100000
DTEND;TZID=America/New_York:20260317T200000
DTSTAMP:20260425T161134
CREATED:20260108T152057Z
LAST-MODIFIED:20260222T152838Z
UID:10079146-1773741600-1773777600@thepinestimes.com
SUMMARY:Carolina Cinemas Sandhills 10: Treat Yourself Tuesday
DESCRIPTION:Treat Yourself Tuesday at Carolina Cinemas with a special deal on movie tickets! You can enjoy any standard film for just $8 all day long every Tuesday. Please keep in mind that this offer excludes 3D screenings\, special engagements\, and holidays. To purchase your movie tickets\, CLICK HERE.
URL:https://thepinestimes.com/event/carolina-cinemas-sandhills-10-treat-yourself-tuesday/2026-03-17/
LOCATION:Carolina Cinemas-Sandhills 10\, 104 Brucewood Drive\, Southern Pines\, NC\, 28387\, United States
CATEGORIES:Hobby/Enthusiast,Movie,Southern Pines Events,Teen Activities
ATTACH;FMTTYPE=image/jpeg:https://thepinestimes.com/wp-content/uploads/CarolinaCinemasFeature1.jpg
END:VEVENT
BEGIN:VEVENT
DTSTART;TZID=America/New_York:20260310T100000
DTEND;TZID=America/New_York:20260310T200000
DTSTAMP:20260425T161134
CREATED:20260108T152057Z
LAST-MODIFIED:20260222T152838Z
UID:10079145-1773136800-1773172800@thepinestimes.com
SUMMARY:Carolina Cinemas Sandhills 10: Treat Yourself Tuesday
DESCRIPTION:Treat Yourself Tuesday at Carolina Cinemas with a special deal on movie tickets! You can enjoy any standard film for just $8 all day long every Tuesday. Please keep in mind that this offer excludes 3D screenings\, special engagements\, and holidays. To purchase your movie tickets\, CLICK HERE.
URL:https://thepinestimes.com/event/carolina-cinemas-sandhills-10-treat-yourself-tuesday/2026-03-10/
LOCATION:Carolina Cinemas-Sandhills 10\, 104 Brucewood Drive\, Southern Pines\, NC\, 28387\, United States
CATEGORIES:Hobby/Enthusiast,Movie,Southern Pines Events,Teen Activities
ATTACH;FMTTYPE=image/jpeg:https://thepinestimes.com/wp-content/uploads/CarolinaCinemasFeature1.jpg
END:VEVENT
BEGIN:VEVENT
DTSTART;TZID=America/New_York:20260304T150000
DTEND;TZID=America/New_York:20260304T150000
DTSTAMP:20260425T161134
CREATED:20260116T220748Z
LAST-MODIFIED:20260116T220901Z
UID:10079704-1772636400-1772636400@thepinestimes.com
SUMMARY:Village of Pinehurst: The American Constitution Documentary Screening
DESCRIPTION:Join the Village of Pinehurst for a public screening of The American Constitution\, a documentary exploring the origins and enduring impact of the U.S. Constitution. This free event will take place on Wednesday\, March 4th at 3:00pm in the Assembly Hall and is open to all members of the public. The screening is held in recognition of the day the First U.S. Congress convened under the newly ratified Constitution in 1789 — a pivotal moment in our nation’s democratic history. This event is part of Pinehurst’s America 250 commemoration and offers an opportunity to reflect on the principles that continue to shape our government and civic life.
URL:https://thepinestimes.com/event/village-of-pinehurst-the-american-constitution-documentary-screening/
LOCATION:Pinehurst Assembly Hall\, 295 Magnolia Road\, Pinehurst\, NC\, 28374\, United States
CATEGORIES:Adults,America 250,Educational,Movie,Pinehurst Events,Senior,Social,Young Adults
ATTACH;FMTTYPE=image/jpeg:https://thepinestimes.com/wp-content/uploads/VillageOfPinehurstFeature.jpg
END:VEVENT
BEGIN:VEVENT
DTSTART;TZID=America/New_York:20260303T100000
DTEND;TZID=America/New_York:20260303T200000
DTSTAMP:20260425T161134
CREATED:20260108T152057Z
LAST-MODIFIED:20260222T152838Z
UID:10079144-1772532000-1772568000@thepinestimes.com
SUMMARY:Carolina Cinemas Sandhills 10: Treat Yourself Tuesday
DESCRIPTION:Treat Yourself Tuesday at Carolina Cinemas with a special deal on movie tickets! You can enjoy any standard film for just $8 all day long every Tuesday. Please keep in mind that this offer excludes 3D screenings\, special engagements\, and holidays. To purchase your movie tickets\, CLICK HERE.
URL:https://thepinestimes.com/event/carolina-cinemas-sandhills-10-treat-yourself-tuesday/2026-03-03/
LOCATION:Carolina Cinemas-Sandhills 10\, 104 Brucewood Drive\, Southern Pines\, NC\, 28387\, United States
CATEGORIES:Hobby/Enthusiast,Movie,Southern Pines Events,Teen Activities
ATTACH;FMTTYPE=image/jpeg:https://thepinestimes.com/wp-content/uploads/CarolinaCinemasFeature1.jpg
END:VEVENT
BEGIN:VEVENT
DTSTART;TZID=America/New_York:20260224T100000
DTEND;TZID=America/New_York:20260224T200000
DTSTAMP:20260425T161134
CREATED:20260108T152057Z
LAST-MODIFIED:20260222T152838Z
UID:10079143-1771927200-1771963200@thepinestimes.com
SUMMARY:Carolina Cinemas Sandhills 10: Treat Yourself Tuesday
DESCRIPTION:Treat Yourself Tuesday at Carolina Cinemas with a special deal on movie tickets! You can enjoy any standard film for just $8 all day long every Tuesday. Please keep in mind that this offer excludes 3D screenings\, special engagements\, and holidays. To purchase your movie tickets\, CLICK HERE.
URL:https://thepinestimes.com/event/carolina-cinemas-sandhills-10-treat-yourself-tuesday/2026-02-24/
LOCATION:Carolina Cinemas-Sandhills 10\, 104 Brucewood Drive\, Southern Pines\, NC\, 28387\, United States
CATEGORIES:Hobby/Enthusiast,Movie,Southern Pines Events,Teen Activities
ATTACH;FMTTYPE=image/jpeg:https://thepinestimes.com/wp-content/uploads/CarolinaCinemasFeature1.jpg
END:VEVENT
BEGIN:VEVENT
DTSTART;TZID=America/New_York:20260217T100000
DTEND;TZID=America/New_York:20260217T200000
DTSTAMP:20260425T161134
CREATED:20260108T152057Z
LAST-MODIFIED:20260222T152838Z
UID:10079142-1771322400-1771358400@thepinestimes.com
SUMMARY:Carolina Cinemas Sandhills 10: Treat Yourself Tuesday
DESCRIPTION:Treat Yourself Tuesday at Carolina Cinemas with a special deal on movie tickets! You can enjoy any standard film for just $8 all day long every Tuesday. Please keep in mind that this offer excludes 3D screenings\, special engagements\, and holidays. To purchase your movie tickets\, CLICK HERE.
URL:https://thepinestimes.com/event/carolina-cinemas-sandhills-10-treat-yourself-tuesday/2026-02-17/
LOCATION:Carolina Cinemas-Sandhills 10\, 104 Brucewood Drive\, Southern Pines\, NC\, 28387\, United States
CATEGORIES:Hobby/Enthusiast,Movie,Southern Pines Events,Teen Activities
ATTACH;FMTTYPE=image/jpeg:https://thepinestimes.com/wp-content/uploads/CarolinaCinemasFeature1.jpg
END:VEVENT
BEGIN:VEVENT
DTSTART;TZID=America/New_York:20260210T100000
DTEND;TZID=America/New_York:20260210T200000
DTSTAMP:20260425T161134
CREATED:20260108T152057Z
LAST-MODIFIED:20260222T152838Z
UID:10079141-1770717600-1770753600@thepinestimes.com
SUMMARY:Carolina Cinemas Sandhills 10: Treat Yourself Tuesday
DESCRIPTION:Treat Yourself Tuesday at Carolina Cinemas with a special deal on movie tickets! You can enjoy any standard film for just $8 all day long every Tuesday. Please keep in mind that this offer excludes 3D screenings\, special engagements\, and holidays. To purchase your movie tickets\, CLICK HERE.
URL:https://thepinestimes.com/event/carolina-cinemas-sandhills-10-treat-yourself-tuesday/2026-02-10/
LOCATION:Carolina Cinemas-Sandhills 10\, 104 Brucewood Drive\, Southern Pines\, NC\, 28387\, United States
CATEGORIES:Hobby/Enthusiast,Movie,Southern Pines Events,Teen Activities
ATTACH;FMTTYPE=image/jpeg:https://thepinestimes.com/wp-content/uploads/CarolinaCinemasFeature1.jpg
END:VEVENT
BEGIN:VEVENT
DTSTART;TZID=America/New_York:20260203T100000
DTEND;TZID=America/New_York:20260203T200000
DTSTAMP:20260425T161134
CREATED:20260108T152057Z
LAST-MODIFIED:20260222T152838Z
UID:10079140-1770112800-1770148800@thepinestimes.com
SUMMARY:Carolina Cinemas Sandhills 10: Treat Yourself Tuesday
DESCRIPTION:Treat Yourself Tuesday at Carolina Cinemas with a special deal on movie tickets! You can enjoy any standard film for just $8 all day long every Tuesday. Please keep in mind that this offer excludes 3D screenings\, special engagements\, and holidays. To purchase your movie tickets\, CLICK HERE.
URL:https://thepinestimes.com/event/carolina-cinemas-sandhills-10-treat-yourself-tuesday/2026-02-03/
LOCATION:Carolina Cinemas-Sandhills 10\, 104 Brucewood Drive\, Southern Pines\, NC\, 28387\, United States
CATEGORIES:Hobby/Enthusiast,Movie,Southern Pines Events,Teen Activities
ATTACH;FMTTYPE=image/jpeg:https://thepinestimes.com/wp-content/uploads/CarolinaCinemasFeature1.jpg
END:VEVENT
BEGIN:VEVENT
DTSTART;TZID=America/New_York:20260127T100000
DTEND;TZID=America/New_York:20260127T200000
DTSTAMP:20260425T161134
CREATED:20260108T152057Z
LAST-MODIFIED:20260222T152838Z
UID:10079139-1769508000-1769544000@thepinestimes.com
SUMMARY:Carolina Cinemas Sandhills 10: Treat Yourself Tuesday
DESCRIPTION:Treat Yourself Tuesday at Carolina Cinemas with a special deal on movie tickets! You can enjoy any standard film for just $8 all day long every Tuesday. Please keep in mind that this offer excludes 3D screenings\, special engagements\, and holidays. To purchase your movie tickets\, CLICK HERE.
URL:https://thepinestimes.com/event/carolina-cinemas-sandhills-10-treat-yourself-tuesday/2026-01-27/
LOCATION:Carolina Cinemas-Sandhills 10\, 104 Brucewood Drive\, Southern Pines\, NC\, 28387\, United States
CATEGORIES:Hobby/Enthusiast,Movie,Southern Pines Events,Teen Activities
ATTACH;FMTTYPE=image/jpeg:https://thepinestimes.com/wp-content/uploads/CarolinaCinemasFeature1.jpg
END:VEVENT
BEGIN:VEVENT
DTSTART;TZID=America/New_York:20260120T100000
DTEND;TZID=America/New_York:20260120T200000
DTSTAMP:20260425T161134
CREATED:20260108T152057Z
LAST-MODIFIED:20260421T171536Z
UID:10079138-1768903200-1768939200@thepinestimes.com
SUMMARY:Carolina Cinemas Sandhills 10: Treat Yourself Tuesday
DESCRIPTION:Treat Yourself Tuesday at Carolina Cinemas with a special deal on movie tickets! You can enjoy any standard film for just $8 all day long every Tuesday. Please keep in mind that this offer excludes 3D screenings\, special engagements\, and holidays. To purchase your movie tickets\, CLICK HERE.
URL:https://thepinestimes.com/event/carolina-cinemas-sandhills-10-treat-yourself-tuesday/2026-01-20/
LOCATION:Carolina Cinemas-Sandhills 10\, 104 Brucewood Drive\, Southern Pines\, NC\, 28387\, United States
CATEGORIES:Hobby/Enthusiast,Movie,Southern Pines Events,Teen Activities
ATTACH;FMTTYPE=image/jpeg:https://thepinestimes.com/wp-content/uploads/CarolinaCinemasFeature1.jpg
END:VEVENT
BEGIN:VEVENT
DTSTART;TZID=America/New_York:20260113T100000
DTEND;TZID=America/New_York:20260113T200000
DTSTAMP:20260425T161134
CREATED:20260108T152057Z
LAST-MODIFIED:20260222T152838Z
UID:10079137-1768298400-1768334400@thepinestimes.com
SUMMARY:Carolina Cinemas Sandhills 10: Treat Yourself Tuesday
DESCRIPTION:Treat Yourself Tuesday at Carolina Cinemas with a special deal on movie tickets! You can enjoy any standard film for just $8 all day long every Tuesday. Please keep in mind that this offer excludes 3D screenings\, special engagements\, and holidays. To purchase your movie tickets\, CLICK HERE.
URL:https://thepinestimes.com/event/carolina-cinemas-sandhills-10-treat-yourself-tuesday/2026-01-13/
LOCATION:Carolina Cinemas-Sandhills 10\, 104 Brucewood Drive\, Southern Pines\, NC\, 28387\, United States
CATEGORIES:Hobby/Enthusiast,Movie,Southern Pines Events,Teen Activities
ATTACH;FMTTYPE=image/jpeg:https://thepinestimes.com/wp-content/uploads/CarolinaCinemasFeature1.jpg
END:VEVENT
BEGIN:VEVENT
DTSTART;TZID=America/New_York:20251212T180000
DTEND;TZID=America/New_York:20251212T200000
DTSTAMP:20260425T161134
CREATED:20251021T173952Z
LAST-MODIFIED:20251122T155827Z
UID:10073145-1765562400-1765569600@thepinestimes.com
SUMMARY:Aberdeen Supper with Santa 2025
DESCRIPTION:Join the Aberdeen Parks and Recreation Department for Supper with Santa on Friday\, December 12th from 6pm-8pm at the Aberdeen Recreation Center! Enjoy a festive evening featuring a catered dinner\, holiday crafts\, and a holiday movie—plus time to hang out with Santa! \nAdmission: $5 Children | $10 Resident Adults | $15 Non-Resident Adults\nPre-registration is required by December 5th or until full. To purchase tickets\, follow the event website link provided below.
URL:https://thepinestimes.com/event/aberdeen-supper-with-santa-2025/
LOCATION:Aberdeen Recreation Center\, 301 Lake Park Crossing\, Aberdeen\, NC\, 28315\, United States
CATEGORIES:Aberdeen Events,Children,Christmas,Crafts,Family,Finding Santa,Finding Santa,Food,Holiday Events,Movie,Piney's Kids,Piney's Tiny's,Santa,Senior,Social
ATTACH;FMTTYPE=image/jpeg:https://thepinestimes.com/wp-content/uploads/AberdeenParksAndRecFeature.jpg
ORGANIZER;CN="Aberdeen Parks and Recreation":MAILTO:aprd@townofaberdeen.net
END:VEVENT
BEGIN:VEVENT
DTSTART;TZID=America/New_York:20251206T130000
DTEND;TZID=America/New_York:20251206T170000
DTSTAMP:20260425T161134
CREATED:20241129T142046Z
LAST-MODIFIED:20251126T204919Z
UID:10048785-1765026000-1765040400@thepinestimes.com
SUMMARY:Village of Whispering Pines: Santa Parade & Visit 2025
DESCRIPTION:Santa Claus is coming to the Village! Watch for Santa and his parade traveling through the Village on Saturday\, December 6th between 1:00pm-5:00pm. Santa will arrive at the Village at 5:00pm. Watch the ever funny and entertaining Happy Dan the Magic Man and walk through the Christmas Tree display while you wait to visit with Santa at the Whispering Pines Village Activity Field! Note that there are no pets allowed at a Village sponsored event.
URL:https://thepinestimes.com/event/village-of-whispering-pines-santa-parade/
LOCATION:Whispering Pines Village Activity Field\, 10 Hardee Lane\, Whispering Pines\, NC\, United States
CATEGORIES:Adults,Children,Christmas,Family,Finding Santa,Finding Santa,Holiday Events,Live Entertainment,Movie,Parade,Santa,Social,Whispering Pines Events
ATTACH;FMTTYPE=image/jpeg:https://thepinestimes.com/wp-content/uploads/WhisperingPinesFeature.jpg
END:VEVENT
BEGIN:VEVENT
DTSTART;TZID=America/New_York:20251201T181500
DTEND;TZID=America/New_York:20251201T210000
DTSTAMP:20260425T161134
CREATED:20251123T141404Z
LAST-MODIFIED:20251123T141419Z
UID:10075520-1764612900-1764622800@thepinestimes.com
SUMMARY:All Aboard the Hamlet Depot & Museums Polar Express 2025
DESCRIPTION:Enjoy the All Aboard the Hamlet Depot and Museums Polar Express Movie Experience immediately following the 39th Annual Christmas Tree Lighting in Main Street Park on the evening of Monday\, December 1st. This free magical movie experience will take place in the Hamlet Historic Depot. Outside the Depot\, hot cocoa and cookies will be provided complimentary of Hamlet Fire Rescue and EMS\, and there will be a snow making machine. Official Polar Express Movie Tickets will be given out and punched by Conductor Sam to watch the movie in the Depot Passenger Waiting Area. \nSanta and Mrs. Claus will be visiting directly from the North Pole to listen to children’s Christmas lists in the Depot’s beautifully decorated back gallery room. Children may also bring or write Letters to Santa to mail in the special Santa Certified Christmas Mail Box. Blank letters are available at the Hamlet Visitors Center and during the event.
URL:https://thepinestimes.com/event/all-aboard-the-hamlet-depot-museums-polar-express/
LOCATION:Hamlet Depot & Museums\, 2 West Main Street\, Hamlet\, NC\, 28345\, United States
CATEGORIES:Children,Christmas,Family,Finding Santa,Finding Santa,Hamlet,Holiday Events,Live Entertainment,Movie,Nature/Outdoors,Out of Town,Piney's Kids,Piney's Tiny's,Santa,Social,Teen Activities,Young Adults
ATTACH;FMTTYPE=image/jpeg:https://thepinestimes.com/wp-content/uploads/HamletPolarExpressFeature.jpg
END:VEVENT
BEGIN:VEVENT
DTSTART;TZID=America/New_York:20251127T190000
DTEND;TZID=America/New_York:20251127T210000
DTSTAMP:20260425T161134
CREATED:20241022T142939Z
LAST-MODIFIED:20251108T153142Z
UID:10046721-1764270000-1764277200@thepinestimes.com
SUMMARY:Sunrise Theater: "The Last Waltz" Free Thanksgiving Movie Screening 2025
DESCRIPTION:Join the Sunrise Theater in their Thanksgiving tradition of showing The Last Waltz! Sponsored by Howell’s Masonry! \n“Seventeen years after joining forces as the backing band for rockabilly cult hero Ronnie Hawkins\, Canadian roots rockers The Band call it quits with a lavish farewell show at San Francisco’s Winterland Ballroom on Nov. 25\, 1976. Filmed by Martin Scorsese\, this documentary features standout performances by rock legends such as Bob Dylan\, Van Morrison\, Eric Clapton\, Joni Mitchell and Muddy Waters\, as well as interviews tracing the group’s history and discussing road life.” \nThis is a free movie screening on Thursday\, November 27th at 7:00pm. For additional information\, CLICK HERE.
URL:https://thepinestimes.com/event/sunrise-theater-the-last-waltz-free-movie-screening/
LOCATION:Sunrise Theater\, 250 NW Broad St\, Southern Pines\, NC\, 28387\, United States
CATEGORIES:Adults,Concert,Family,Hobby/Enthusiast,Holiday Events,HOMEPAGE Featured,Live Entertainment,Movie,Music,Senior,Social,Southern Pines Events,Thanksgiving
ATTACH;FMTTYPE=image/jpeg:https://thepinestimes.com/wp-content/uploads/SunriseTheaterFeature-1.jpg
END:VEVENT
BEGIN:VEVENT
DTSTART;TZID=America/New_York:20251024T180000
DTEND;TZID=America/New_York:20251024T210000
DTSTAMP:20260425T161134
CREATED:20251015T173135Z
LAST-MODIFIED:20251015T173252Z
UID:10072720-1761328800-1761339600@thepinestimes.com
SUMMARY:Aberdeen Frights and Pints: "Smile" Movie Screening
DESCRIPTION:Come out as Aberdeen Parks and Recreation Department presents Frights and Pints on Friday\, October 24th! Join outside for a free screening of Smile (Rated R) with yard games and brews. Good for a date night out or a night away from the kiddos. Don’t forget your lawn chairs or blankets! Rain dates will be the same time\, the following day. The movie begins at 7:00pm with the yard games\, beer\, and concessions out at 6:00pm. \n 
URL:https://thepinestimes.com/event/aberdeen-frights-and-pints-smile-movie-screening/
LOCATION:Aberdeen Lake Park\, 301 Lake Park Crossing\, Aberdeen\, NC\, 28315\, United States
CATEGORIES:Aberdeen Events,Adult Connections,Adults,Beer and Wine,Halloween,Hobby/Enthusiast,Live Entertainment,Movie,Nature/Outdoors,Night Life,Pines Connector,Social,Young Adults
ATTACH;FMTTYPE=image/jpeg:https://thepinestimes.com/wp-content/uploads/AberdeenParksAndRecFeature.jpg
ORGANIZER;CN="Aberdeen Parks and Recreation":MAILTO:aprd@townofaberdeen.net
END:VEVENT
BEGIN:VEVENT
DTSTART;TZID=America/New_York:20251017T160000
DTEND;TZID=America/New_York:20251017T210000
DTSTAMP:20260425T161134
CREATED:20240904T143208Z
LAST-MODIFIED:20251011T160741Z
UID:10043087-1760716800-1760734800@thepinestimes.com
SUMMARY:Downtown Candy Crawl & Movie by the Lake
DESCRIPTION:Downtown Aberdeen and the Aberdeen Parks & Recreation Department present the Downtown Candy Crawl & Movie by the Lake on Friday\, October 17th! Enjoy the Downtown Trick or Treating event followed by a screening of “Beetlejuice Beetlejuice” at Aberdeen Lake Park. Explore participating downtown businesses for delicious treats and special surprises from 4pm-6pm. The Movie by the Lake will begin at 7pm.
URL:https://thepinestimes.com/event/downtown-candy-crawl-movie-by-the-lake/
LOCATION:Downtown Aberdeen\, Main Street\, Aberdeen\, NC\, 28315\, United States
CATEGORIES:Aberdeen Events,Children,Fall,Fall in the Sandhills,Family,Food,Games,Halloween,Holiday Events,Movie,Piney's Kids,Piney's Tiny's,Social
END:VEVENT
BEGIN:VEVENT
DTSTART;TZID=America/New_York:20251010T203000
DTEND;TZID=America/New_York:20251010T203000
DTSTAMP:20260425T161134
CREATED:20250427T193032Z
LAST-MODIFIED:20250427T193032Z
UID:10057061-1760128200-1760128200@thepinestimes.com
SUMMARY:Hamlet Movie Series: Coco
DESCRIPTION:Join for a fantastic lineup of free movies at Main Street Park. The Hamlet Movie Series begins on June 20th with Luca\, continues on August 8th with Elemental and wraps up on October 10th with Coco. Seating opens at 8:00pm\, and movies will begin at 8:30pm. Concessions will be available\, but feel free to bring your own snacks. Just remember—no alcohol or coolers are allowed. Don’t forget your blankets and chairs.
URL:https://thepinestimes.com/event/hamlet-movie-series-coco/
LOCATION:Main Street Park Hamlet\, 224 Main St.\, Hamlet\, 28345\, United States
CATEGORIES:Adults,Family,Hamlet,Hobby/Enthusiast,Live Entertainment,Movie,Nature/Outdoors
END:VEVENT
BEGIN:VEVENT
DTSTART;TZID=America/New_York:20250801T100000
DTEND;TZID=America/New_York:20250801T170000
DTSTAMP:20260425T161134
CREATED:20250725T172558Z
LAST-MODIFIED:20250725T201048Z
UID:10063735-1754042400-1754067600@thepinestimes.com
SUMMARY:Summerween at the Southern Pines Public Library
DESCRIPTION:Does the summer heat have you down? Are you longing for cooler weather? Join for Summerween at the Southern Pines Public Library on Friday\, August 1st | 10am-5pm! This all-day family event features children’s films and shows pulled from the Library’s streaming service Kanopy. Get into the spirit and wear your costumes. Spooky activities will be available\, as will ideas for fun Summerween activities to try at home!
URL:https://thepinestimes.com/event/summerween-at-the-library/
LOCATION:Southern Pines Public Library\, 170 W. Connecticut Ave.\, Southern Pines\, NC\, 28387\, United States
CATEGORIES:Children,Family,Live Entertainment,Movie,Social,Southern Pines Events
ATTACH;FMTTYPE=image/jpeg:https://thepinestimes.com/wp-content/uploads/SouthernPinesPublicLibraryFeature.jpg
END:VEVENT
BEGIN:VEVENT
DTSTART;TZID=America/New_York:20250621T170000
DTEND;TZID=America/New_York:20250621T210000
DTSTAMP:20260425T161134
CREATED:20250425T163027Z
LAST-MODIFIED:20250608T205349Z
UID:10057026-1750525200-1750539600@thepinestimes.com
SUMMARY:Go Skateboarding Day
DESCRIPTION:Celebrate National Go Skateboarding Day on Saturday\, June 21st | 5pm-9pm at the Town of Southern Pines Elaine T. Baillie Skatepark! Enjoy a fun evening with fun skateboarding stuff\, a live DJ\, contests\, giveaways and a Hot Dog Cookout sponsored by N2Flow Skateboards & Arcade. Hotdogs available while supplies last. It will be a true celebration of skateboarding and all the positivity that comes with it! Volunteers are needed. Contact William Dean II or N2Flow Skateboards & Arcade at 910-684-8066 for additional information and volunteer opportunities.
URL:https://thepinestimes.com/event/go-skateboarding-day/
LOCATION:Town of Southern Pines Elaine T. Baillie Skatepark\, Memorial Park Ct.\, Southern Pines\, 28387\, United States
CATEGORIES:Adults,Children,Family,Food,Games,Hobby/Enthusiast,Live Entertainment,Movie,Nature/Outdoors,Skateboarding,Social,Southern Pines Events,Sports
ATTACH;FMTTYPE=image/jpeg:https://thepinestimes.com/wp-content/uploads/ElaineTBaillieSkateparkFeature.jpg
END:VEVENT
BEGIN:VEVENT
DTSTART;TZID=America/New_York:20250525T080000
DTEND;TZID=America/New_York:20250525T120000
DTSTAMP:20260425T161134
CREATED:20230522T144457Z
LAST-MODIFIED:20250524T001340Z
UID:10012451-1748160000-1748174400@thepinestimes.com
SUMMARY:Memorial Day Video Presentation
DESCRIPTION:The Village Chapel Pinehurst presents the annual Memorial Day Tribute. This special tribute honors our soldiers who have passed. There will be a special video presentation at all services on Sunday\, May 25th.
URL:https://thepinestimes.com/event/memorial-day-service/
LOCATION:The Village Chapel Pinehurst\, 10 Azalea Road\, Pinehurst\, NC\, 28374\, United States
CATEGORIES:Adults,Family,Historical,Live Entertainment,Memorial Day,Movie,Pinehurst Events,Religious/Spiritual,Senior,Social,Veterans
ATTACH;FMTTYPE=image/jpeg:https://thepinestimes.com/wp-content/uploads/VillageChapelFeature.jpg
END:VEVENT
END:VCALENDAR