BEGIN:VCALENDAR
VERSION:2.0
PRODID:-//The Pines Times - ECPv6.15.20//NONSGML v1.0//EN
CALSCALE:GREGORIAN
METHOD:PUBLISH
X-WR-CALNAME:The Pines Times
X-ORIGINAL-URL:https://thepinestimes.com
X-WR-CALDESC:Events for The Pines Times
REFRESH-INTERVAL;VALUE=DURATION:PT1H
X-Robots-Tag:noindex
X-PUBLISHED-TTL:PT1H
BEGIN:VTIMEZONE
TZID:America/New_York
BEGIN:DAYLIGHT
TZOFFSETFROM:-0500
TZOFFSETTO:-0400
TZNAME:EDT
DTSTART:20240310T070000
END:DAYLIGHT
BEGIN:STANDARD
TZOFFSETFROM:-0400
TZOFFSETTO:-0500
TZNAME:EST
DTSTART:20241103T060000
END:STANDARD
BEGIN:DAYLIGHT
TZOFFSETFROM:-0500
TZOFFSETTO:-0400
TZNAME:EDT
DTSTART:20250309T070000
END:DAYLIGHT
BEGIN:STANDARD
TZOFFSETFROM:-0400
TZOFFSETTO:-0500
TZNAME:EST
DTSTART:20251102T060000
END:STANDARD
BEGIN:DAYLIGHT
TZOFFSETFROM:-0500
TZOFFSETTO:-0400
TZNAME:EDT
DTSTART:20260308T070000
END:DAYLIGHT
BEGIN:STANDARD
TZOFFSETFROM:-0400
TZOFFSETTO:-0500
TZNAME:EST
DTSTART:20261101T060000
END:STANDARD
BEGIN:DAYLIGHT
TZOFFSETFROM:-0500
TZOFFSETTO:-0400
TZNAME:EDT
DTSTART:20270314T070000
END:DAYLIGHT
BEGIN:STANDARD
TZOFFSETFROM:-0400
TZOFFSETTO:-0500
TZNAME:EST
DTSTART:20271107T060000
END:STANDARD
END:VTIMEZONE
BEGIN:VEVENT
DTSTART;TZID=America/New_York:20260307T130000
DTEND;TZID=America/New_York:20260307T150000
DTSTAMP:20260423T021400
CREATED:20260306T175519Z
LAST-MODIFIED:20260306T175519Z
UID:10082545-1772888400-1772895600@thepinestimes.com
SUMMARY:“Fill The Trailer” Pet Food Drive
DESCRIPTION:Support your community and their furry companions by joining the Moore Animal Alliance and Moore County Pet Responsiblity Committee for the “Fill The Trailer” Pet Food Drive at the Rec Room Bar & Arcade in Southern Pines on Saturday\, March 14th\, from 1:00PM-4:00PM. Provide a “helping paw” to local families struggling to feed their pets. \nAttendees are encouraged to donate essential items such as dry or wet food for dogs\, cats\, puppies\, and kittens\, as well as treats\, litter\, and other pet supplies. Every contribution goes directly to ensuring no neighbor has to choose between their own meals and feeding their beloved animals. Come together and help make sure every bowl in our community stays full!
URL:https://thepinestimes.com/event/fill-the-trailer-pet-food-drive/
LOCATION:Rec Room Bar + Arcade\, 750 SW Broad St\, Southern Pines\, NC\, 28387\, United States
CATEGORIES:Donation,Food Drive,Pets/Animals,Social,Southern Pines Events
ATTACH;FMTTYPE=image/jpeg:https://thepinestimes.com/wp-content/uploads/PetFoodDriveFeature-1.jpg
END:VEVENT
BEGIN:VEVENT
DTSTART;TZID=America/New_York:20251221T120000
DTEND;TZID=America/New_York:20251221T160000
DTSTAMP:20260423T021400
CREATED:20231102T171513Z
LAST-MODIFIED:20251214T154641Z
UID:10022144-1766318400-1766332800@thepinestimes.com
SUMMARY:Mark Westbrook Memorial Foundation: Toy & Food Drive 2025
DESCRIPTION:The community is invited for the 35th Annual Mark (“Brook”) Westbrook Memorial Foundation Toy & Food Drive! This is an Eat In/Drive Thru event that is held at 715 Bar & Grill in Southern Pines on Sunday\, December 21st from 12:00pm-4:00pm. Enjoy delicious food with proceeds to benefit the Toys for Tots of Moore County. The donation is $20 per plate\, an unwrapped children’s toy (per person)\, or five cans or boxes of non-perishable food (per person). Plates consist of chopped BBQ/BBQ or chicken\, cole slaw\, baked beans\, rolls\, tea or soda and a dessert. Kids plates are available as well. A special visit from Santa will take place 12:00pm-3:00pm\, so please be sure to brings the children out. \n \n 
URL:https://thepinestimes.com/event/mark-westbrook-memorial-foundation-toy-food-drive-2025/
LOCATION:715 Bar & Grill\, 715 SW Broad St\, Southern Pines\, NC\, 28387\, United States
CATEGORIES:Adults,Children,Christmas,Donation,Family,Finding Santa,Food,Food Drive,Fundraiser,Holiday Events,Santa,Senior,Social,Southern Pines Events,Young Adults
ORGANIZER;CN="Moore County Toys for Tots":MAILTO:aberdeen.nc@toysfortots.org
END:VEVENT
BEGIN:VEVENT
DTSTART;TZID=America/New_York:20251130T120000
DTEND;TZID=America/New_York:20251130T120000
DTSTAMP:20260423T021400
CREATED:20251117T182306Z
LAST-MODIFIED:20251117T184408Z
UID:10075399-1764504000-1764504000@thepinestimes.com
SUMMARY:Food for Oil Benefit
DESCRIPTION:Participate in Thomas Tire & Automotive-Aberdeen’s 14th annual “Food for Oil” benefit! Thanks to your support\, over the years\, more than 200\,000 food items have been donated to local pantries. This month\, join once again in giving back to the community! Throughout November\, receive a FREE PREMIUM OIL CHANGE valued at $39.99 when you donate 25 non-perishable food items at any Thomas Tire & Automotive. Don’t need an oil change right now? No problem—you’ll receive a gift card of equal value for future use! Start gathering your donations and stop by your local Thomas Tire & Automotive this week. Together\, we can help drive out hunger!
URL:https://thepinestimes.com/event/food-for-oil-benefit/2025-11-30/
LOCATION:Thomas Tire & Automotive\, 1580 N Sandhills Blvd\, Aberdeen\, 28315\, United States
CATEGORIES:Aberdeen Events,Adults,Christmas,Donation,Food,Food Drive,Hobby/Enthusiast,Holiday Events,Moore County Events,Senior,Volunteer,Young Adults
ORGANIZER;CN="Thomas Tire & Automotive":MAILTO:aberdeen@thomastire.com
END:VEVENT
BEGIN:VEVENT
DTSTART;TZID=America/New_York:20251129T120000
DTEND;TZID=America/New_York:20251129T120000
DTSTAMP:20260423T021400
CREATED:20251117T182306Z
LAST-MODIFIED:20251117T184408Z
UID:10075398-1764417600-1764417600@thepinestimes.com
SUMMARY:Food for Oil Benefit
DESCRIPTION:Participate in Thomas Tire & Automotive-Aberdeen’s 14th annual “Food for Oil” benefit! Thanks to your support\, over the years\, more than 200\,000 food items have been donated to local pantries. This month\, join once again in giving back to the community! Throughout November\, receive a FREE PREMIUM OIL CHANGE valued at $39.99 when you donate 25 non-perishable food items at any Thomas Tire & Automotive. Don’t need an oil change right now? No problem—you’ll receive a gift card of equal value for future use! Start gathering your donations and stop by your local Thomas Tire & Automotive this week. Together\, we can help drive out hunger!
URL:https://thepinestimes.com/event/food-for-oil-benefit/2025-11-29/
LOCATION:Thomas Tire & Automotive\, 1580 N Sandhills Blvd\, Aberdeen\, 28315\, United States
CATEGORIES:Aberdeen Events,Adults,Christmas,Donation,Food,Food Drive,Hobby/Enthusiast,Holiday Events,Moore County Events,Senior,Volunteer,Young Adults
ORGANIZER;CN="Thomas Tire & Automotive":MAILTO:aberdeen@thomastire.com
END:VEVENT
BEGIN:VEVENT
DTSTART;TZID=America/New_York:20251127T120000
DTEND;TZID=America/New_York:20251127T120000
DTSTAMP:20260423T021400
CREATED:20251117T182306Z
LAST-MODIFIED:20251117T184408Z
UID:10075397-1764244800-1764244800@thepinestimes.com
SUMMARY:Food for Oil Benefit
DESCRIPTION:Participate in Thomas Tire & Automotive-Aberdeen’s 14th annual “Food for Oil” benefit! Thanks to your support\, over the years\, more than 200\,000 food items have been donated to local pantries. This month\, join once again in giving back to the community! Throughout November\, receive a FREE PREMIUM OIL CHANGE valued at $39.99 when you donate 25 non-perishable food items at any Thomas Tire & Automotive. Don’t need an oil change right now? No problem—you’ll receive a gift card of equal value for future use! Start gathering your donations and stop by your local Thomas Tire & Automotive this week. Together\, we can help drive out hunger!
URL:https://thepinestimes.com/event/food-for-oil-benefit/2025-11-27/
LOCATION:Thomas Tire & Automotive\, 1580 N Sandhills Blvd\, Aberdeen\, 28315\, United States
CATEGORIES:Aberdeen Events,Adults,Christmas,Donation,Food,Food Drive,Hobby/Enthusiast,Holiday Events,Moore County Events,Senior,Volunteer,Young Adults
ORGANIZER;CN="Thomas Tire & Automotive":MAILTO:aberdeen@thomastire.com
END:VEVENT
BEGIN:VEVENT
DTSTART;TZID=America/New_York:20251127T110000
DTEND;TZID=America/New_York:20251127T120000
DTSTAMP:20260423T021400
CREATED:20251118T143648Z
LAST-MODIFIED:20251118T143738Z
UID:10075416-1764241200-1764244800@thepinestimes.com
SUMMARY:"Always Thankful" Feed the Community Event 2025
DESCRIPTION:Join Moms on the Go Catering LLC for their 3rd annual Feed the Community Event on November 27th. The event will be held at the Boys & Girls Club of the Sandhills\, 160 Memorial Park Court in Southern Pines\, and will be open from 11:00am-2:00pm. They are currently accepting donations of Turkeys\, Canned Vegetables\, Hams\, Desserts\, Rolls\, Soft Drinks\, and Water. For monetary donations\, you can use Cash App: $CharlotteWaddell or drop off checks made out to Charlotte Waddell at the address listed above. For more information\, please call Charlotte Waddell at 910-638-8712.
URL:https://thepinestimes.com/event/always-thankful-feed-the-community-event-2025/
LOCATION:Boys and Girls Club of the Sandhills\, 160 Memorial Park Ct\, Southern Pines\, NC\, 28387\, United States
CATEGORIES:Adults,Donation,Family,Food,Food Drive,Holiday Events,Social,Southern Pines Events,Thanksgiving,Young Adults
ATTACH;FMTTYPE=image/jpeg:https://thepinestimes.com/wp-content/uploads/FeedTheCommunityFeature.jpg
END:VEVENT
BEGIN:VEVENT
DTSTART;TZID=America/New_York:20251125T120000
DTEND;TZID=America/New_York:20251125T120000
DTSTAMP:20260423T021400
CREATED:20251117T182306Z
LAST-MODIFIED:20251117T184408Z
UID:10075396-1764072000-1764072000@thepinestimes.com
SUMMARY:Food for Oil Benefit
DESCRIPTION:Participate in Thomas Tire & Automotive-Aberdeen’s 14th annual “Food for Oil” benefit! Thanks to your support\, over the years\, more than 200\,000 food items have been donated to local pantries. This month\, join once again in giving back to the community! Throughout November\, receive a FREE PREMIUM OIL CHANGE valued at $39.99 when you donate 25 non-perishable food items at any Thomas Tire & Automotive. Don’t need an oil change right now? No problem—you’ll receive a gift card of equal value for future use! Start gathering your donations and stop by your local Thomas Tire & Automotive this week. Together\, we can help drive out hunger!
URL:https://thepinestimes.com/event/food-for-oil-benefit/2025-11-25/
LOCATION:Thomas Tire & Automotive\, 1580 N Sandhills Blvd\, Aberdeen\, 28315\, United States
CATEGORIES:Aberdeen Events,Adults,Christmas,Donation,Food,Food Drive,Hobby/Enthusiast,Holiday Events,Moore County Events,Senior,Volunteer,Young Adults
ORGANIZER;CN="Thomas Tire & Automotive":MAILTO:aberdeen@thomastire.com
END:VEVENT
BEGIN:VEVENT
DTSTART;TZID=America/New_York:20251123T120000
DTEND;TZID=America/New_York:20251123T120000
DTSTAMP:20260423T021400
CREATED:20251117T182306Z
LAST-MODIFIED:20251117T184408Z
UID:10075395-1763899200-1763899200@thepinestimes.com
SUMMARY:Food for Oil Benefit
DESCRIPTION:Participate in Thomas Tire & Automotive-Aberdeen’s 14th annual “Food for Oil” benefit! Thanks to your support\, over the years\, more than 200\,000 food items have been donated to local pantries. This month\, join once again in giving back to the community! Throughout November\, receive a FREE PREMIUM OIL CHANGE valued at $39.99 when you donate 25 non-perishable food items at any Thomas Tire & Automotive. Don’t need an oil change right now? No problem—you’ll receive a gift card of equal value for future use! Start gathering your donations and stop by your local Thomas Tire & Automotive this week. Together\, we can help drive out hunger!
URL:https://thepinestimes.com/event/food-for-oil-benefit/2025-11-23/
LOCATION:Thomas Tire & Automotive\, 1580 N Sandhills Blvd\, Aberdeen\, 28315\, United States
CATEGORIES:Aberdeen Events,Adults,Christmas,Donation,Food,Food Drive,Hobby/Enthusiast,Holiday Events,Moore County Events,Senior,Volunteer,Young Adults
ORGANIZER;CN="Thomas Tire & Automotive":MAILTO:aberdeen@thomastire.com
END:VEVENT
BEGIN:VEVENT
DTSTART;TZID=America/New_York:20251122T120000
DTEND;TZID=America/New_York:20251122T120000
DTSTAMP:20260423T021400
CREATED:20251117T182306Z
LAST-MODIFIED:20251117T184408Z
UID:10075394-1763812800-1763812800@thepinestimes.com
SUMMARY:Food for Oil Benefit
DESCRIPTION:Participate in Thomas Tire & Automotive-Aberdeen’s 14th annual “Food for Oil” benefit! Thanks to your support\, over the years\, more than 200\,000 food items have been donated to local pantries. This month\, join once again in giving back to the community! Throughout November\, receive a FREE PREMIUM OIL CHANGE valued at $39.99 when you donate 25 non-perishable food items at any Thomas Tire & Automotive. Don’t need an oil change right now? No problem—you’ll receive a gift card of equal value for future use! Start gathering your donations and stop by your local Thomas Tire & Automotive this week. Together\, we can help drive out hunger!
URL:https://thepinestimes.com/event/food-for-oil-benefit/2025-11-22/
LOCATION:Thomas Tire & Automotive\, 1580 N Sandhills Blvd\, Aberdeen\, 28315\, United States
CATEGORIES:Aberdeen Events,Adults,Christmas,Donation,Food,Food Drive,Hobby/Enthusiast,Holiday Events,Moore County Events,Senior,Volunteer,Young Adults
ORGANIZER;CN="Thomas Tire & Automotive":MAILTO:aberdeen@thomastire.com
END:VEVENT
BEGIN:VEVENT
DTSTART;TZID=America/New_York:20251120T120000
DTEND;TZID=America/New_York:20251120T120000
DTSTAMP:20260423T021400
CREATED:20251117T182306Z
LAST-MODIFIED:20251117T184408Z
UID:10075393-1763640000-1763640000@thepinestimes.com
SUMMARY:Food for Oil Benefit
DESCRIPTION:Participate in Thomas Tire & Automotive-Aberdeen’s 14th annual “Food for Oil” benefit! Thanks to your support\, over the years\, more than 200\,000 food items have been donated to local pantries. This month\, join once again in giving back to the community! Throughout November\, receive a FREE PREMIUM OIL CHANGE valued at $39.99 when you donate 25 non-perishable food items at any Thomas Tire & Automotive. Don’t need an oil change right now? No problem—you’ll receive a gift card of equal value for future use! Start gathering your donations and stop by your local Thomas Tire & Automotive this week. Together\, we can help drive out hunger!
URL:https://thepinestimes.com/event/food-for-oil-benefit/2025-11-20/
LOCATION:Thomas Tire & Automotive\, 1580 N Sandhills Blvd\, Aberdeen\, 28315\, United States
CATEGORIES:Aberdeen Events,Adults,Christmas,Donation,Food,Food Drive,Hobby/Enthusiast,Holiday Events,Moore County Events,Senior,Volunteer,Young Adults
ORGANIZER;CN="Thomas Tire & Automotive":MAILTO:aberdeen@thomastire.com
END:VEVENT
BEGIN:VEVENT
DTSTART;TZID=America/New_York:20251118T120000
DTEND;TZID=America/New_York:20251118T120000
DTSTAMP:20260423T021400
CREATED:20251117T182306Z
LAST-MODIFIED:20251117T184408Z
UID:10075392-1763467200-1763467200@thepinestimes.com
SUMMARY:Food for Oil Benefit
DESCRIPTION:Participate in Thomas Tire & Automotive-Aberdeen’s 14th annual “Food for Oil” benefit! Thanks to your support\, over the years\, more than 200\,000 food items have been donated to local pantries. This month\, join once again in giving back to the community! Throughout November\, receive a FREE PREMIUM OIL CHANGE valued at $39.99 when you donate 25 non-perishable food items at any Thomas Tire & Automotive. Don’t need an oil change right now? No problem—you’ll receive a gift card of equal value for future use! Start gathering your donations and stop by your local Thomas Tire & Automotive this week. Together\, we can help drive out hunger!
URL:https://thepinestimes.com/event/food-for-oil-benefit/2025-11-18/
LOCATION:Thomas Tire & Automotive\, 1580 N Sandhills Blvd\, Aberdeen\, 28315\, United States
CATEGORIES:Aberdeen Events,Adults,Christmas,Donation,Food,Food Drive,Hobby/Enthusiast,Holiday Events,Moore County Events,Senior,Volunteer,Young Adults
ORGANIZER;CN="Thomas Tire & Automotive":MAILTO:aberdeen@thomastire.com
END:VEVENT
BEGIN:VEVENT
DTSTART;TZID=America/New_York:20251101T100000
DTEND;TZID=America/New_York:20251101T160000
DTSTAMP:20260423T021400
CREATED:20251029T175638Z
LAST-MODIFIED:20251029T175638Z
UID:10073408-1761991200-1762012800@thepinestimes.com
SUMMARY:Trinity AME Zion Church Food Giveaway
DESCRIPTION:The Trinity A.M.E. Zion Church is hosting a Food Give Away on Friday\, November 1st\, from 10am-4pm at the church location (972 West Pennsylvania Avenue in Southern Pines). This event provides essential food items\, such as meats\, canned goods\, and baby formula\, for families in need.
URL:https://thepinestimes.com/event/trinity-ame-zion-church-food-giveaway/
LOCATION:Trinity AME Zion Church\, 972 W Pennsylvania Ave\, Southern Pines\, NC\, 28387\, United States
CATEGORIES:Adults,Donation,Family,Food,Food Drive,Hobby/Enthusiast,Senior,Social,Southern Pines Events,Young Adults
END:VEVENT
END:VCALENDAR