BEGIN:VCALENDAR
VERSION:2.0
PRODID:-//The Pines Times - ECPv6.15.20//NONSGML v1.0//EN
CALSCALE:GREGORIAN
METHOD:PUBLISH
X-ORIGINAL-URL:https://thepinestimes.com
X-WR-CALDESC:Events for The Pines Times
REFRESH-INTERVAL;VALUE=DURATION:PT1H
X-Robots-Tag:noindex
X-PUBLISHED-TTL:PT1H
BEGIN:VTIMEZONE
TZID:America/New_York
BEGIN:DAYLIGHT
TZOFFSETFROM:-0500
TZOFFSETTO:-0400
TZNAME:EDT
DTSTART:20250309T070000
END:DAYLIGHT
BEGIN:STANDARD
TZOFFSETFROM:-0400
TZOFFSETTO:-0500
TZNAME:EST
DTSTART:20251102T060000
END:STANDARD
BEGIN:DAYLIGHT
TZOFFSETFROM:-0500
TZOFFSETTO:-0400
TZNAME:EDT
DTSTART:20260308T070000
END:DAYLIGHT
BEGIN:STANDARD
TZOFFSETFROM:-0400
TZOFFSETTO:-0500
TZNAME:EST
DTSTART:20261101T060000
END:STANDARD
BEGIN:DAYLIGHT
TZOFFSETFROM:-0500
TZOFFSETTO:-0400
TZNAME:EDT
DTSTART:20270314T070000
END:DAYLIGHT
BEGIN:STANDARD
TZOFFSETFROM:-0400
TZOFFSETTO:-0500
TZNAME:EST
DTSTART:20271107T060000
END:STANDARD
END:VTIMEZONE
BEGIN:VEVENT
DTSTART;TZID=America/New_York:20260516T090000
DTEND;TZID=America/New_York:20260516T140000
DTSTAMP:20260421T190416
CREATED:20230226T023425Z
LAST-MODIFIED:20260401T142311Z
UID:10009849-1778922000-1778940000@thepinestimes.com
SUMMARY:The $ugar $how Classic Car Show & Flea Market Spring 2026
DESCRIPTION:Get ready for The $ugar $how Classic Car Show & Flea Market taking place on Saturday\, May 16th\, from 9AM-2PM\, with a scheduled rain date of May 23rd. Hosted in the Kohl’s Shopping Center in Southern Pines\, the event will be held in the parking lot located between Pine Scone Cafe and Full Moon Oyster Bar. This annual community gathering features vinyl records spun by local DJs. The Habitat truck will be on-site to collect donations! \nSponsored by Pine Scone Cafe and Full Moon Oyster Bar\, the show is currently welcoming vendors to reserve a spot for $30 by paying at the Southern Pines location or by contacting Birdie at 772-349-4253\, though spaces are limited and filling up fast.
URL:https://thepinestimes.com/event/the-ugar-how-classic-car-show-flea-market-spring-2026/
LOCATION:Pine Scone Cafe Southern Pines\, 116 Brucewood Rd\, Southern Pines\, NC\, 28387\, United States
CATEGORIES:Adults,Car Show/Motorcycle Show/Cruise In,Donation,Family,Fundraiser,Markets,Music,Shopping,Social,Southern Pines Events,Vendors
ATTACH;FMTTYPE=image/jpeg:https://thepinestimes.com/wp-content/uploads/TheSugarShowFeature.jpg
ORGANIZER;CN="Pine Scone Cafe Southern Pines":MAILTO:pinesconecafesp@gmail.com
END:VEVENT
BEGIN:VEVENT
DTSTART;TZID=America/New_York:20260516T090000
DTEND;TZID=America/New_York:20260516T150000
DTSTAMP:20260421T190416
CREATED:20240517T180840Z
LAST-MODIFIED:20260215T191946Z
UID:10037019-1778922000-1778943600@thepinestimes.com
SUMMARY:Backyard Bocce Bash 2026
DESCRIPTION:Get ready to roll for a great cause! Join the Sandhills Children’s Center 2026 Backyard Bocce Bash on Saturday\, May 16th from 9am-3pm! Every toss helps provide vital resources\, therapies\, and educational programs for the kids! Whether you’re a seasoned bocce pro or a first-time player\, this is your chance to enjoy a day of friendly competition while making a meaningful impact in the lives of children. Save the date\, registration coming soon. Follow the link provided below for details.
URL:https://thepinestimes.com/event/backyard-bocce-bash-2026/
LOCATION:Pinehurst Polo Field\, 200 Beulah Hill Road South\, Pinehurst\, NC\, 28374\, United States
CATEGORIES:Adults,Donation,Fundraiser,Games,Health & Wellness,Hobby/Enthusiast,Nature/Outdoors,Pinehurst Events,Senior,Social,Sports,Young Adults
ATTACH;FMTTYPE=image/jpeg:https://thepinestimes.com/wp-content/uploads/BackyardBocceFeature-1.jpg
END:VEVENT
BEGIN:VEVENT
DTSTART;TZID=America/New_York:20260517T160000
DTEND;TZID=America/New_York:20260517T200000
DTSTAMP:20260421T190416
CREATED:20260409T122714Z
LAST-MODIFIED:20260409T122714Z
UID:10086680-1779033600-1779048000@thepinestimes.com
SUMMARY:Cruisin’ for Christ Benefit
DESCRIPTION:Holly Springs Baptist Church is hosting Cruisin’ for Christ on Sunday\, May 17th\, from 4PM-8PM at 385 Holly Springs Church Rd. in Broadway. This family-friendly event features free admission and includes classic cars\, gospel music\, and special performances by Charles Scarlette. Hot dogs and hamburgers will be served. All donations support our annual Men’s/Women’s Conference. Sponsored by the HSBC Men’s and Women’s Conference Committee\, it offers an afternoon of community fun and entertainment for all ages. For more information\, you can visit the church website at hsbcbwaync.org.
URL:https://thepinestimes.com/event/cruisin-for-christ-benefit/
LOCATION:Holly Springs Baptist Church\, 385 Holly Springs Church Rd.\, Broadway\, 27505\, United States
CATEGORIES:Adults,Benefit,Broadway,Car Show/Motorcycle Show/Cruise In,Family,Food,Fundraiser,Music,Senior,Social
ATTACH;FMTTYPE=image/jpeg:https://thepinestimes.com/wp-content/uploads/BroadwayCruiseInFeature.jpg
END:VEVENT
BEGIN:VEVENT
DTSTART;TZID=America/New_York:20260522T100000
DTEND;TZID=America/New_York:20260522T210000
DTSTAMP:20260421T190416
CREATED:20250108T145738Z
LAST-MODIFIED:20260329T145523Z
UID:10085293-1779444000-1779483600@thepinestimes.com
SUMMARY:Sandhills Motoring Expo 2026
DESCRIPTION:The Sandhills Motoring Expo is a favorite annual event of Moore County that takes place on Memorial Day weekend. The fun begins Friday\, May 22nd and runs through Sunday\, May 24th. Enjoy a variety of events lined up throughout the weekend! To view the full details\, schedule of events and registration\, follow the link provided below.
URL:https://thepinestimes.com/event/sandhills-motoring-expo-2026/2026-05-22/
LOCATION:Village of Pinehurst\, 100 Chinquapin Road\, Pinehurst\, NC\, 28374\, United States
CATEGORIES:Adults,Car Show/Motorcycle Show/Cruise In,Demonstrations,Fair/Festival,Family,Fundraiser,Hobby/Enthusiast,Memorial Day,Moore County Events,Music,Pinehurst Events,Senior,Social,Tours,Vendors
ATTACH;FMTTYPE=image/jpeg:https://thepinestimes.com/wp-content/uploads/SandhillsMotoringFeature-1.jpg
END:VEVENT
BEGIN:VEVENT
DTSTART;TZID=America/New_York:20260523T080000
DTEND;TZID=America/New_York:20260523T210000
DTSTAMP:20260421T190416
CREATED:20250108T145738Z
LAST-MODIFIED:20260329T145523Z
UID:10085294-1779523200-1779570000@thepinestimes.com
SUMMARY:Sandhills Motoring Expo 2026
DESCRIPTION:The Sandhills Motoring Expo is a favorite annual event of Moore County that takes place on Memorial Day weekend. The fun begins Friday\, May 22nd and runs through Sunday\, May 24th. Enjoy a variety of events lined up throughout the weekend! To view the full details\, schedule of events and registration\, follow the link provided below.
URL:https://thepinestimes.com/event/sandhills-motoring-expo-2026/2026-05-23/
LOCATION:Village of Pinehurst\, 100 Chinquapin Road\, Pinehurst\, NC\, 28374\, United States
CATEGORIES:Adults,Car Show/Motorcycle Show/Cruise In,Demonstrations,Fair/Festival,Family,Fundraiser,Hobby/Enthusiast,Memorial Day,Moore County Events,Music,Pinehurst Events,Senior,Social,Tours,Vendors
ATTACH;FMTTYPE=image/jpeg:https://thepinestimes.com/wp-content/uploads/SandhillsMotoringFeature-1.jpg
END:VEVENT
BEGIN:VEVENT
DTSTART;TZID=America/New_York:20260523T140000
DTEND;TZID=America/New_York:20260523T180000
DTSTAMP:20260421T190416
CREATED:20250402T191447Z
LAST-MODIFIED:20260318T120605Z
UID:10055932-1779544800-1779559200@thepinestimes.com
SUMMARY:Dog Fair 2026 at James Creek
DESCRIPTION:Come out for the 2nd annual James Creek Cider House Dog Fair in Cameron on Saturday\, May 23rd\, from 2PM-6PM! This event is all about celebrating our pups\, connecting the community\, and helping as many dogs as possible find loving homes. Enjoy an afternoon of shopping\, learning and supporting local animal community—all while sipping cider and enjoying the orchard views. \nThe market will feature: \n– Dog trainers\n– Veterinarians\n– Dog treat makers\n– Leashes\, collars\, and pet accessories\n– Pet apparel\n– Groomers\n– Rescues with adoptable pups looking for their fur-ever homes\nWhether you are a devoted pet parent or considering adoption there is something for everyone (and every pup). \nFor those interested in being a vendor\, email info@jamescreekciderhouse.com to get involved! Let’s make this year’s Dog Fair even bigger and better! \n \n 
URL:https://thepinestimes.com/event/dog-fair-at-james-creek/
LOCATION:James Creek Cider House\, 172 US Hwy 1 Bus.\, Cameron\, NC\, 28326\, United States
CATEGORIES:Adults,Animal Event,Beer and Wine,Cameron Events,Donation,Fair/Festival,Family,Food,Fundraiser,Hobby/Enthusiast,Pets/Animals,Shopping,Social,Vendors
ATTACH;FMTTYPE=image/jpeg:https://thepinestimes.com/wp-content/uploads/JamesCreekCiderHouseFeature-1-e1768574027554.jpg
ORGANIZER;CN="James Creek Cider House":MAILTO:info@jamescreekciderhouse.com
END:VEVENT
BEGIN:VEVENT
DTSTART;TZID=America/New_York:20260523T150000
DTEND;TZID=America/New_York:20260523T180000
DTSTAMP:20260421T190416
CREATED:20231028T123949Z
LAST-MODIFIED:20260120T173816Z
UID:10079850-1779548400-1779559200@thepinestimes.com
SUMMARY:Sanford Car News: 2026 Cruise Ins
DESCRIPTION:Come out for the Sanford Car News Cruise Ins! The 2026 cruise ins will be held in the Spring Lane Cinemas Parking Lot on the 4th Saturday of each month\, open to all makes\, models\, and years. Attendees can look forward to food trucks\, 50/50 tickets\, door prizes\, live music\, charity food drive\, cool rides and more! For more information\, you can call or text Graham at 919-770-0503 or Jonathon at 919-356-6363. \n \n  \n 
URL:https://thepinestimes.com/event/sanford-car-news-cruise-in/2026-05-23/
LOCATION:Spring Lane Cinemas\, 1351 Plaza Blvd\, Sanford\, 27330\, United States
CATEGORIES:Adult Connections,Adults,Car Show/Motorcycle Show/Cruise In,Family,Food,Fundraiser,Hobby/Enthusiast,Music,Nature/Outdoors,Sanford Events,Senior,Social,Vendors,Young Adults
ATTACH;FMTTYPE=image/jpeg:https://thepinestimes.com/wp-content/uploads/SanfordCarNewsFeature-1-e1768837613612.jpg
END:VEVENT
BEGIN:VEVENT
DTSTART;TZID=America/New_York:20260524T083000
DTEND;TZID=America/New_York:20260524T160000
DTSTAMP:20260421T190416
CREATED:20250108T145738Z
LAST-MODIFIED:20260329T145523Z
UID:10085295-1779611400-1779638400@thepinestimes.com
SUMMARY:Sandhills Motoring Expo 2026
DESCRIPTION:The Sandhills Motoring Expo is a favorite annual event of Moore County that takes place on Memorial Day weekend. The fun begins Friday\, May 22nd and runs through Sunday\, May 24th. Enjoy a variety of events lined up throughout the weekend! To view the full details\, schedule of events and registration\, follow the link provided below.
URL:https://thepinestimes.com/event/sandhills-motoring-expo-2026/2026-05-24/
LOCATION:Village of Pinehurst\, 100 Chinquapin Road\, Pinehurst\, NC\, 28374\, United States
CATEGORIES:Adults,Car Show/Motorcycle Show/Cruise In,Demonstrations,Fair/Festival,Family,Fundraiser,Hobby/Enthusiast,Memorial Day,Moore County Events,Music,Pinehurst Events,Senior,Social,Tours,Vendors
ATTACH;FMTTYPE=image/jpeg:https://thepinestimes.com/wp-content/uploads/SandhillsMotoringFeature-1.jpg
END:VEVENT
BEGIN:VEVENT
DTSTART;TZID=America/New_York:20260528T190000
DTEND;TZID=America/New_York:20260528T190000
DTSTAMP:20260421T190416
CREATED:20260409T133959Z
LAST-MODIFIED:20260409T135345Z
UID:10086685-1779994800-1779994800@thepinestimes.com
SUMMARY:Legacy of the Arts Benefit Concert Featuring The Paul Murphy Trio
DESCRIPTION:Join Southern Pines Land & Housing Trust for an unforgettable celebration in the historic auditorium…Prepare to be entertained by the brilliant and smooth sounds of The Paul Murphy Trio\, as you have never heard them before! Vocalist Anna Murphy joins the Trio to present a repertoire of songs sure to satisfy your appetite for a perfect blend of jazz & soul music. This is an iconic an event that makes fundraising for a good cause even better! \n-Heavy Hors D’ Oeuvres Served: Braised Short Rib Crostini\, Caprese Skewers w/Balsamic Glaze\, Shrimp & Grits\, Deviled Egg Trio\, Cajun Chicken Pasta\, etc..\n-Glass of Champagne Upon Arrival\n-Cash Bar\n-Cocktail Attire \nTickets are $75 with sponsorships available. To purchase tickets\, follow the event website link provided below.
URL:https://thepinestimes.com/event/legacy-of-the-arts-benefit-concert/
LOCATION:Southern Pines Land & Housing Trust Auditorium\, 1250 West New York Avenue\, Southern Pines\, 28387\, United States
CATEGORIES:Adults,Beer and Wine,Benefit,Concert,Food,Fundraiser,Live Entertainment,Music,Social,Southern Pines Events
ATTACH;FMTTYPE=image/jpeg:https://thepinestimes.com/wp-content/uploads/LegacyOfTheArtsFeature.jpg
END:VEVENT
BEGIN:VEVENT
DTSTART;TZID=America/New_York:20260627T150000
DTEND;TZID=America/New_York:20260627T180000
DTSTAMP:20260421T190416
CREATED:20231028T123949Z
LAST-MODIFIED:20260120T173816Z
UID:10079851-1782572400-1782583200@thepinestimes.com
SUMMARY:Sanford Car News: 2026 Cruise Ins
DESCRIPTION:Come out for the Sanford Car News Cruise Ins! The 2026 cruise ins will be held in the Spring Lane Cinemas Parking Lot on the 4th Saturday of each month\, open to all makes\, models\, and years. Attendees can look forward to food trucks\, 50/50 tickets\, door prizes\, live music\, charity food drive\, cool rides and more! For more information\, you can call or text Graham at 919-770-0503 or Jonathon at 919-356-6363. \n \n  \n 
URL:https://thepinestimes.com/event/sanford-car-news-cruise-in/2026-06-27/
LOCATION:Spring Lane Cinemas\, 1351 Plaza Blvd\, Sanford\, 27330\, United States
CATEGORIES:Adult Connections,Adults,Car Show/Motorcycle Show/Cruise In,Family,Food,Fundraiser,Hobby/Enthusiast,Music,Nature/Outdoors,Sanford Events,Senior,Social,Vendors,Young Adults
ATTACH;FMTTYPE=image/jpeg:https://thepinestimes.com/wp-content/uploads/SanfordCarNewsFeature-1-e1768837613612.jpg
END:VEVENT
BEGIN:VEVENT
DTSTART;TZID=America/New_York:20260725T150000
DTEND;TZID=America/New_York:20260725T180000
DTSTAMP:20260421T190416
CREATED:20231028T123949Z
LAST-MODIFIED:20260120T173816Z
UID:10079852-1784991600-1785002400@thepinestimes.com
SUMMARY:Sanford Car News: 2026 Cruise Ins
DESCRIPTION:Come out for the Sanford Car News Cruise Ins! The 2026 cruise ins will be held in the Spring Lane Cinemas Parking Lot on the 4th Saturday of each month\, open to all makes\, models\, and years. Attendees can look forward to food trucks\, 50/50 tickets\, door prizes\, live music\, charity food drive\, cool rides and more! For more information\, you can call or text Graham at 919-770-0503 or Jonathon at 919-356-6363. \n \n  \n 
URL:https://thepinestimes.com/event/sanford-car-news-cruise-in/2026-07-25/
LOCATION:Spring Lane Cinemas\, 1351 Plaza Blvd\, Sanford\, 27330\, United States
CATEGORIES:Adult Connections,Adults,Car Show/Motorcycle Show/Cruise In,Family,Food,Fundraiser,Hobby/Enthusiast,Music,Nature/Outdoors,Sanford Events,Senior,Social,Vendors,Young Adults
ATTACH;FMTTYPE=image/jpeg:https://thepinestimes.com/wp-content/uploads/SanfordCarNewsFeature-1-e1768837613612.jpg
END:VEVENT
BEGIN:VEVENT
DTSTART;TZID=America/New_York:20260822T150000
DTEND;TZID=America/New_York:20260822T180000
DTSTAMP:20260421T190416
CREATED:20231028T123949Z
LAST-MODIFIED:20260120T173816Z
UID:10079853-1787410800-1787421600@thepinestimes.com
SUMMARY:Sanford Car News: 2026 Cruise Ins
DESCRIPTION:Come out for the Sanford Car News Cruise Ins! The 2026 cruise ins will be held in the Spring Lane Cinemas Parking Lot on the 4th Saturday of each month\, open to all makes\, models\, and years. Attendees can look forward to food trucks\, 50/50 tickets\, door prizes\, live music\, charity food drive\, cool rides and more! For more information\, you can call or text Graham at 919-770-0503 or Jonathon at 919-356-6363. \n \n  \n 
URL:https://thepinestimes.com/event/sanford-car-news-cruise-in/2026-08-22/
LOCATION:Spring Lane Cinemas\, 1351 Plaza Blvd\, Sanford\, 27330\, United States
CATEGORIES:Adult Connections,Adults,Car Show/Motorcycle Show/Cruise In,Family,Food,Fundraiser,Hobby/Enthusiast,Music,Nature/Outdoors,Sanford Events,Senior,Social,Vendors,Young Adults
ATTACH;FMTTYPE=image/jpeg:https://thepinestimes.com/wp-content/uploads/SanfordCarNewsFeature-1-e1768837613612.jpg
END:VEVENT
BEGIN:VEVENT
DTSTART;TZID=America/New_York:20260919T090000
DTEND;TZID=America/New_York:20260919T120000
DTSTAMP:20260421T190416
CREATED:20230916T125652Z
LAST-MODIFIED:20260407T195456Z
UID:10020822-1789808400-1789819200@thepinestimes.com
SUMMARY:Moore County Walk to End Alzheimer's 2026
DESCRIPTION:“Held annually in more than 600 communities nationwide\, the Alzheimer’s Association Walk to End Alzheimer’s® is the world’s largest fundraiser for Alzheimer’s care\, support and research. This inspiring event calls on participants of all ages and abilities to join the fight against the disease.” Join to honor\, fight and remember. Every person\, team\, volunteer and dollar raised matters. \nThe 2026 Walk to End Alzheimer’s of Moore County takes place on Saturday\, September 19th from 9am-12pm! The walk is held at Sandhills Community College. \n9:00am: Event Opens/Registration \n10:00am: Opening Ceremony. Walk route opens following the ceremony. \nFor additional information on registration or to make a donation\, follow the website event link provided below.
URL:https://thepinestimes.com/event/moore-county-walk-to-end-alzheimers-2026/
LOCATION:Sandhills Community College\, 3395 Airport Road\, Pinehurst\, NC\, 28374\, United States
CATEGORIES:Aberdeen Events,Adults,Brain Change,Donation,Family,Fundraiser,Health & Wellness,Hobby/Enthusiast,HOMEPAGE Featured,Moore County Events,Nature/Outdoors,Senior,Social,Support Group,Volunteer
ATTACH;FMTTYPE=image/jpeg:https://thepinestimes.com/wp-content/uploads/WalkToEndAlzheimersFeature.jpg
END:VEVENT
BEGIN:VEVENT
DTSTART;TZID=America/New_York:20260926T150000
DTEND;TZID=America/New_York:20260926T180000
DTSTAMP:20260421T190416
CREATED:20231028T123949Z
LAST-MODIFIED:20260120T173816Z
UID:10079854-1790434800-1790445600@thepinestimes.com
SUMMARY:Sanford Car News: 2026 Cruise Ins
DESCRIPTION:Come out for the Sanford Car News Cruise Ins! The 2026 cruise ins will be held in the Spring Lane Cinemas Parking Lot on the 4th Saturday of each month\, open to all makes\, models\, and years. Attendees can look forward to food trucks\, 50/50 tickets\, door prizes\, live music\, charity food drive\, cool rides and more! For more information\, you can call or text Graham at 919-770-0503 or Jonathon at 919-356-6363. \n \n  \n 
URL:https://thepinestimes.com/event/sanford-car-news-cruise-in/2026-09-26/
LOCATION:Spring Lane Cinemas\, 1351 Plaza Blvd\, Sanford\, 27330\, United States
CATEGORIES:Adult Connections,Adults,Car Show/Motorcycle Show/Cruise In,Family,Food,Fundraiser,Hobby/Enthusiast,Music,Nature/Outdoors,Sanford Events,Senior,Social,Vendors,Young Adults
ATTACH;FMTTYPE=image/jpeg:https://thepinestimes.com/wp-content/uploads/SanfordCarNewsFeature-1-e1768837613612.jpg
END:VEVENT
BEGIN:VEVENT
DTSTART;TZID=America/New_York:20261128T130000
DTEND;TZID=America/New_York:20261128T160000
DTSTAMP:20260421T190416
CREATED:20231028T123949Z
LAST-MODIFIED:20260120T173816Z
UID:10079856-1795870800-1795881600@thepinestimes.com
SUMMARY:Sanford Car News: 2026 Cruise Ins
DESCRIPTION:Come out for the Sanford Car News Cruise Ins! The 2026 cruise ins will be held in the Spring Lane Cinemas Parking Lot on the 4th Saturday of each month\, open to all makes\, models\, and years. Attendees can look forward to food trucks\, 50/50 tickets\, door prizes\, live music\, charity food drive\, cool rides and more! For more information\, you can call or text Graham at 919-770-0503 or Jonathon at 919-356-6363. \n \n  \n 
URL:https://thepinestimes.com/event/sanford-car-news-cruise-in/2026-11-28/
LOCATION:Spring Lane Cinemas\, 1351 Plaza Blvd\, Sanford\, 27330\, United States
CATEGORIES:Adult Connections,Adults,Car Show/Motorcycle Show/Cruise In,Family,Food,Fundraiser,Hobby/Enthusiast,Music,Nature/Outdoors,Sanford Events,Senior,Social,Vendors,Young Adults
ATTACH;FMTTYPE=image/jpeg:https://thepinestimes.com/wp-content/uploads/SanfordCarNewsFeature-1-e1768837613612.jpg
END:VEVENT
END:VCALENDAR