BEGIN:VCALENDAR
VERSION:2.0
PRODID:-//The Pines Times - ECPv6.15.20//NONSGML v1.0//EN
CALSCALE:GREGORIAN
METHOD:PUBLISH
X-ORIGINAL-URL:https://thepinestimes.com
X-WR-CALDESC:Events for The Pines Times
REFRESH-INTERVAL;VALUE=DURATION:PT1H
X-Robots-Tag:noindex
X-PUBLISHED-TTL:PT1H
BEGIN:VTIMEZONE
TZID:America/New_York
BEGIN:DAYLIGHT
TZOFFSETFROM:-0500
TZOFFSETTO:-0400
TZNAME:EDT
DTSTART:20250309T070000
END:DAYLIGHT
BEGIN:STANDARD
TZOFFSETFROM:-0400
TZOFFSETTO:-0500
TZNAME:EST
DTSTART:20251102T060000
END:STANDARD
BEGIN:DAYLIGHT
TZOFFSETFROM:-0500
TZOFFSETTO:-0400
TZNAME:EDT
DTSTART:20260308T070000
END:DAYLIGHT
BEGIN:STANDARD
TZOFFSETFROM:-0400
TZOFFSETTO:-0500
TZNAME:EST
DTSTART:20261101T060000
END:STANDARD
BEGIN:DAYLIGHT
TZOFFSETFROM:-0500
TZOFFSETTO:-0400
TZNAME:EDT
DTSTART:20270314T070000
END:DAYLIGHT
BEGIN:STANDARD
TZOFFSETFROM:-0400
TZOFFSETTO:-0500
TZNAME:EST
DTSTART:20271107T060000
END:STANDARD
END:VTIMEZONE
BEGIN:VEVENT
DTSTART;TZID=America/New_York:20260724T140000
DTEND;TZID=America/New_York:20260724T150000
DTSTAMP:20260420T222509
CREATED:20251031T170307Z
LAST-MODIFIED:20260305T181713Z
UID:10082394-1784901600-1784905200@thepinestimes.com
SUMMARY:Free Drum Circle Class (Ages 18+)
DESCRIPTION:Join Southern Pines Parks & Recreation for a free Drum Circle Class with Matthew Bahr. This class is held every Friday from 2:00pm-3:00pm and is open to those 18 and older. No prior experience is needed\, just come to feel the rhythm\, find your groove\, and connect through the beat. The class takes place at the E.S. Douglass Community Center. For more information\, you can call 910-692-7376.
URL:https://thepinestimes.com/event/free-drum-circle-class-ages-18/2026-07-24/
LOCATION:E.S. Douglass Community Center\, 1185 W Pennsylvania Ave\, Southern Pines\, NC\, 28387\, United States
CATEGORIES:Adults,Art/Craft Workshops,Educational,Golden Age,Hobby/Enthusiast,Music,Senior,Social,Southern Pines Events,Young Adults
ATTACH;FMTTYPE=image/jpeg:https://thepinestimes.com/wp-content/uploads/SouthernPinesParksAndRecreationFeature.jpg
ORGANIZER;CN="Southern Pines Parks and Recreation":MAILTO:bsampson@southernpines.net
END:VEVENT
BEGIN:VEVENT
DTSTART;TZID=America/New_York:20260731T140000
DTEND;TZID=America/New_York:20260731T150000
DTSTAMP:20260420T222509
CREATED:20251031T170307Z
LAST-MODIFIED:20260305T181713Z
UID:10082395-1785506400-1785510000@thepinestimes.com
SUMMARY:Free Drum Circle Class (Ages 18+)
DESCRIPTION:Join Southern Pines Parks & Recreation for a free Drum Circle Class with Matthew Bahr. This class is held every Friday from 2:00pm-3:00pm and is open to those 18 and older. No prior experience is needed\, just come to feel the rhythm\, find your groove\, and connect through the beat. The class takes place at the E.S. Douglass Community Center. For more information\, you can call 910-692-7376.
URL:https://thepinestimes.com/event/free-drum-circle-class-ages-18/2026-07-31/
LOCATION:E.S. Douglass Community Center\, 1185 W Pennsylvania Ave\, Southern Pines\, NC\, 28387\, United States
CATEGORIES:Adults,Art/Craft Workshops,Educational,Golden Age,Hobby/Enthusiast,Music,Senior,Social,Southern Pines Events,Young Adults
ATTACH;FMTTYPE=image/jpeg:https://thepinestimes.com/wp-content/uploads/SouthernPinesParksAndRecreationFeature.jpg
ORGANIZER;CN="Southern Pines Parks and Recreation":MAILTO:bsampson@southernpines.net
END:VEVENT
BEGIN:VEVENT
DTSTART;TZID=America/New_York:20260807T140000
DTEND;TZID=America/New_York:20260807T150000
DTSTAMP:20260420T222509
CREATED:20251031T170307Z
LAST-MODIFIED:20260305T181713Z
UID:10082396-1786111200-1786114800@thepinestimes.com
SUMMARY:Free Drum Circle Class (Ages 18+)
DESCRIPTION:Join Southern Pines Parks & Recreation for a free Drum Circle Class with Matthew Bahr. This class is held every Friday from 2:00pm-3:00pm and is open to those 18 and older. No prior experience is needed\, just come to feel the rhythm\, find your groove\, and connect through the beat. The class takes place at the E.S. Douglass Community Center. For more information\, you can call 910-692-7376.
URL:https://thepinestimes.com/event/free-drum-circle-class-ages-18/2026-08-07/
LOCATION:E.S. Douglass Community Center\, 1185 W Pennsylvania Ave\, Southern Pines\, NC\, 28387\, United States
CATEGORIES:Adults,Art/Craft Workshops,Educational,Golden Age,Hobby/Enthusiast,Music,Senior,Social,Southern Pines Events,Young Adults
ATTACH;FMTTYPE=image/jpeg:https://thepinestimes.com/wp-content/uploads/SouthernPinesParksAndRecreationFeature.jpg
ORGANIZER;CN="Southern Pines Parks and Recreation":MAILTO:bsampson@southernpines.net
END:VEVENT
BEGIN:VEVENT
DTSTART;TZID=America/New_York:20260814T140000
DTEND;TZID=America/New_York:20260814T150000
DTSTAMP:20260420T222509
CREATED:20251031T170307Z
LAST-MODIFIED:20260305T181713Z
UID:10082397-1786716000-1786719600@thepinestimes.com
SUMMARY:Free Drum Circle Class (Ages 18+)
DESCRIPTION:Join Southern Pines Parks & Recreation for a free Drum Circle Class with Matthew Bahr. This class is held every Friday from 2:00pm-3:00pm and is open to those 18 and older. No prior experience is needed\, just come to feel the rhythm\, find your groove\, and connect through the beat. The class takes place at the E.S. Douglass Community Center. For more information\, you can call 910-692-7376.
URL:https://thepinestimes.com/event/free-drum-circle-class-ages-18/2026-08-14/
LOCATION:E.S. Douglass Community Center\, 1185 W Pennsylvania Ave\, Southern Pines\, NC\, 28387\, United States
CATEGORIES:Adults,Art/Craft Workshops,Educational,Golden Age,Hobby/Enthusiast,Music,Senior,Social,Southern Pines Events,Young Adults
ATTACH;FMTTYPE=image/jpeg:https://thepinestimes.com/wp-content/uploads/SouthernPinesParksAndRecreationFeature.jpg
ORGANIZER;CN="Southern Pines Parks and Recreation":MAILTO:bsampson@southernpines.net
END:VEVENT
BEGIN:VEVENT
DTSTART;TZID=America/New_York:20260821T140000
DTEND;TZID=America/New_York:20260821T150000
DTSTAMP:20260420T222509
CREATED:20251031T170307Z
LAST-MODIFIED:20260305T181713Z
UID:10082398-1787320800-1787324400@thepinestimes.com
SUMMARY:Free Drum Circle Class (Ages 18+)
DESCRIPTION:Join Southern Pines Parks & Recreation for a free Drum Circle Class with Matthew Bahr. This class is held every Friday from 2:00pm-3:00pm and is open to those 18 and older. No prior experience is needed\, just come to feel the rhythm\, find your groove\, and connect through the beat. The class takes place at the E.S. Douglass Community Center. For more information\, you can call 910-692-7376.
URL:https://thepinestimes.com/event/free-drum-circle-class-ages-18/2026-08-21/
LOCATION:E.S. Douglass Community Center\, 1185 W Pennsylvania Ave\, Southern Pines\, NC\, 28387\, United States
CATEGORIES:Adults,Art/Craft Workshops,Educational,Golden Age,Hobby/Enthusiast,Music,Senior,Social,Southern Pines Events,Young Adults
ATTACH;FMTTYPE=image/jpeg:https://thepinestimes.com/wp-content/uploads/SouthernPinesParksAndRecreationFeature.jpg
ORGANIZER;CN="Southern Pines Parks and Recreation":MAILTO:bsampson@southernpines.net
END:VEVENT
BEGIN:VEVENT
DTSTART;TZID=America/New_York:20260828T140000
DTEND;TZID=America/New_York:20260828T150000
DTSTAMP:20260420T222509
CREATED:20251031T170307Z
LAST-MODIFIED:20260305T181713Z
UID:10082399-1787925600-1787929200@thepinestimes.com
SUMMARY:Free Drum Circle Class (Ages 18+)
DESCRIPTION:Join Southern Pines Parks & Recreation for a free Drum Circle Class with Matthew Bahr. This class is held every Friday from 2:00pm-3:00pm and is open to those 18 and older. No prior experience is needed\, just come to feel the rhythm\, find your groove\, and connect through the beat. The class takes place at the E.S. Douglass Community Center. For more information\, you can call 910-692-7376.
URL:https://thepinestimes.com/event/free-drum-circle-class-ages-18/2026-08-28/
LOCATION:E.S. Douglass Community Center\, 1185 W Pennsylvania Ave\, Southern Pines\, NC\, 28387\, United States
CATEGORIES:Adults,Art/Craft Workshops,Educational,Golden Age,Hobby/Enthusiast,Music,Senior,Social,Southern Pines Events,Young Adults
ATTACH;FMTTYPE=image/jpeg:https://thepinestimes.com/wp-content/uploads/SouthernPinesParksAndRecreationFeature.jpg
ORGANIZER;CN="Southern Pines Parks and Recreation":MAILTO:bsampson@southernpines.net
END:VEVENT
END:VCALENDAR