BEGIN:VCALENDAR
VERSION:2.0
PRODID:-//The Pines Times - ECPv6.15.20//NONSGML v1.0//EN
CALSCALE:GREGORIAN
METHOD:PUBLISH
X-ORIGINAL-URL:https://thepinestimes.com
X-WR-CALDESC:Events for The Pines Times
REFRESH-INTERVAL;VALUE=DURATION:PT1H
X-Robots-Tag:noindex
X-PUBLISHED-TTL:PT1H
BEGIN:VTIMEZONE
TZID:America/New_York
BEGIN:DAYLIGHT
TZOFFSETFROM:-0500
TZOFFSETTO:-0400
TZNAME:EDT
DTSTART:20240310T070000
END:DAYLIGHT
BEGIN:STANDARD
TZOFFSETFROM:-0400
TZOFFSETTO:-0500
TZNAME:EST
DTSTART:20241103T060000
END:STANDARD
BEGIN:DAYLIGHT
TZOFFSETFROM:-0500
TZOFFSETTO:-0400
TZNAME:EDT
DTSTART:20250309T070000
END:DAYLIGHT
BEGIN:STANDARD
TZOFFSETFROM:-0400
TZOFFSETTO:-0500
TZNAME:EST
DTSTART:20251102T060000
END:STANDARD
BEGIN:DAYLIGHT
TZOFFSETFROM:-0500
TZOFFSETTO:-0400
TZNAME:EDT
DTSTART:20260308T070000
END:DAYLIGHT
BEGIN:STANDARD
TZOFFSETFROM:-0400
TZOFFSETTO:-0500
TZNAME:EST
DTSTART:20261101T060000
END:STANDARD
BEGIN:DAYLIGHT
TZOFFSETFROM:-0500
TZOFFSETTO:-0400
TZNAME:EDT
DTSTART:20270314T070000
END:DAYLIGHT
BEGIN:STANDARD
TZOFFSETFROM:-0400
TZOFFSETTO:-0500
TZNAME:EST
DTSTART:20271107T060000
END:STANDARD
END:VTIMEZONE
BEGIN:VEVENT
DTSTART;TZID=America/New_York:20260217T120000
DTEND;TZID=America/New_York:20260217T170000
DTSTAMP:20260420T234440
CREATED:20260128T154414Z
LAST-MODIFIED:20260128T154414Z
UID:10080350-1771329600-1771347600@thepinestimes.com
SUMMARY:Black Art Exhibit | Black History Month Celebration
DESCRIPTION:Southern Pines Land & Housing Trust invites you to a powerful Black Art Exhibit featuring our very own local artists to celebrate Black History Month from February 17th-27th. The exhibit will be on display in the Administration Building at the West Southern Pines Center offering a collection of Afro history & local Black art that honors the legacy\, creativity\, and resilience of Black history. The exhibit is open from 12pm-5pm\, Monday-Friday\, and while donations at entry are welcomed\, private group showings are available upon request for those who want to experience art that speaks and history that lives. You can explore this inspiring exhibit and find more info by calling 910-813-1654 or visiting splht.org to see stories that matter.
URL:https://thepinestimes.com/event/black-art-exhibit-black-history-month-celebration/2026-02-17/
LOCATION:West Southern Pines Center\, 1250 W. New York Avenue\, Southern Pines\, 28387\, United States
CATEGORIES:Adults,Art/Photography,Arts,Black History Month,Cultural,Donation,Educational,Family,Historical,Hobby/Enthusiast,Senior,Social,Southern Pines Events,Young Adults
END:VEVENT
BEGIN:VEVENT
DTSTART;TZID=America/New_York:20260216T133000
DTEND;TZID=America/New_York:20260216T150000
DTSTAMP:20260420T234440
CREATED:20260201T211701Z
LAST-MODIFIED:20260201T211858Z
UID:10080415-1771248600-1771254000@thepinestimes.com
SUMMARY:Dr. Matt Farina Presents: "Black Soldiers from Civil War to Spanish-American War"
DESCRIPTION:In recognition of America 250 and Black History Month\, Dr. Matt Farina presents “Black Soldiers from Civil War to Spanish-American War” on Monday\, Feb. 16\, 2026\, from 1:30 p.m. to 3:00 p.m. This educational presentation explores the history of African American soldiers\, including those at Petersburg in 1865 and the Battle of San Juan Hill in 1898. Refreshments for the event are provided by Visiting Angels. To ensure you have a spot for this informative session\, please call 910-947-4483 to reserve your seat. \n \n 
URL:https://thepinestimes.com/event/dr-matt-farina-presents-black-soldiers-from-civil-war-to-spanish-american-war/
LOCATION:Moore County Senior Enrichment Center\, 8040 Hwy 15-501\, West End\, NC\, 27376
CATEGORIES:Adults,America 250,Black History Month,Educational,Historical,Hobby/Enthusiast,Lecture,Presentation,Senior,Social,West End Events
ATTACH;FMTTYPE=image/jpeg:https://thepinestimes.com/wp-content/uploads/Moore-County-Historical-Association-Feature.jpg
END:VEVENT
BEGIN:VEVENT
DTSTART;TZID=America/New_York:20250208T150000
DTEND;TZID=America/New_York:20250208T150000
DTSTAMP:20260420T234440
CREATED:20231230T205913Z
LAST-MODIFIED:20250131T213222Z
UID:10026433-1739026800-1739026800@thepinestimes.com
SUMMARY:African American Heritage Committee: Black History Parade of Laurinburg
DESCRIPTION:Join as the African American Heritage Committee of Scotland County presents the 3rd annual Black History Parade in Laurinburg on Saturday\, February 8th at 3:00pm! Route will begin at 3pm at Legion Park\, parade down Main St. and end at I. Ellis Johnson Community Center. \n“We have rich history here in our city and this parade will allow us to highlight the places from which we’ve come and the extraordinary places we’re going! You’ll see a timeline of progress with special guest that are pillars to our community.” \n 
URL:https://thepinestimes.com/event/inaugural-black-history-parade/
LOCATION:Legion Park\, 1103 Atkinson Street\, Laurinburg\, 28352\, United States
CATEGORIES:Adults,Arts,Black History Month,Dance,Educational,Fair/Festival,Family,Historical,Hobby/Enthusiast,Laurinburg,Live Entertainment,Live Music,Parade,Senior,Social
ATTACH;FMTTYPE=image/jpeg:https://thepinestimes.com/wp-content/uploads/AfricanAmericanHeritageFeature.jpg
END:VEVENT
END:VCALENDAR