BEGIN:VCALENDAR
VERSION:2.0
PRODID:-//The Pines Times - ECPv6.15.20//NONSGML v1.0//EN
CALSCALE:GREGORIAN
METHOD:PUBLISH
X-WR-CALNAME:The Pines Times
X-ORIGINAL-URL:https://thepinestimes.com
X-WR-CALDESC:Events for The Pines Times
REFRESH-INTERVAL;VALUE=DURATION:PT1H
X-Robots-Tag:noindex
X-PUBLISHED-TTL:PT1H
BEGIN:VTIMEZONE
TZID:America/New_York
BEGIN:DAYLIGHT
TZOFFSETFROM:-0500
TZOFFSETTO:-0400
TZNAME:EDT
DTSTART:20240310T070000
END:DAYLIGHT
BEGIN:STANDARD
TZOFFSETFROM:-0400
TZOFFSETTO:-0500
TZNAME:EST
DTSTART:20241103T060000
END:STANDARD
BEGIN:DAYLIGHT
TZOFFSETFROM:-0500
TZOFFSETTO:-0400
TZNAME:EDT
DTSTART:20250309T070000
END:DAYLIGHT
BEGIN:STANDARD
TZOFFSETFROM:-0400
TZOFFSETTO:-0500
TZNAME:EST
DTSTART:20251102T060000
END:STANDARD
BEGIN:DAYLIGHT
TZOFFSETFROM:-0500
TZOFFSETTO:-0400
TZNAME:EDT
DTSTART:20260308T070000
END:DAYLIGHT
BEGIN:STANDARD
TZOFFSETFROM:-0400
TZOFFSETTO:-0500
TZNAME:EST
DTSTART:20261101T060000
END:STANDARD
END:VTIMEZONE
BEGIN:VEVENT
DTSTART;TZID=America/New_York:20250526T090000
DTEND;TZID=America/New_York:20250526T235900
DTSTAMP:20260425T185015
CREATED:20240522T164041Z
LAST-MODIFIED:20250519T183023Z
UID:10037167-1748250000-1748303940@thepinestimes.com
SUMMARY:"Ruck Up for the Regiment" Fundraiser
DESCRIPTION:Calling all Ruck Stars to Ruck Up for the Regiment and win prizes this Memorial Day! Special Forces Charitable Trust presents the annual Ruck Up for the Regiment. Join in person to Ruck Up at Workhorse Fitness & Yoga on Monday\, May 26th. In person registration starts at 8am and the Ruck begins at 9am. \nThere is also the option to join the fun virtually from anywhere on your own. Determine a 5K or 10k course that works for you and/or your team\, whether it be outdoor or indoor. All attendees will be given the opportunity to fundraise for the Special Forces Charitable Trust. To register and make a donation\, follow the website event link provided below. \n 
URL:https://thepinestimes.com/event/ruckup-for-the-regiment-fundraiser/
LOCATION:Workhorse Strength and Conditioning\, 5 East Connecticut Ave.\, Southern Pines\, NC\, 28387\, United States
CATEGORIES:Adults,Donation,Fundraiser,Health & Wellness,Hobby/Enthusiast,Live Entertainment,Memorial Day,Social,Southern Pines Events,Veterans,Walk/Run
ATTACH;FMTTYPE=image/jpeg:https://thepinestimes.com/wp-content/uploads/RuckUpFeature.jpg
ORGANIZER;CN="Special Forces Charitable Trust":MAILTO:info@specialforcescharitabletrust.org
END:VEVENT
BEGIN:VEVENT
DTSTART;TZID=America/New_York:20250526T090000
DTEND;TZID=America/New_York:20250526T090000
DTSTAMP:20260425T185015
CREATED:20250524T154848Z
LAST-MODIFIED:20250524T155004Z
UID:10059200-1748250000-1748250000@thepinestimes.com
SUMMARY:Kyle Evans Let It Shine Foundation Annual Fundraiser
DESCRIPTION:Join the Kyle Evans Let It Shine Foundation by taking part in the 6th Annual Memorial Fundraiser Raffle\, running now through June 1st. This special event supports the mission of the Foundation\, a 501(c)(3) nonprofit established to honor the life and legacy of Kyle Evans by bringing hope and healing to Gold Star Kids. Through grief-support memory boxes and holiday light installations\, the Foundation offers comfort to children who have lost a parent in military service—reminding families they are seen\, supported\, and never forgotten. Amazing raffle prizes and newly released t-shirts are available\, so shine and spread the light—your support truly makes a difference! For full details\, donations and to take part in the online raffle\, follow the event website link provided below.
URL:https://thepinestimes.com/event/kyle-evans-let-it-shine-foundation-annual-fundraiser/2025-05-26/
LOCATION:Virtual\, NC\, United States
CATEGORIES:Adults,Donation,Family,Fundraiser,Health & Wellness,Hobby/Enthusiast,HOMEPAGE Featured,Memorial Day,Moore County Events,Out of Town,Raffle
ATTACH;FMTTYPE=image/jpeg:https://thepinestimes.com/wp-content/uploads/KyleEvansLetItShineFoundationFeature.jpg
ORGANIZER;CN="Kyle Evans Let It Shine Foundation":MAILTO:contact@kyleevansletitshine.org
END:VEVENT
BEGIN:VEVENT
DTSTART;TZID=America/New_York:20250525T090000
DTEND;TZID=America/New_York:20250525T090000
DTSTAMP:20260425T185015
CREATED:20250524T154848Z
LAST-MODIFIED:20250524T155004Z
UID:10059199-1748163600-1748163600@thepinestimes.com
SUMMARY:Kyle Evans Let It Shine Foundation Annual Fundraiser
DESCRIPTION:Join the Kyle Evans Let It Shine Foundation by taking part in the 6th Annual Memorial Fundraiser Raffle\, running now through June 1st. This special event supports the mission of the Foundation\, a 501(c)(3) nonprofit established to honor the life and legacy of Kyle Evans by bringing hope and healing to Gold Star Kids. Through grief-support memory boxes and holiday light installations\, the Foundation offers comfort to children who have lost a parent in military service—reminding families they are seen\, supported\, and never forgotten. Amazing raffle prizes and newly released t-shirts are available\, so shine and spread the light—your support truly makes a difference! For full details\, donations and to take part in the online raffle\, follow the event website link provided below.
URL:https://thepinestimes.com/event/kyle-evans-let-it-shine-foundation-annual-fundraiser/2025-05-25/
LOCATION:Virtual\, NC\, United States
CATEGORIES:Adults,Donation,Family,Fundraiser,Health & Wellness,Hobby/Enthusiast,HOMEPAGE Featured,Memorial Day,Moore County Events,Out of Town,Raffle
ATTACH;FMTTYPE=image/jpeg:https://thepinestimes.com/wp-content/uploads/KyleEvansLetItShineFoundationFeature.jpg
ORGANIZER;CN="Kyle Evans Let It Shine Foundation":MAILTO:contact@kyleevansletitshine.org
END:VEVENT
BEGIN:VEVENT
DTSTART;TZID=America/New_York:20250525T080000
DTEND;TZID=America/New_York:20250525T120000
DTSTAMP:20260425T185015
CREATED:20230522T144457Z
LAST-MODIFIED:20250524T001340Z
UID:10012451-1748160000-1748174400@thepinestimes.com
SUMMARY:Memorial Day Video Presentation
DESCRIPTION:The Village Chapel Pinehurst presents the annual Memorial Day Tribute. This special tribute honors our soldiers who have passed. There will be a special video presentation at all services on Sunday\, May 25th.
URL:https://thepinestimes.com/event/memorial-day-service/
LOCATION:The Village Chapel Pinehurst\, 10 Azalea Road\, Pinehurst\, NC\, 28374\, United States
CATEGORIES:Adults,Family,Historical,Live Entertainment,Memorial Day,Movie,Pinehurst Events,Religious/Spiritual,Senior,Social,Veterans
ATTACH;FMTTYPE=image/jpeg:https://thepinestimes.com/wp-content/uploads/VillageChapelFeature.jpg
END:VEVENT
BEGIN:VEVENT
DTSTART;TZID=America/New_York:20250524T123000
DTEND;TZID=America/New_York:20250524T183000
DTSTAMP:20260425T185015
CREATED:20230518T020648Z
LAST-MODIFIED:20250522T221848Z
UID:10012349-1748089800-1748111400@thepinestimes.com
SUMMARY:Southern Pines Pool and Splash Pad Opening
DESCRIPTION:The Southern Pines Pool and Splash Pad will open for the 2025 summer season on Saturday\, May 24th at 12:30pm!  The Splash Pad is free to enjoy. For full details on pool pricing\, follow the link provided below.
URL:https://thepinestimes.com/event/southern-pines-pool-and-splash-pad-opening/
LOCATION:J. Pleasant Hines Park\, 730 S. Henley St.\, Southern Pines\, NC\, 28387\, United States
CATEGORIES:Adults,Children,Family,Health & Wellness,Hobby/Enthusiast,Live Entertainment,Memorial Day,Nature/Outdoors,Senior,Social,Southern Pines Events
ATTACH;FMTTYPE=image/jpeg:https://thepinestimes.com/wp-content/uploads/TownOfSouthernPinesFeature.jpg
END:VEVENT
BEGIN:VEVENT
DTSTART;TZID=America/New_York:20250524T110000
DTEND;TZID=America/New_York:20250524T110000
DTSTAMP:20260425T185015
CREATED:20240522T191023Z
LAST-MODIFIED:20250518T142717Z
UID:10037169-1748084400-1748084400@thepinestimes.com
SUMMARY:Vietnam Veterans of America of Moore County\, Chapter 966: Memorial Day Ceremony
DESCRIPTION:The Vietnam Veterans of America Chapter 966 will host the annual Memorial Day Ceremony on Saturday\, May 25th at 11:00am at the Moore County Veterans Memorial in Carthage. Post 12 presents wreath. \n“The Moore County Veterans Monument is a Memorial consisting of two black granite slabs\, each 3\,000lbs\, on which the names of almost 150 Moore County Veterans killed since America entered WW1\, April 6th\, 1917\, to the present. Completing the monument\, three flag poles surround the centerpiece\, the sculpted figure of an eagle resting atop a smooth stone base. The black granite pedestal of the centerpiece is inscribed with the five branches of the military. The flags flown include the U.S. flag\, the North Carolina flag\, and Prisoner of War (POW) flag. You are invited to attend and honor those who sacrificed so much for our community and country.”
URL:https://thepinestimes.com/event/vietnam-veterans-of-america-of-moore-county-chapter-966-memorial-day-ceremony/
LOCATION:Moore County Veterans Memorial\, Carriage Oaks\,15-501\, Carthage\, NC\, 28327\, United States
CATEGORIES:Adults,Carthage Events,Ceremony,Family,Historical,Memorial Day,Nature/Outdoors,Religious/Spiritual,Senior,Social,Veterans
ATTACH;FMTTYPE=image/jpeg:https://thepinestimes.com/wp-content/uploads/VVAwestendfeature.jpg
END:VEVENT
BEGIN:VEVENT
DTSTART;TZID=America/New_York:20250524T090000
DTEND;TZID=America/New_York:20250524T090000
DTSTAMP:20260425T185015
CREATED:20250524T154848Z
LAST-MODIFIED:20250524T155004Z
UID:10059198-1748077200-1748077200@thepinestimes.com
SUMMARY:Kyle Evans Let It Shine Foundation Annual Fundraiser
DESCRIPTION:Join the Kyle Evans Let It Shine Foundation by taking part in the 6th Annual Memorial Fundraiser Raffle\, running now through June 1st. This special event supports the mission of the Foundation\, a 501(c)(3) nonprofit established to honor the life and legacy of Kyle Evans by bringing hope and healing to Gold Star Kids. Through grief-support memory boxes and holiday light installations\, the Foundation offers comfort to children who have lost a parent in military service—reminding families they are seen\, supported\, and never forgotten. Amazing raffle prizes and newly released t-shirts are available\, so shine and spread the light—your support truly makes a difference! For full details\, donations and to take part in the online raffle\, follow the event website link provided below.
URL:https://thepinestimes.com/event/kyle-evans-let-it-shine-foundation-annual-fundraiser/2025-05-24/
LOCATION:Virtual\, NC\, United States
CATEGORIES:Adults,Donation,Family,Fundraiser,Health & Wellness,Hobby/Enthusiast,HOMEPAGE Featured,Memorial Day,Moore County Events,Out of Town,Raffle
ATTACH;FMTTYPE=image/jpeg:https://thepinestimes.com/wp-content/uploads/KyleEvansLetItShineFoundationFeature.jpg
ORGANIZER;CN="Kyle Evans Let It Shine Foundation":MAILTO:contact@kyleevansletitshine.org
END:VEVENT
BEGIN:VEVENT
DTSTART;TZID=America/New_York:20250523T060000
DTEND;TZID=America/New_York:20250523T110000
DTSTAMP:20260425T185015
CREATED:20230523T140808Z
LAST-MODIFIED:20250507T191404Z
UID:10057641-1747980000-1747998000@thepinestimes.com
SUMMARY:Gold Star Murph
DESCRIPTION:Join for the 10th annual Gold Star Murph Memorial weekend tribute to the brave fallen\, hosted by Southern Pines CrossFi! The event is in support of Gold Star Teens. This is a tradition built on honor\, sacrifice and community. For a decade\, they have gathered together to take on the hero workout “Murph” in memory of Navy SEAL Lt. Michael P. Murphy and all fallen service members who have given the ultimate sacrifice. \nMurphs take place: Thursday\, May 22nd-5:00pm\, 5:45pm and 6:30pm with a toast at 7:30pm | Friday\, May 23rd-6:00am\, 6:45am\, 7:15am\, 8:00am\, 9:15am and 10:00am at Southern Pines CrossFit. Silent Auction + Local Vendors + Sponsorship Opportunities. \nTickets are $50 tickets which includes a donation to the Gold Star Teens. Purchase tickets by May 9th to guarantee shirt at event check in. The event takes place at Southern Pines CrossFit. To make your donation and join\, follow the link provided below. \n 
URL:https://thepinestimes.com/event/gold-star-murph/2025-05-23/
LOCATION:Southern Pines CrossFit\, 610 South Bennett Street\, Southern Pines\, NC\, 28387\, United States
CATEGORIES:Adults,Fundraiser,Health & Wellness,Hobby/Enthusiast,Memorial Day,Social,Southern Pines Events
END:VEVENT
BEGIN:VEVENT
DTSTART;TZID=America/New_York:20250522T170000
DTEND;TZID=America/New_York:20250522T200000
DTSTAMP:20260425T185015
CREATED:20230523T140808Z
LAST-MODIFIED:20250507T191404Z
UID:10057640-1747933200-1747944000@thepinestimes.com
SUMMARY:Gold Star Murph
DESCRIPTION:Join for the 10th annual Gold Star Murph Memorial weekend tribute to the brave fallen\, hosted by Southern Pines CrossFi! The event is in support of Gold Star Teens. This is a tradition built on honor\, sacrifice and community. For a decade\, they have gathered together to take on the hero workout “Murph” in memory of Navy SEAL Lt. Michael P. Murphy and all fallen service members who have given the ultimate sacrifice. \nMurphs take place: Thursday\, May 22nd-5:00pm\, 5:45pm and 6:30pm with a toast at 7:30pm | Friday\, May 23rd-6:00am\, 6:45am\, 7:15am\, 8:00am\, 9:15am and 10:00am at Southern Pines CrossFit. Silent Auction + Local Vendors + Sponsorship Opportunities. \nTickets are $50 tickets which includes a donation to the Gold Star Teens. Purchase tickets by May 9th to guarantee shirt at event check in. The event takes place at Southern Pines CrossFit. To make your donation and join\, follow the link provided below. \n 
URL:https://thepinestimes.com/event/gold-star-murph/2025-05-22/
LOCATION:Southern Pines CrossFit\, 610 South Bennett Street\, Southern Pines\, NC\, 28387\, United States
CATEGORIES:Adults,Fundraiser,Health & Wellness,Hobby/Enthusiast,Memorial Day,Social,Southern Pines Events
END:VEVENT
BEGIN:VEVENT
DTSTART;TZID=America/New_York:20250522T100000
DTEND;TZID=America/New_York:20250522T160000
DTSTAMP:20260425T185015
CREATED:20250518T142055Z
LAST-MODIFIED:20250518T142055Z
UID:10058882-1747908000-1747929600@thepinestimes.com
SUMMARY:Fallen Heroes Memorial
DESCRIPTION:During All-American Week\, May 20th-22nd the Airborne & Special Operations Museum Foundation will host the traveling Fallen Heroes Memorial exhibit in the Museum’s Reflection Garden. This 28-foot wide by 6-foot-tall American flag symbolizes the shape of the flag when draped on a fallen service members casket. It is formed of over 7\,000 dog tags of all those who have fallen in the War on Terror.
URL:https://thepinestimes.com/event/fallen-heroes-memorial/2025-05-22/
LOCATION:U.S. Army Airborne and Special Operations Museum\, 100 Bragg Blvd.\, Fayetteville\, NC\, 28301\, United States
CATEGORIES:Adults,Educational,Exhibits,Family,Fayetteville,Historical,Holiday Events,Memorial Day,Nature/Outdoors,Out of Town,Religious/Spiritual,Senior,Social
ATTACH;FMTTYPE=image/jpeg:https://thepinestimes.com/wp-content/uploads/AirborneMuseumFeature.jpg
END:VEVENT
BEGIN:VEVENT
DTSTART;TZID=America/New_York:20250521T100000
DTEND;TZID=America/New_York:20250521T160000
DTSTAMP:20260425T185015
CREATED:20250518T142055Z
LAST-MODIFIED:20250518T142055Z
UID:10058881-1747821600-1747843200@thepinestimes.com
SUMMARY:Fallen Heroes Memorial
DESCRIPTION:During All-American Week\, May 20th-22nd the Airborne & Special Operations Museum Foundation will host the traveling Fallen Heroes Memorial exhibit in the Museum’s Reflection Garden. This 28-foot wide by 6-foot-tall American flag symbolizes the shape of the flag when draped on a fallen service members casket. It is formed of over 7\,000 dog tags of all those who have fallen in the War on Terror.
URL:https://thepinestimes.com/event/fallen-heroes-memorial/2025-05-21/
LOCATION:U.S. Army Airborne and Special Operations Museum\, 100 Bragg Blvd.\, Fayetteville\, NC\, 28301\, United States
CATEGORIES:Adults,Educational,Exhibits,Family,Fayetteville,Historical,Holiday Events,Memorial Day,Nature/Outdoors,Out of Town,Religious/Spiritual,Senior,Social
ATTACH;FMTTYPE=image/jpeg:https://thepinestimes.com/wp-content/uploads/AirborneMuseumFeature.jpg
END:VEVENT
BEGIN:VEVENT
DTSTART;TZID=America/New_York:20250520T100000
DTEND;TZID=America/New_York:20250520T160000
DTSTAMP:20260425T185015
CREATED:20250518T142055Z
LAST-MODIFIED:20250518T142055Z
UID:10058880-1747735200-1747756800@thepinestimes.com
SUMMARY:Fallen Heroes Memorial
DESCRIPTION:During All-American Week\, May 20th-22nd the Airborne & Special Operations Museum Foundation will host the traveling Fallen Heroes Memorial exhibit in the Museum’s Reflection Garden. This 28-foot wide by 6-foot-tall American flag symbolizes the shape of the flag when draped on a fallen service members casket. It is formed of over 7\,000 dog tags of all those who have fallen in the War on Terror.
URL:https://thepinestimes.com/event/fallen-heroes-memorial/2025-05-20/
LOCATION:U.S. Army Airborne and Special Operations Museum\, 100 Bragg Blvd.\, Fayetteville\, NC\, 28301\, United States
CATEGORIES:Adults,Educational,Exhibits,Family,Fayetteville,Historical,Holiday Events,Memorial Day,Nature/Outdoors,Out of Town,Religious/Spiritual,Senior,Social
ATTACH;FMTTYPE=image/jpeg:https://thepinestimes.com/wp-content/uploads/AirborneMuseumFeature.jpg
END:VEVENT
END:VCALENDAR