BEGIN:VCALENDAR
VERSION:2.0
PRODID:-//The Pines Times - ECPv6.15.20//NONSGML v1.0//EN
CALSCALE:GREGORIAN
METHOD:PUBLISH
X-ORIGINAL-URL:https://thepinestimes.com
X-WR-CALDESC:Events for The Pines Times
REFRESH-INTERVAL;VALUE=DURATION:PT1H
X-Robots-Tag:noindex
X-PUBLISHED-TTL:PT1H
BEGIN:VTIMEZONE
TZID:America/New_York
BEGIN:DAYLIGHT
TZOFFSETFROM:-0500
TZOFFSETTO:-0400
TZNAME:EDT
DTSTART:20240310T070000
END:DAYLIGHT
BEGIN:STANDARD
TZOFFSETFROM:-0400
TZOFFSETTO:-0500
TZNAME:EST
DTSTART:20241103T060000
END:STANDARD
BEGIN:DAYLIGHT
TZOFFSETFROM:-0500
TZOFFSETTO:-0400
TZNAME:EDT
DTSTART:20250309T070000
END:DAYLIGHT
BEGIN:STANDARD
TZOFFSETFROM:-0400
TZOFFSETTO:-0500
TZNAME:EST
DTSTART:20251102T060000
END:STANDARD
BEGIN:DAYLIGHT
TZOFFSETFROM:-0500
TZOFFSETTO:-0400
TZNAME:EDT
DTSTART:20260308T070000
END:DAYLIGHT
BEGIN:STANDARD
TZOFFSETFROM:-0400
TZOFFSETTO:-0500
TZNAME:EST
DTSTART:20261101T060000
END:STANDARD
END:VTIMEZONE
BEGIN:VEVENT
DTSTART;TZID=America/New_York:20251025T180000
DTEND;TZID=America/New_York:20251025T210000
DTSTAMP:20260425T184842
CREATED:20231011T190818Z
LAST-MODIFIED:20251001T181648Z
UID:10021502-1761415200-1761426000@thepinestimes.com
SUMMARY:Pinehurst Oktoberfest
DESCRIPTION:The Village of Pinehurst presents the annual Oktoberfest celebration at Tufts Memorial Park on Saturday\, October 25th. \nThe evening kicks off with Kinderfest 4:00pm-6:00pm\, a fun festival for children and families to enjoy. There will be music\, crafts\, a bubble artist and Halloween fun. \nFollowing Kinderfest\, traditional Oktoberfest activities will take place 6:00pm-9:00pm. Enjoy German music\, food and beverages. Picnic baskets are allowed; however\, outside alcoholic beverages are not permitted. \n 
URL:https://thepinestimes.com/event/oktoberfest/
LOCATION:James W Tufts Memorial Park\, 1 Village Green Rd.\, Pinehurst\, NC\, 28374
CATEGORIES:Adult Connections,Adults,Beer and Wine,Fair/Festival,Fall,Fall in the Sandhills,Family,Food,Hobby/Enthusiast,Music,Oktoberfest,Pinehurst Events,Social
ATTACH;FMTTYPE=image/jpeg:https://thepinestimes.com/wp-content/uploads/PinehurstOktoberfestFeature.jpg
END:VEVENT
BEGIN:VEVENT
DTSTART;TZID=America/New_York:20251021T180000
DTEND;TZID=America/New_York:20251021T203000
DTSTAMP:20260425T184842
CREATED:20251018T140017Z
LAST-MODIFIED:20251018T140017Z
UID:10073087-1761069600-1761078600@thepinestimes.com
SUMMARY:Oktoberfest Celebration
DESCRIPTION:Come out to Happenings on Elm in Lumberton this Tuesday\, October 21st\, from 6:00pm-8:30pm\, for their second annual Oktoberfest celebration! Enjoy German food and beers. The guest speaker will be\, Paul Casey\, owner of French Broad River Beer. Register by texting 910-734-0668.
URL:https://thepinestimes.com/event/oktoberfest-celebration/
LOCATION:Happenings on Elm\, 605 N Elm St.\, Lumberton\, 28358\, United States
CATEGORIES:Adult Connections,Adults,Beer and Wine,Fall,Fall in the Sandhills,Food,Hobby/Enthusiast,Lumberton,Oktoberfest,Out of Town,Social
ATTACH;FMTTYPE=image/jpeg:https://thepinestimes.com/wp-content/uploads/HappeningsOnElmFeature.jpg
ORGANIZER;CN="Happenings on Elm":MAILTO:abmfnp@gmail.com
END:VEVENT
BEGIN:VEVENT
DTSTART;TZID=America/New_York:20251018T120000
DTEND;TZID=America/New_York:20251018T180000
DTSTAMP:20260425T184842
CREATED:20240910T171720Z
LAST-MODIFIED:20251011T203831Z
UID:10044663-1760788800-1760810400@thepinestimes.com
SUMMARY:14th Annual Oktoberfest Celebration
DESCRIPTION:Railhouse Brewery in Aberdeen is hosting their 14th annual Oktoberfest Celebration on Saturday\, October 18th! Enjoy a day of food\, brews\, music and games! There will also be a special menu with brats featured. Game sign-ups begin at 12pm\, with events kicking off at 2pm. Be sure to sign up early for contests like stein-holding\, stein-carrying\, pretzel-eating and Hammerschlagen. Each game is just $4. The MC will explain the rules\, and there will be prizes for the winners. Dress up\, bring friends\, and join the fun—Prost. Register for games through the event website link provided below. \n 
URL:https://thepinestimes.com/event/14th-annual-oktoberfest-celebration/
LOCATION:Railhouse Brewery\, 105 E South St Unit C\, Aberdeen\, NC\, 28315\, United States
CATEGORIES:Aberdeen Events,Adult Connections,Adults,Beer and Wine,Fall,Fall in the Sandhills,Food,Games,Hobby/Enthusiast,Music,Night Life,Oktoberfest,Social,Sports
ORGANIZER;CN="Railhouse Brewery":MAILTO:manager@railhousebrewery.com
END:VEVENT
BEGIN:VEVENT
DTSTART;TZID=America/New_York:20251004T160000
DTEND;TZID=America/New_York:20251004T200000
DTSTAMP:20260425T184842
CREATED:20250729T133425Z
LAST-MODIFIED:20250729T133425Z
UID:10063835-1759593600-1759608000@thepinestimes.com
SUMMARY:High School Oktoberfest Fundraiser
DESCRIPTION:Join Father Vincent Capodanno High School for their annual Oktoberfest\, a family-fun event for the entire community! Enjoy brats\, pretzels\, beer\, music\, and games\, including a corn hole tournament ($25/team). Dinner plates\, featuring brat\, roll\, sauerkraut\, potato salad\, spaetzle\, and bottled water\, are available for $20 pre-purchase or $25 at the door\, with curbside pickup options. The festivities take place at the outdoor venue at Capodanno High School on Saturday\, October 4th\, from 4pm-8pm. Don’t forget to put on your dirndls or lederhosen and join the fun! This event is a fundraiser to support FVCHS Grunts First Fund.
URL:https://thepinestimes.com/event/high-school-oktoberfest-fundraiser/
LOCATION:Father Capodanno High School\, 4364 US Hwy 1 N\, Vass\, NC\, 28394\, United States
CATEGORIES:Adults,Beer and Wine,Children,Donation,Fair/Festival,Fall,Fall in the Sandhills,Family,Food,Fundraiser,Games,Live Entertainment,Live Music,Oktoberfest,School,Social,Vass Events
ATTACH;FMTTYPE=image/jpeg:https://thepinestimes.com/wp-content/uploads/OktoberfestFeature.jpg
END:VEVENT
BEGIN:VEVENT
DTSTART;TZID=America/New_York:20251004T110000
DTEND;TZID=America/New_York:20251004T110000
DTSTAMP:20260425T184842
CREATED:20250910T212832Z
LAST-MODIFIED:20250910T213101Z
UID:10068638-1759575600-1759575600@thepinestimes.com
SUMMARY:Oktoberfest Celebration
DESCRIPTION:Prost to tradition and good times! Come out for Southern Pines Growler Company’s annual Oktoberfest Celebration on Saturday\, September 20th & 27th and October 4th! Enjoy five German Biers tap and 2-3 American Fest Biers. Food trucks will be on site serving brats\, pretzels  and sides all day. Test your strength in the Stein holding competition (men & women).
URL:https://thepinestimes.com/event/oktoberfest-celebration-3/2025-10-04/
LOCATION:Southern Pines Growler Company\, 160 W New York Ave\, Southern Pines\, NC\, 28387\, United States
CATEGORIES:Adult Connections,Adults,Beer and Wine,Fall,Fall in the Sandhills,Food,Games,Oktoberfest,Social,Southern Pines Events
ATTACH;FMTTYPE=image/jpeg:https://thepinestimes.com/wp-content/uploads/Southern-Pines-Growler-Company-Feature.jpg
END:VEVENT
BEGIN:VEVENT
DTSTART;TZID=America/New_York:20250927T170000
DTEND;TZID=America/New_York:20250927T210000
DTSTAMP:20260425T184843
CREATED:20250903T175112Z
LAST-MODIFIED:20250903T175112Z
UID:10067542-1758992400-1759006800@thepinestimes.com
SUMMARY:7th Annual Pecktoberfest
DESCRIPTION:The 7th Annual Pecktoberfest returns to Segra Stadium on Saturday\, September 27th\, 5pm–9pm! Sample 50+ beers and ciders from 25+ breweries with unlimited tastings included. VIP tickets feature early entry\, a two-hour buffet\, and a souvenir glass. Tickets start at $50 ($65 after Sept. 22) and VIP is $80\, limited to 200. For full details and ticket purchases\, follow the event website link provided below.
URL:https://thepinestimes.com/event/7th-annual-pecktoberfest/
LOCATION:Segra Stadium\, 460 Hay St.\, Fayetteville\, 28301\, United States
CATEGORIES:Adult Connections,Adults,Beer and Wine,Fayetteville,Hobby/Enthusiast,Oktoberfest,Out of Town,Social,Tasting
ATTACH;FMTTYPE=image/jpeg:https://thepinestimes.com/wp-content/uploads/FayettevilleWoodpeckersFeature.jpg
ORGANIZER;CN="Fayetteville Woodpeckers":MAILTO:woodpeckers@astros.com
END:VEVENT
BEGIN:VEVENT
DTSTART;TZID=America/New_York:20250927T110000
DTEND;TZID=America/New_York:20250927T110000
DTSTAMP:20260425T184843
CREATED:20250910T212832Z
LAST-MODIFIED:20250910T213101Z
UID:10068637-1758970800-1758970800@thepinestimes.com
SUMMARY:Oktoberfest Celebration
DESCRIPTION:Prost to tradition and good times! Come out for Southern Pines Growler Company’s annual Oktoberfest Celebration on Saturday\, September 20th & 27th and October 4th! Enjoy five German Biers tap and 2-3 American Fest Biers. Food trucks will be on site serving brats\, pretzels  and sides all day. Test your strength in the Stein holding competition (men & women).
URL:https://thepinestimes.com/event/oktoberfest-celebration-3/2025-09-27/
LOCATION:Southern Pines Growler Company\, 160 W New York Ave\, Southern Pines\, NC\, 28387\, United States
CATEGORIES:Adult Connections,Adults,Beer and Wine,Fall,Fall in the Sandhills,Food,Games,Oktoberfest,Social,Southern Pines Events
ATTACH;FMTTYPE=image/jpeg:https://thepinestimes.com/wp-content/uploads/Southern-Pines-Growler-Company-Feature.jpg
END:VEVENT
BEGIN:VEVENT
DTSTART;TZID=America/New_York:20250920T110000
DTEND;TZID=America/New_York:20250920T110000
DTSTAMP:20260425T184843
CREATED:20250910T212832Z
LAST-MODIFIED:20250910T213101Z
UID:10042572-1758366000-1758366000@thepinestimes.com
SUMMARY:Oktoberfest Celebration
DESCRIPTION:Prost to tradition and good times! Come out for Southern Pines Growler Company’s annual Oktoberfest Celebration on Saturday\, September 20th & 27th and October 4th! Enjoy five German Biers tap and 2-3 American Fest Biers. Food trucks will be on site serving brats\, pretzels  and sides all day. Test your strength in the Stein holding competition (men & women).
URL:https://thepinestimes.com/event/oktoberfest-celebration-3/2025-09-20/
LOCATION:Southern Pines Growler Company\, 160 W New York Ave\, Southern Pines\, NC\, 28387\, United States
CATEGORIES:Adult Connections,Adults,Beer and Wine,Fall,Fall in the Sandhills,Food,Games,Oktoberfest,Social,Southern Pines Events
ATTACH;FMTTYPE=image/jpeg:https://thepinestimes.com/wp-content/uploads/Southern-Pines-Growler-Company-Feature.jpg
END:VEVENT
END:VCALENDAR