BEGIN:VCALENDAR
VERSION:2.0
PRODID:-//The Pines Times - ECPv6.15.20//NONSGML v1.0//EN
CALSCALE:GREGORIAN
METHOD:PUBLISH
X-WR-CALNAME:The Pines Times
X-ORIGINAL-URL:https://thepinestimes.com
X-WR-CALDESC:Events for The Pines Times
REFRESH-INTERVAL;VALUE=DURATION:PT1H
X-Robots-Tag:noindex
X-PUBLISHED-TTL:PT1H
BEGIN:VTIMEZONE
TZID:America/New_York
BEGIN:DAYLIGHT
TZOFFSETFROM:-0500
TZOFFSETTO:-0400
TZNAME:EDT
DTSTART:20250309T070000
END:DAYLIGHT
BEGIN:STANDARD
TZOFFSETFROM:-0400
TZOFFSETTO:-0500
TZNAME:EST
DTSTART:20251102T060000
END:STANDARD
BEGIN:DAYLIGHT
TZOFFSETFROM:-0500
TZOFFSETTO:-0400
TZNAME:EDT
DTSTART:20260308T070000
END:DAYLIGHT
BEGIN:STANDARD
TZOFFSETFROM:-0400
TZOFFSETTO:-0500
TZNAME:EST
DTSTART:20261101T060000
END:STANDARD
BEGIN:DAYLIGHT
TZOFFSETFROM:-0500
TZOFFSETTO:-0400
TZNAME:EDT
DTSTART:20270314T070000
END:DAYLIGHT
BEGIN:STANDARD
TZOFFSETFROM:-0400
TZOFFSETTO:-0500
TZNAME:EST
DTSTART:20271107T060000
END:STANDARD
END:VTIMEZONE
BEGIN:VEVENT
DTSTART;TZID=America/New_York:20260501T200000
DTEND;TZID=America/New_York:20260501T210000
DTSTAMP:20260424T185007
CREATED:20230106T142836Z
LAST-MODIFIED:20260413T123647Z
UID:10007318-1777665600-1777669200@thepinestimes.com
SUMMARY:Moonlight Hike (All Ages)
DESCRIPTION:Discover nature by moonlight! All ages are invited for a Moonlight Hike on Friday\, May 1st\, from 8PM-9PM. Enjoy a ranger-led tour through Weymouth Woods Sandhills Nature Preserve. This event is free and open to the public. Be sure to bring a flashlight or headlamp.
URL:https://thepinestimes.com/event/moonlight-hike/
LOCATION:Weymouth Woods-Sandhills Nature Preserve\, 1024 Fort Bragg Rd\, Southern Pines\, NC\, 28387\, United States
CATEGORIES:Adults,Children,Educational,Fall,Family,Health & Wellness,Hike,Hobby/Enthusiast,Nature/Outdoors,Piney's Kids,Piney's Tiny's,Senior,Social,Southern Pines Events,Teen Activities,Tours,Valentine's Day,Walk/Run,Young Adults
ATTACH;FMTTYPE=image/jpeg:https://thepinestimes.com/wp-content/uploads/SouthernPinesParksAndRecreationFeature.jpg
ORGANIZER;CN="Southern Pines Parks and Recreation":MAILTO:bsampson@southernpines.net
END:VEVENT
BEGIN:VEVENT
DTSTART;TZID=America/New_York:20260514T173000
DTEND;TZID=America/New_York:20260514T210000
DTSTAMP:20260424T185007
CREATED:20231103T222615Z
LAST-MODIFIED:20260406T122437Z
UID:10078545-1778779800-1778792400@thepinestimes.com
SUMMARY:Hot Glass Cold Beer
DESCRIPTION:Join as the talented artists at Starworks Glass put on a fiery demonstration! Hot Glass Cold Beer is a monthly glass demonstration that runs September-May with special guest artists\, live music\, rotating food trucks\, and beer & wine. This is a family friendly event for all ages! \n\nGlass Demonstration at 5:30PM (about 90 minutes) \nLive Music by Rusted Luck at 7PM \nFood Truck on site 5PM-8PM \n\n100% of proceeds benefit Starworks\, a 501(c)(3) nonprofit organization. NEW Pay What You Can Pricing with a suggested donation of $5+. For full details and online ticket purchases\, follow the website event link provided below. \n \n  \n 
URL:https://thepinestimes.com/event/hot-glass-cold-beer/2026-05-14/
LOCATION:Exhibition Gallery at Starworks\, 100 Russell Dr\, Star\, NC\, 27356\, United States
CATEGORIES:Adults,Beer and Wine,Crafts,Educational,Exhibits,Family,Food,Hobby/Enthusiast,Live Entertainment,Social,Star,Valentine's Day,Young Adults
ATTACH;FMTTYPE=image/jpeg:https://thepinestimes.com/wp-content/uploads/StarworksFeature.jpg
ORGANIZER;CN="Starworks":MAILTO:communications@starworksnc.org
END:VEVENT
END:VCALENDAR