BEGIN:VCALENDAR
VERSION:2.0
PRODID:-//The Pines Times - ECPv6.15.20//NONSGML v1.0//EN
CALSCALE:GREGORIAN
METHOD:PUBLISH
X-ORIGINAL-URL:https://thepinestimes.com
X-WR-CALDESC:Events for The Pines Times
REFRESH-INTERVAL;VALUE=DURATION:PT1H
X-Robots-Tag:noindex
X-PUBLISHED-TTL:PT1H
BEGIN:VTIMEZONE
TZID:America/New_York
BEGIN:DAYLIGHT
TZOFFSETFROM:-0500
TZOFFSETTO:-0400
TZNAME:EDT
DTSTART:20240310T070000
END:DAYLIGHT
BEGIN:STANDARD
TZOFFSETFROM:-0400
TZOFFSETTO:-0500
TZNAME:EST
DTSTART:20241103T060000
END:STANDARD
BEGIN:DAYLIGHT
TZOFFSETFROM:-0500
TZOFFSETTO:-0400
TZNAME:EDT
DTSTART:20250309T070000
END:DAYLIGHT
BEGIN:STANDARD
TZOFFSETFROM:-0400
TZOFFSETTO:-0500
TZNAME:EST
DTSTART:20251102T060000
END:STANDARD
BEGIN:DAYLIGHT
TZOFFSETFROM:-0500
TZOFFSETTO:-0400
TZNAME:EDT
DTSTART:20260308T070000
END:DAYLIGHT
BEGIN:STANDARD
TZOFFSETFROM:-0400
TZOFFSETTO:-0500
TZNAME:EST
DTSTART:20261101T060000
END:STANDARD
BEGIN:DAYLIGHT
TZOFFSETFROM:-0500
TZOFFSETTO:-0400
TZNAME:EDT
DTSTART:20270314T070000
END:DAYLIGHT
BEGIN:STANDARD
TZOFFSETFROM:-0400
TZOFFSETTO:-0500
TZNAME:EST
DTSTART:20271107T060000
END:STANDARD
END:VTIMEZONE
BEGIN:VEVENT
DTSTART;TZID=America/New_York:20260401T150000
DTEND;TZID=America/New_York:20260401T160000
DTSTAMP:20260420T145533
CREATED:20260330T131603Z
LAST-MODIFIED:20260330T131700Z
UID:10085683-1775055600-1775059200@thepinestimes.com
SUMMARY:Veteran's Farm Open House
DESCRIPTION:The Veteran’s Farm of North Carolina is hosting an Open House on Wednesday\, April 1st\, from 3:00PM-4:00PM. Tour the farm\, meet the teachers and staff\, and learn more about the educational programs offered. It is a chance to ask questions and see firsthand how the farm helps participants find their purpose through agricultural training. Those interested in attending should RSVP by emailing info@vfnc.org or by calling or texting 919-721-2039.
URL:https://thepinestimes.com/event/veterans-farm-open-house/
LOCATION:The Veteran’s Farm of NC\, Inc.\, 160 Brookstone Dr.\, Cameron\, 28326\, United States
CATEGORIES:Adults,Cameron-Harnett County,Educational,Farm Event,Military,Open House,Social,Tours,Veterans
ATTACH;FMTTYPE=image/jpeg:https://thepinestimes.com/wp-content/uploads/VeteransFarmOfNCFeature.jpg
ORGANIZER;CN="The Veteran's Farm of NC%2C Inc.":MAILTO:info@vfnc.org
END:VEVENT
BEGIN:VEVENT
DTSTART;TZID=America/New_York:20260321T100000
DTEND;TZID=America/New_York:20260321T160000
DTSTAMP:20260420T145533
CREATED:20230825T155339Z
LAST-MODIFIED:20260213T160043Z
UID:10018429-1774087200-1774108800@thepinestimes.com
SUMMARY:Festival D’Avion 2026
DESCRIPTION:The Festival D’Avion is a Celebration of Freedom and Flight at the Moore County Airport in Carthage\, N.C.\, located just outside Pinehurst. Marking its seventh year\, the Festival D’Avion features classic and military aircraft displays\, flyovers\, precision jump teams\, sightseeing tours\, classic car displays\, a “Junior Pilot” KidsZone\, local vendors\, food and beverage options\, the largest Candy giveaway in Moore County and fun for the entire family! \nMark your calendar for Saturday\, March 21st! Schedule Of Events (Schedule Subject To Change) \n10:00am- Festival D’Avion Gates Open \n10:00am-4:00pm- Static Aircraft Displays\, Classic Car Displays\, Kids Zone\, DJ Music\, Food Trucks\, and Military and Vendor Displays \n11:00am-2:00pm- Amelia Earhart Pavilion open for lunch VIP (Wristband Required for Entry). \n12:30pm- Opening Ceremonies featuring the 82nd Division All American Chorus\, Bullseye Flight Team Flyover\, and the Children of Fallen Heroes Precision Jump Team\, Presentation of Colors from Civil Air Patrol. \n12:35pm- Golden Knights Precision Jump Team Demonstration \n2:00pm-4:00pm- Children of Fallen Heroes Precision Jump Team – Multiple Jumps! \n4:00pm- Aircraft Flyout \nAmelia Earhart Pavilion\nDo you want the “VIP Experience” during the Festival D’Avion? Look no further than the “Amelia Earhart Pavilion” VIP Ticket that includes a barbecue lunch of brisket\, pulled pork\, chicken\, and sides\, VIP Parking plus access to a cash bar on Saturday. It’s a true “first class” way to experience the Festival D’Avion! \nFor full details and online ticket purchases\, CLICK HERE. \n \n  \n  \n 
URL:https://thepinestimes.com/event/festival-davion-2026/
LOCATION:Moore County Airport SOP\, 7825 Aviation Drive\, Carthage\, NC\, 28327\, United States
CATEGORIES:Adults,Car Show/Motorcycle Show/Cruise In,Concert,Demonstrations,Exhibits,Fair/Festival,Fall in the Sandhills,Family,Finding Santa,Food,Games,Hobby/Enthusiast,HOMEPAGE Featured,Live Entertainment,Military,Moore County Events,Music,Nature/Outdoors,Piney's Kids,Piney's Tiny's,Senior,Social,Southern Pines Events,Teen Activities,Tours,Veterans,Young Adults
ATTACH;FMTTYPE=image/jpeg:https://thepinestimes.com/wp-content/uploads/FestivalDavionFeature1.jpg
END:VEVENT
BEGIN:VEVENT
DTSTART;TZID=America/New_York:20251115T120000
DTEND;TZID=America/New_York:20251115T180000
DTSTAMP:20260420T145533
CREATED:20251106T155434Z
LAST-MODIFIED:20251107T204419Z
UID:10074935-1763208000-1763229600@thepinestimes.com
SUMMARY:"Fall In 4 The Fallen Fall Music Festival" Fundraiser to Benefit Wounded Warrior Project
DESCRIPTION:“Don’t Talk About it; Be RealA Bout It!” The Farm presents the “Fall In For The Fallen Fall Music Festival” Fundraiser to Benefit Wounded Warrior Project takes place on November 14th-16th at the Moore County Agricultural Fair Grounds in Carthage. Join to honor those who have given the ultimate sacrifice for our country and freedom every day and night! There will be live music\, special guests\, bounce houses\, local first responders there for entertainment for the children on the 15th and a weekend filled with music and more. Refer to the social media event link provided below for additional information.\n \n  \n  \n 
URL:https://thepinestimes.com/event/fall-in-for-the-fallen-fall-music-festival-fundraiser-to-benefit-wounded-warrior-project/
LOCATION:Moore County Agricultural Fairgrounds\, 3699 US Hwy 15/501\, Carthage\, NC\, 28327\, United States
CATEGORIES:Adults,Carthage Events,Children,Donation,Family,Games,Live Entertainment,Military,Music,Piney's Kids,Senior,Social,Veterans,Veterans Day,Young Adults
ATTACH;FMTTYPE=image/jpeg:https://thepinestimes.com/wp-content/uploads/FallIn4TheFallenFeature.jpg
END:VEVENT
BEGIN:VEVENT
DTSTART;TZID=America/New_York:20251109T120000
DTEND;TZID=America/New_York:20251109T170000
DTSTAMP:20260420T145533
CREATED:20241102T001530Z
LAST-MODIFIED:20251103T164805Z
UID:10074790-1762689600-1762707600@thepinestimes.com
SUMMARY:"Freedom at the Rock" Veterans Weekend Celebration 2025
DESCRIPTION:Get ready for the annual “Freedom at the Rock” Veterans Weekend Celebration at Rockingham Dragway from November 7th-9th\, featuring non-stop racing action\, car shows\, and a massive audio battle! This exciting weekend includes a $10\,000 to Win Super Pro race on Saturday and Sunday\, plus a flyover and parachute jump to kick off Saturday’s events. Best of all\, Veterans\, Active Military\, and First Responders get free track gate admission for the entire weekend! \nMark your calendars!\nNov 7th: Test & Tune\nNov 8th-9th: Bracket Race\nNov 8th-9th: Ruckus and Chill\nNov 8th: Car Show\, Flyover\, Parachute Jump \nMore information can be found through the event website link provided below. \n \n 
URL:https://thepinestimes.com/event/freedom-at-the-rock-veterans-weekend-celebration/2025-11-09/
LOCATION:Rockingham Dragway\, 2153 N US Hwy 1\, Rockingham\, NC\, 28379\, United States
CATEGORIES:Adults,Car Show/Motorcycle Show/Cruise In,Exhibits,Family,Food,Games,Hobby/Enthusiast,Holiday Events,Live Entertainment,Military,Out of Town,Racing,Rockingham,Social,Sports,Veterans,Veterans Day,Young Adults
ATTACH;FMTTYPE=image/jpeg:https://thepinestimes.com/wp-content/uploads/RockinghamDragwayFeature.jpg
END:VEVENT
BEGIN:VEVENT
DTSTART;TZID=America/New_York:20251108T140000
DTEND;TZID=America/New_York:20251108T140000
DTSTAMP:20260420T145533
CREATED:20241005T000913Z
LAST-MODIFIED:20251103T202439Z
UID:10046162-1762610400-1762610400@thepinestimes.com
SUMMARY:Seven Lakes Veterans Parade 2025
DESCRIPTION:Join the community for the Seven Lakes Veterans Parade this Saturday\, November 8th\, starting at 2:00pm! The parade features our veterans\, unique floats\, golf carts\, classic cars\, dancers\, horses\, fire trucks\, Uncle Sam\, candy and more. \nImmediately following the parade\, stick around for a lively celebration at Sandhills Winery\, where the Grey Abbey Band will play three hours of classic rock\, and food trucks will be on site. Remember\, all veterans receive free beer as a thank you on this day at Sandhills Winery. \n \n 
URL:https://thepinestimes.com/event/seven-lakes-veterans-parade/
LOCATION:Seven Lakes Veterans Day Parade\, Seven Lakes Dr.\, West End\, NC\, 27376\, United States
CATEGORIES:Adults,Children,Family,Historical,Live Entertainment,Military,Nature/Outdoors,Parade,Piney's Kids,Senior,Seven Lakes Events,Social,Teen Activities,Veterans,Veterans Day,West End Events,Young Adults
END:VEVENT
BEGIN:VEVENT
DTSTART;TZID=America/New_York:20251108T110000
DTEND;TZID=America/New_York:20251108T110000
DTSTAMP:20260420T145533
CREATED:20251102T152509Z
LAST-MODIFIED:20251102T152555Z
UID:10074780-1762599600-1762599600@thepinestimes.com
SUMMARY:VFW Post 4203: Veterans Day Ceremony
DESCRIPTION:VFW Post 4203 along with American Legion Post 147 ans Amvets Post 316 is holding a Ceremony at the Veterans Memorial Park at 11:00am. After the Ceremony Lunch will be served at Post 4203. Then head to Hamlet for the Veterans day parade starting at 2:00pm. \n \n 
URL:https://thepinestimes.com/event/vfw-post-4203-veterans-day-ceremony/
LOCATION:VFW Post 4203-Rockingham\, 106 Old River Road\, Rockingham\, NC\, 28379\, United States
CATEGORIES:Adults,Ceremony,Family,Food,Historical,Military,Religious/Spiritual,Senior,Social,Veterans,Veterans Day
ATTACH;FMTTYPE=image/jpeg:https://thepinestimes.com/wp-content/uploads/VFWRockinghamFeature.jpg
ORGANIZER;CN="VFW Post 4203-Rockingham":MAILTO:vfwpost4203@gmail.com
END:VEVENT
BEGIN:VEVENT
DTSTART;TZID=America/New_York:20251108T100000
DTEND;TZID=America/New_York:20251108T170000
DTSTAMP:20260420T145533
CREATED:20241102T001530Z
LAST-MODIFIED:20251103T164805Z
UID:10074789-1762596000-1762621200@thepinestimes.com
SUMMARY:"Freedom at the Rock" Veterans Weekend Celebration 2025
DESCRIPTION:Get ready for the annual “Freedom at the Rock” Veterans Weekend Celebration at Rockingham Dragway from November 7th-9th\, featuring non-stop racing action\, car shows\, and a massive audio battle! This exciting weekend includes a $10\,000 to Win Super Pro race on Saturday and Sunday\, plus a flyover and parachute jump to kick off Saturday’s events. Best of all\, Veterans\, Active Military\, and First Responders get free track gate admission for the entire weekend! \nMark your calendars!\nNov 7th: Test & Tune\nNov 8th-9th: Bracket Race\nNov 8th-9th: Ruckus and Chill\nNov 8th: Car Show\, Flyover\, Parachute Jump \nMore information can be found through the event website link provided below. \n \n 
URL:https://thepinestimes.com/event/freedom-at-the-rock-veterans-weekend-celebration/2025-11-08/
LOCATION:Rockingham Dragway\, 2153 N US Hwy 1\, Rockingham\, NC\, 28379\, United States
CATEGORIES:Adults,Car Show/Motorcycle Show/Cruise In,Exhibits,Family,Food,Games,Hobby/Enthusiast,Holiday Events,Live Entertainment,Military,Out of Town,Racing,Rockingham,Social,Sports,Veterans,Veterans Day,Young Adults
ATTACH;FMTTYPE=image/jpeg:https://thepinestimes.com/wp-content/uploads/RockinghamDragwayFeature.jpg
END:VEVENT
BEGIN:VEVENT
DTSTART;TZID=America/New_York:20251108T093000
DTEND;TZID=America/New_York:20251108T103000
DTSTAMP:20260420T145533
CREATED:20231003T145609Z
LAST-MODIFIED:20251103T183609Z
UID:10021260-1762594200-1762597800@thepinestimes.com
SUMMARY:Southern Pines Veterans Parade 2025
DESCRIPTION:“Support Our Troops\, Honor Our Veterans\, Strengthen Our Community.” \nPlease join for the 13th Annual Southern Pines Veterans Parade in Downtown Southern Pines on Saturday\, November 8th! The annual parade is a chance for us to come together in celebration of our Veterans\, troops and their families. Opening remarks will begin at 9:30am\, the All Veterans Group will land at 9:45am\, the local Veterans Motorcycle club will begin their Rolling Thunder 9:50am\, Sovereign Aerospace’s Sandhills Fliers will be overhead at 10:00am sharp as the Southern Pines Police Department leads out the parade. \nCome out and enjoy community and patriotism. Brought to you by Sandhills Veterans Festival. \n \n 
URL:https://thepinestimes.com/event/13th-annual-southern-pines-veterans-parade/
LOCATION:Downtown Southern Pines\, Southern Pines\, NC\, United States
CATEGORIES:Adults,Family,Golden Age,Historical,Hobby/Enthusiast,HOMEPAGE Featured,Live Entertainment,Military,Moore County Events,Nature/Outdoors,Parade,Senior,Social,Southern Pines Events,Veterans,Veterans Day
ATTACH;FMTTYPE=image/jpeg:https://thepinestimes.com/wp-content/uploads/SandhillsVeteransFestivalFeature.jpg
END:VEVENT
BEGIN:VEVENT
DTSTART;TZID=America/New_York:20251108T090000
DTEND;TZID=America/New_York:20251108T150000
DTSTAMP:20260420T145533
CREATED:20251028T123105Z
LAST-MODIFIED:20251028T123105Z
UID:10073353-1762592400-1762614000@thepinestimes.com
SUMMARY:Wreaths Across America Car wash Fundraiser
DESCRIPTION:Car Wash for a Cause! Join om Saturday\, November 8th\, from 9am-3pm at Advance Auto Parts (1804 N Sandhills Blvd\, Aberdeen) for a Car Wash Fundraiser supporting Wreaths Across America. All proceeds will go toward purchasing wreaths to honor and remember our local veterans this December. Come out\, get your car shining\, and support a great cause! \n 
URL:https://thepinestimes.com/event/wreaths-across-america-car-wash-fundraiser/
LOCATION:Advance Auto Parts\, 1804 N Sandhills Blvd.\, Aberdeen\, NC\, 28315\, United States
CATEGORIES:Adults,Fundraiser,Hobby/Enthusiast,Military,Moore County Events,Senior,Social
END:VEVENT
BEGIN:VEVENT
DTSTART;TZID=America/New_York:20251107T160000
DTEND;TZID=America/New_York:20251107T210000
DTSTAMP:20260420T145533
CREATED:20241102T001530Z
LAST-MODIFIED:20251103T164805Z
UID:10074788-1762531200-1762549200@thepinestimes.com
SUMMARY:"Freedom at the Rock" Veterans Weekend Celebration 2025
DESCRIPTION:Get ready for the annual “Freedom at the Rock” Veterans Weekend Celebration at Rockingham Dragway from November 7th-9th\, featuring non-stop racing action\, car shows\, and a massive audio battle! This exciting weekend includes a $10\,000 to Win Super Pro race on Saturday and Sunday\, plus a flyover and parachute jump to kick off Saturday’s events. Best of all\, Veterans\, Active Military\, and First Responders get free track gate admission for the entire weekend! \nMark your calendars!\nNov 7th: Test & Tune\nNov 8th-9th: Bracket Race\nNov 8th-9th: Ruckus and Chill\nNov 8th: Car Show\, Flyover\, Parachute Jump \nMore information can be found through the event website link provided below. \n \n 
URL:https://thepinestimes.com/event/freedom-at-the-rock-veterans-weekend-celebration/2025-11-07/
LOCATION:Rockingham Dragway\, 2153 N US Hwy 1\, Rockingham\, NC\, 28379\, United States
CATEGORIES:Adults,Car Show/Motorcycle Show/Cruise In,Exhibits,Family,Food,Games,Hobby/Enthusiast,Holiday Events,Live Entertainment,Military,Out of Town,Racing,Rockingham,Social,Sports,Veterans,Veterans Day,Young Adults
ATTACH;FMTTYPE=image/jpeg:https://thepinestimes.com/wp-content/uploads/RockinghamDragwayFeature.jpg
END:VEVENT
BEGIN:VEVENT
DTSTART;TZID=America/New_York:20251106T140000
DTEND;TZID=America/New_York:20251106T143000
DTSTAMP:20260420T145533
CREATED:20241107T160408Z
LAST-MODIFIED:20251103T141732Z
UID:10047914-1762437600-1762439400@thepinestimes.com
SUMMARY:Honor Our Veterans: FirstHealth Veterans Day Event
DESCRIPTION:Please join for FirstHealth’s annual Veterans Day event this Thursday\, November 6th at 2:00pm. The event is free and open to the public. Wear your red\, white and blue and help us honor our FirstHealth veterans. The keynote speaker for the afternoon will be Command Sergeant Major Lee Strong. The ceremony will take place in the Monroe Auditorium at Moore Regional Hospital.
URL:https://thepinestimes.com/event/honor-our-veterans-firsthealth-veterans-day-event/
LOCATION:FirstHealth Moore Regional Hospital\, 155 Memorial Drive\, Pinehurst\, NC\, 28374\, United States
CATEGORIES:Adults,Ceremony,Hobby/Enthusiast,Holiday Events,Military,Moore County Events,Pinehurst Events,Veterans,Veterans Day,Young Adults
ATTACH;FMTTYPE=image/jpeg:https://thepinestimes.com/wp-content/uploads/FirstHealthFeature.jpg
END:VEVENT
BEGIN:VEVENT
DTSTART;TZID=America/New_York:20251106T140000
DTEND;TZID=America/New_York:20251106T140000
DTSTAMP:20260420T145533
CREATED:20251024T234143Z
LAST-MODIFIED:20251025T111714Z
UID:10073296-1762437600-1762437600@thepinestimes.com
SUMMARY:FirstHealth: Veterans Day Event
DESCRIPTION:Join FirstHealth to honor service members at the annual Veterans Day Event on Thursday\, November 6th at 2:00pm. Hosted in the Moore Regional Hospital Conference Center\, the event will recognize and honor FirstHealth veterans. Also hear from keynote speaker Command Sergeant Major Lee Strong. The event is free and open to all FirstHealth employees and the public.
URL:https://thepinestimes.com/event/firsthealth-veterans-day-event/
LOCATION:FirstHealth Moore Regional Hospital\, 155 Memorial Drive\, Pinehurst\, NC\, 28374\, United States
CATEGORIES:Ceremony,Family,Military,Pinehurst Events,Religious/Spiritual,Senior,Social,Veterans,Veterans Day
ATTACH;FMTTYPE=image/jpeg:https://thepinestimes.com/wp-content/uploads/FirstHealthFeature.jpg
END:VEVENT
BEGIN:VEVENT
DTSTART;TZID=America/New_York:20251031T160000
DTEND;TZID=America/New_York:20251031T235900
DTSTAMP:20260420T145533
CREATED:20250919T132808Z
LAST-MODIFIED:20251027T132132Z
UID:10070057-1761926400-1761955140@thepinestimes.com
SUMMARY:Halloween Barn Bash
DESCRIPTION:Come out for the Children of Fallen Heroes’ Halloween Barn Bash at The Fair Barn in Pinehurst on Friday\, October 31st | 4:00pm-11:45pm! Get ready for a Halloween celebration like no other with the Halloween Barn Bash Bundle\, hosted by Children of Fallen Heroes. Enjoy trick-or-treating in the Haunted Barn\, costume contests\, STEM and arts exhibits\, food\, drinks\, and live entertainment—all while supporting Children of Fallen Heroes and their mission to empower military\, first responder\, foster\, caregiver\, and Title One families. \nKids 12 and under FREE with a paying adult ticket. Adult Ticket: $15. Military & First Responder Discount: $10. \nImportant Update:\nThose who purchased the Barn Bash Bundle — please note that the Festival D’Avion Trunk or Treat has been rescheduled to November 22\, 2025 due to the government shutdown. We’ll keep everyone updated as more details are confirmed. \nFor full details and online ticket purchases\, follow the event website link provided below.
URL:https://thepinestimes.com/event/halloween-barn-bash/
LOCATION:The Fair Barn\, 200 Beulah Hill Rd.\, Pinehurst\, NC North Carolina\, 28374
CATEGORIES:Adult Connections,Adults,Children,Dance,Fall,Family,Fundraiser,Games,Halloween,Holiday Events,Military,Music,Pinehurst Events,Piney's Kids,Piney's Tiny's,Social,Teen Activities,Young Adults
ATTACH;FMTTYPE=image/jpeg:https://thepinestimes.com/wp-content/uploads/ChildrenOfFallenHeroesFeature.jpg
END:VEVENT
END:VCALENDAR