BEGIN:VCALENDAR
VERSION:2.0
PRODID:-//The Pines Times - ECPv6.15.20//NONSGML v1.0//EN
CALSCALE:GREGORIAN
METHOD:PUBLISH
X-WR-CALNAME:The Pines Times
X-ORIGINAL-URL:https://thepinestimes.com
X-WR-CALDESC:Events for The Pines Times
REFRESH-INTERVAL;VALUE=DURATION:PT1H
X-Robots-Tag:noindex
X-PUBLISHED-TTL:PT1H
BEGIN:VTIMEZONE
TZID:America/New_York
BEGIN:DAYLIGHT
TZOFFSETFROM:-0500
TZOFFSETTO:-0400
TZNAME:EDT
DTSTART:20240310T070000
END:DAYLIGHT
BEGIN:STANDARD
TZOFFSETFROM:-0400
TZOFFSETTO:-0500
TZNAME:EST
DTSTART:20241103T060000
END:STANDARD
BEGIN:DAYLIGHT
TZOFFSETFROM:-0500
TZOFFSETTO:-0400
TZNAME:EDT
DTSTART:20250309T070000
END:DAYLIGHT
BEGIN:STANDARD
TZOFFSETFROM:-0400
TZOFFSETTO:-0500
TZNAME:EST
DTSTART:20251102T060000
END:STANDARD
BEGIN:DAYLIGHT
TZOFFSETFROM:-0500
TZOFFSETTO:-0400
TZNAME:EDT
DTSTART:20260308T070000
END:DAYLIGHT
BEGIN:STANDARD
TZOFFSETFROM:-0400
TZOFFSETTO:-0500
TZNAME:EST
DTSTART:20261101T060000
END:STANDARD
END:VTIMEZONE
BEGIN:VEVENT
DTSTART;TZID=America/New_York:20251031T160000
DTEND;TZID=America/New_York:20251031T235900
DTSTAMP:20260420T115012
CREATED:20250919T132808Z
LAST-MODIFIED:20251027T132132Z
UID:10070057-1761926400-1761955140@thepinestimes.com
SUMMARY:Halloween Barn Bash
DESCRIPTION:Come out for the Children of Fallen Heroes’ Halloween Barn Bash at The Fair Barn in Pinehurst on Friday\, October 31st | 4:00pm-11:45pm! Get ready for a Halloween celebration like no other with the Halloween Barn Bash Bundle\, hosted by Children of Fallen Heroes. Enjoy trick-or-treating in the Haunted Barn\, costume contests\, STEM and arts exhibits\, food\, drinks\, and live entertainment—all while supporting Children of Fallen Heroes and their mission to empower military\, first responder\, foster\, caregiver\, and Title One families. \nKids 12 and under FREE with a paying adult ticket. Adult Ticket: $15. Military & First Responder Discount: $10. \nImportant Update:\nThose who purchased the Barn Bash Bundle — please note that the Festival D’Avion Trunk or Treat has been rescheduled to November 22\, 2025 due to the government shutdown. We’ll keep everyone updated as more details are confirmed. \nFor full details and online ticket purchases\, follow the event website link provided below.
URL:https://thepinestimes.com/event/halloween-barn-bash/
LOCATION:The Fair Barn\, 200 Beulah Hill Rd.\, Pinehurst\, NC North Carolina\, 28374
CATEGORIES:Adult Connections,Adults,Children,Dance,Fall,Family,Fundraiser,Games,Halloween,Holiday Events,Military,Music,Pinehurst Events,Piney's Kids,Piney's Tiny's,Social,Teen Activities,Young Adults
ATTACH;FMTTYPE=image/jpeg:https://thepinestimes.com/wp-content/uploads/ChildrenOfFallenHeroesFeature.jpg
END:VEVENT
END:VCALENDAR