BEGIN:VCALENDAR
VERSION:2.0
PRODID:-//The Pines Times - ECPv6.15.20//NONSGML v1.0//EN
CALSCALE:GREGORIAN
METHOD:PUBLISH
X-WR-CALNAME:The Pines Times
X-ORIGINAL-URL:https://thepinestimes.com
X-WR-CALDESC:Events for The Pines Times
REFRESH-INTERVAL;VALUE=DURATION:PT1H
X-Robots-Tag:noindex
X-PUBLISHED-TTL:PT1H
BEGIN:VTIMEZONE
TZID:America/New_York
BEGIN:DAYLIGHT
TZOFFSETFROM:-0500
TZOFFSETTO:-0400
TZNAME:EDT
DTSTART:20240310T070000
END:DAYLIGHT
BEGIN:STANDARD
TZOFFSETFROM:-0400
TZOFFSETTO:-0500
TZNAME:EST
DTSTART:20241103T060000
END:STANDARD
BEGIN:DAYLIGHT
TZOFFSETFROM:-0500
TZOFFSETTO:-0400
TZNAME:EDT
DTSTART:20250309T070000
END:DAYLIGHT
BEGIN:STANDARD
TZOFFSETFROM:-0400
TZOFFSETTO:-0500
TZNAME:EST
DTSTART:20251102T060000
END:STANDARD
BEGIN:DAYLIGHT
TZOFFSETFROM:-0500
TZOFFSETTO:-0400
TZNAME:EDT
DTSTART:20260308T070000
END:DAYLIGHT
BEGIN:STANDARD
TZOFFSETFROM:-0400
TZOFFSETTO:-0500
TZNAME:EST
DTSTART:20261101T060000
END:STANDARD
END:VTIMEZONE
BEGIN:VEVENT
DTSTART;TZID=America/New_York:20251206T170000
DTEND;TZID=America/New_York:20251206T210000
DTSTAMP:20260425T215246
CREATED:20231121T201536Z
LAST-MODIFIED:20251117T160519Z
UID:10075382-1765040400-1765054800@thepinestimes.com
SUMMARY:Christmas Lights Pop Up Festival 2025
DESCRIPTION:Come out for the 5th Annual Christmas Lights Pop Up Festival in Eagle Springs! One of the largest Christmas lights displays in upper Moore County.Guests will enjoy strolling through thousands of beautiful Christmas lights. Visit with the many local artists & crafters that will be on site. Food tents will also be set up with food to purchase. Enjoy the Christmas walking trail\, bonfires\, hayrides and plenty of fun for all ages. Don’t forget—December 12th is the local children’s Toy Drive; please considering donating a new or gently used toy! The festival runs December 5th & 6th and December 12th & 13th\, from 5:00pm-9:00pm each evening. The event is free and open to the public.
URL:https://thepinestimes.com/event/christmas-lights-pop-up-festival/2025-12-06/
LOCATION:Pop Up Christmas Lights Festival\, 9348 NC Hwy 705\, Eagle Springs\, 27242\, United States
CATEGORIES:Adults,Children,Christmas,Eagle Springs,Exhibits,Fair/Festival,Family,Finding Santa,Finding Santa,Food,Hobby/Enthusiast,Holiday Events,Live Entertainment,Markets,Nature/Outdoors,Piney's Kids,Piney's Tiny's,Pop Ups,Santa,Senior,Shopping,Social,Teen Activities,Vendors,Young Adults
ORGANIZER;CN="The Williams Family":MAILTO:christmaslightfestival705@gmail.com
END:VEVENT
BEGIN:VEVENT
DTSTART;TZID=America/New_York:20251205T170000
DTEND;TZID=America/New_York:20251205T210000
DTSTAMP:20260425T215246
CREATED:20231121T201536Z
LAST-MODIFIED:20251117T160519Z
UID:10075381-1764954000-1764968400@thepinestimes.com
SUMMARY:Christmas Lights Pop Up Festival 2025
DESCRIPTION:Come out for the 5th Annual Christmas Lights Pop Up Festival in Eagle Springs! One of the largest Christmas lights displays in upper Moore County.Guests will enjoy strolling through thousands of beautiful Christmas lights. Visit with the many local artists & crafters that will be on site. Food tents will also be set up with food to purchase. Enjoy the Christmas walking trail\, bonfires\, hayrides and plenty of fun for all ages. Don’t forget—December 12th is the local children’s Toy Drive; please considering donating a new or gently used toy! The festival runs December 5th & 6th and December 12th & 13th\, from 5:00pm-9:00pm each evening. The event is free and open to the public.
URL:https://thepinestimes.com/event/christmas-lights-pop-up-festival/2025-12-05/
LOCATION:Pop Up Christmas Lights Festival\, 9348 NC Hwy 705\, Eagle Springs\, 27242\, United States
CATEGORIES:Adults,Children,Christmas,Eagle Springs,Exhibits,Fair/Festival,Family,Finding Santa,Finding Santa,Food,Hobby/Enthusiast,Holiday Events,Live Entertainment,Markets,Nature/Outdoors,Piney's Kids,Piney's Tiny's,Pop Ups,Santa,Senior,Shopping,Social,Teen Activities,Vendors,Young Adults
ORGANIZER;CN="The Williams Family":MAILTO:christmaslightfestival705@gmail.com
END:VEVENT
BEGIN:VEVENT
DTSTART;TZID=America/New_York:20251102T100000
DTEND;TZID=America/New_York:20251102T190000
DTSTAMP:20260425T215246
CREATED:20240913T163124Z
LAST-MODIFIED:20250821T125146Z
UID:10064833-1762077600-1762110000@thepinestimes.com
SUMMARY:Hello Fall: Farm Corn Maze and Fall Fun
DESCRIPTION:Join Kalawi Farm and Ben’s Ice Cream for their annual Kalawi Corn Maze & Fall Fun event! Enjoy fun for all ages with the Corn Maze\, Hay Rides\, Pumpkin Patch\, Jump Pillow\, Super Slide\, Corn Jump\, play area and more. The farm will be open every Friday\, Saturday and Sunday from September 26th-November 2nd\, from 10am-7pm. Pricing is $15 for kids ages 3-17 and $8 for adults\, while ages 2 and under are free. \n 
URL:https://thepinestimes.com/event/farm-corn-maze-and-fall-fun/2025-11-02/
LOCATION:Kalawi Farm and Ben’s Ice Cream\, 1515 NC Highway 211\, Eagle Springs\, NC\, 27242\, United States
CATEGORIES:Adult Connections,Adults,Children,Eagle Springs,Fall,Fall in the Sandhills,Family,Food,Games,Halloween,Piney's Kids,Piney's Tiny's,Social,Teen Activities,Young Adults
END:VEVENT
BEGIN:VEVENT
DTSTART;TZID=America/New_York:20251101T100000
DTEND;TZID=America/New_York:20251101T190000
DTSTAMP:20260425T215246
CREATED:20240913T163124Z
LAST-MODIFIED:20250821T125146Z
UID:10064832-1761991200-1762023600@thepinestimes.com
SUMMARY:Hello Fall: Farm Corn Maze and Fall Fun
DESCRIPTION:Join Kalawi Farm and Ben’s Ice Cream for their annual Kalawi Corn Maze & Fall Fun event! Enjoy fun for all ages with the Corn Maze\, Hay Rides\, Pumpkin Patch\, Jump Pillow\, Super Slide\, Corn Jump\, play area and more. The farm will be open every Friday\, Saturday and Sunday from September 26th-November 2nd\, from 10am-7pm. Pricing is $15 for kids ages 3-17 and $8 for adults\, while ages 2 and under are free. \n 
URL:https://thepinestimes.com/event/farm-corn-maze-and-fall-fun/2025-11-01/
LOCATION:Kalawi Farm and Ben’s Ice Cream\, 1515 NC Highway 211\, Eagle Springs\, NC\, 27242\, United States
CATEGORIES:Adult Connections,Adults,Children,Eagle Springs,Fall,Fall in the Sandhills,Family,Food,Games,Halloween,Piney's Kids,Piney's Tiny's,Social,Teen Activities,Young Adults
END:VEVENT
BEGIN:VEVENT
DTSTART;TZID=America/New_York:20251031T100000
DTEND;TZID=America/New_York:20251031T190000
DTSTAMP:20260425T215246
CREATED:20240913T163124Z
LAST-MODIFIED:20250821T125146Z
UID:10064831-1761904800-1761937200@thepinestimes.com
SUMMARY:Hello Fall: Farm Corn Maze and Fall Fun
DESCRIPTION:Join Kalawi Farm and Ben’s Ice Cream for their annual Kalawi Corn Maze & Fall Fun event! Enjoy fun for all ages with the Corn Maze\, Hay Rides\, Pumpkin Patch\, Jump Pillow\, Super Slide\, Corn Jump\, play area and more. The farm will be open every Friday\, Saturday and Sunday from September 26th-November 2nd\, from 10am-7pm. Pricing is $15 for kids ages 3-17 and $8 for adults\, while ages 2 and under are free. \n 
URL:https://thepinestimes.com/event/farm-corn-maze-and-fall-fun/2025-10-31/
LOCATION:Kalawi Farm and Ben’s Ice Cream\, 1515 NC Highway 211\, Eagle Springs\, NC\, 27242\, United States
CATEGORIES:Adult Connections,Adults,Children,Eagle Springs,Fall,Fall in the Sandhills,Family,Food,Games,Halloween,Piney's Kids,Piney's Tiny's,Social,Teen Activities,Young Adults
END:VEVENT
BEGIN:VEVENT
DTSTART;TZID=America/New_York:20251026T100000
DTEND;TZID=America/New_York:20251026T190000
DTSTAMP:20260425T215246
CREATED:20240913T163124Z
LAST-MODIFIED:20250821T125146Z
UID:10064830-1761472800-1761505200@thepinestimes.com
SUMMARY:Hello Fall: Farm Corn Maze and Fall Fun
DESCRIPTION:Join Kalawi Farm and Ben’s Ice Cream for their annual Kalawi Corn Maze & Fall Fun event! Enjoy fun for all ages with the Corn Maze\, Hay Rides\, Pumpkin Patch\, Jump Pillow\, Super Slide\, Corn Jump\, play area and more. The farm will be open every Friday\, Saturday and Sunday from September 26th-November 2nd\, from 10am-7pm. Pricing is $15 for kids ages 3-17 and $8 for adults\, while ages 2 and under are free. \n 
URL:https://thepinestimes.com/event/farm-corn-maze-and-fall-fun/2025-10-26/
LOCATION:Kalawi Farm and Ben’s Ice Cream\, 1515 NC Highway 211\, Eagle Springs\, NC\, 27242\, United States
CATEGORIES:Adult Connections,Adults,Children,Eagle Springs,Fall,Fall in the Sandhills,Family,Food,Games,Halloween,Piney's Kids,Piney's Tiny's,Social,Teen Activities,Young Adults
END:VEVENT
BEGIN:VEVENT
DTSTART;TZID=America/New_York:20251025T100000
DTEND;TZID=America/New_York:20251025T190000
DTSTAMP:20260425T215247
CREATED:20240913T163124Z
LAST-MODIFIED:20250821T125146Z
UID:10064829-1761386400-1761418800@thepinestimes.com
SUMMARY:Hello Fall: Farm Corn Maze and Fall Fun
DESCRIPTION:Join Kalawi Farm and Ben’s Ice Cream for their annual Kalawi Corn Maze & Fall Fun event! Enjoy fun for all ages with the Corn Maze\, Hay Rides\, Pumpkin Patch\, Jump Pillow\, Super Slide\, Corn Jump\, play area and more. The farm will be open every Friday\, Saturday and Sunday from September 26th-November 2nd\, from 10am-7pm. Pricing is $15 for kids ages 3-17 and $8 for adults\, while ages 2 and under are free. \n 
URL:https://thepinestimes.com/event/farm-corn-maze-and-fall-fun/2025-10-25/
LOCATION:Kalawi Farm and Ben’s Ice Cream\, 1515 NC Highway 211\, Eagle Springs\, NC\, 27242\, United States
CATEGORIES:Adult Connections,Adults,Children,Eagle Springs,Fall,Fall in the Sandhills,Family,Food,Games,Halloween,Piney's Kids,Piney's Tiny's,Social,Teen Activities,Young Adults
END:VEVENT
BEGIN:VEVENT
DTSTART;TZID=America/New_York:20251025T100000
DTEND;TZID=America/New_York:20251025T150000
DTSTAMP:20260425T215247
CREATED:20251018T160112Z
LAST-MODIFIED:20251018T160112Z
UID:10073091-1761386400-1761404400@thepinestimes.com
SUMMARY:Autumn Pop-Up Market
DESCRIPTION:Stop by Kalawi Farm on Saturday\, October 25th\, 10am-3pm\, for a Autumn Pop-Up Market! Shop from the many crafters and creaters on site and Christy’s Produce Petting Zoo will be on site for the fun. Children’s activities will be running as well.
URL:https://thepinestimes.com/event/autumn-pop-up-market/
LOCATION:Kalawi Farm and Ben’s Ice Cream\, 1515 NC Highway 211\, Eagle Springs\, NC\, 27242\, United States
CATEGORIES:Adults,Children,Eagle Springs,Fall,Fall in the Sandhills,Family,Pop Ups,Senior,Shopping,Social,Vendors,Young Adults
ATTACH;FMTTYPE=image/jpeg:https://thepinestimes.com/wp-content/uploads/PopUpFeature.jpg
END:VEVENT
BEGIN:VEVENT
DTSTART;TZID=America/New_York:20251024T100000
DTEND;TZID=America/New_York:20251024T190000
DTSTAMP:20260425T215247
CREATED:20240913T163124Z
LAST-MODIFIED:20250821T125146Z
UID:10064828-1761300000-1761332400@thepinestimes.com
SUMMARY:Hello Fall: Farm Corn Maze and Fall Fun
DESCRIPTION:Join Kalawi Farm and Ben’s Ice Cream for their annual Kalawi Corn Maze & Fall Fun event! Enjoy fun for all ages with the Corn Maze\, Hay Rides\, Pumpkin Patch\, Jump Pillow\, Super Slide\, Corn Jump\, play area and more. The farm will be open every Friday\, Saturday and Sunday from September 26th-November 2nd\, from 10am-7pm. Pricing is $15 for kids ages 3-17 and $8 for adults\, while ages 2 and under are free. \n 
URL:https://thepinestimes.com/event/farm-corn-maze-and-fall-fun/2025-10-24/
LOCATION:Kalawi Farm and Ben’s Ice Cream\, 1515 NC Highway 211\, Eagle Springs\, NC\, 27242\, United States
CATEGORIES:Adult Connections,Adults,Children,Eagle Springs,Fall,Fall in the Sandhills,Family,Food,Games,Halloween,Piney's Kids,Piney's Tiny's,Social,Teen Activities,Young Adults
END:VEVENT
BEGIN:VEVENT
DTSTART;TZID=America/New_York:20251019T100000
DTEND;TZID=America/New_York:20251019T190000
DTSTAMP:20260425T215247
CREATED:20240913T163124Z
LAST-MODIFIED:20250821T125146Z
UID:10064827-1760868000-1760900400@thepinestimes.com
SUMMARY:Hello Fall: Farm Corn Maze and Fall Fun
DESCRIPTION:Join Kalawi Farm and Ben’s Ice Cream for their annual Kalawi Corn Maze & Fall Fun event! Enjoy fun for all ages with the Corn Maze\, Hay Rides\, Pumpkin Patch\, Jump Pillow\, Super Slide\, Corn Jump\, play area and more. The farm will be open every Friday\, Saturday and Sunday from September 26th-November 2nd\, from 10am-7pm. Pricing is $15 for kids ages 3-17 and $8 for adults\, while ages 2 and under are free. \n 
URL:https://thepinestimes.com/event/farm-corn-maze-and-fall-fun/2025-10-19/
LOCATION:Kalawi Farm and Ben’s Ice Cream\, 1515 NC Highway 211\, Eagle Springs\, NC\, 27242\, United States
CATEGORIES:Adult Connections,Adults,Children,Eagle Springs,Fall,Fall in the Sandhills,Family,Food,Games,Halloween,Piney's Kids,Piney's Tiny's,Social,Teen Activities,Young Adults
END:VEVENT
BEGIN:VEVENT
DTSTART;TZID=America/New_York:20251018T100000
DTEND;TZID=America/New_York:20251018T190000
DTSTAMP:20260425T215247
CREATED:20240913T163124Z
LAST-MODIFIED:20250821T125146Z
UID:10064826-1760781600-1760814000@thepinestimes.com
SUMMARY:Hello Fall: Farm Corn Maze and Fall Fun
DESCRIPTION:Join Kalawi Farm and Ben’s Ice Cream for their annual Kalawi Corn Maze & Fall Fun event! Enjoy fun for all ages with the Corn Maze\, Hay Rides\, Pumpkin Patch\, Jump Pillow\, Super Slide\, Corn Jump\, play area and more. The farm will be open every Friday\, Saturday and Sunday from September 26th-November 2nd\, from 10am-7pm. Pricing is $15 for kids ages 3-17 and $8 for adults\, while ages 2 and under are free. \n 
URL:https://thepinestimes.com/event/farm-corn-maze-and-fall-fun/2025-10-18/
LOCATION:Kalawi Farm and Ben’s Ice Cream\, 1515 NC Highway 211\, Eagle Springs\, NC\, 27242\, United States
CATEGORIES:Adult Connections,Adults,Children,Eagle Springs,Fall,Fall in the Sandhills,Family,Food,Games,Halloween,Piney's Kids,Piney's Tiny's,Social,Teen Activities,Young Adults
END:VEVENT
BEGIN:VEVENT
DTSTART;TZID=America/New_York:20251017T100000
DTEND;TZID=America/New_York:20251017T190000
DTSTAMP:20260425T215247
CREATED:20240913T163124Z
LAST-MODIFIED:20250821T125146Z
UID:10064825-1760695200-1760727600@thepinestimes.com
SUMMARY:Hello Fall: Farm Corn Maze and Fall Fun
DESCRIPTION:Join Kalawi Farm and Ben’s Ice Cream for their annual Kalawi Corn Maze & Fall Fun event! Enjoy fun for all ages with the Corn Maze\, Hay Rides\, Pumpkin Patch\, Jump Pillow\, Super Slide\, Corn Jump\, play area and more. The farm will be open every Friday\, Saturday and Sunday from September 26th-November 2nd\, from 10am-7pm. Pricing is $15 for kids ages 3-17 and $8 for adults\, while ages 2 and under are free. \n 
URL:https://thepinestimes.com/event/farm-corn-maze-and-fall-fun/2025-10-17/
LOCATION:Kalawi Farm and Ben’s Ice Cream\, 1515 NC Highway 211\, Eagle Springs\, NC\, 27242\, United States
CATEGORIES:Adult Connections,Adults,Children,Eagle Springs,Fall,Fall in the Sandhills,Family,Food,Games,Halloween,Piney's Kids,Piney's Tiny's,Social,Teen Activities,Young Adults
END:VEVENT
BEGIN:VEVENT
DTSTART;TZID=America/New_York:20251012T100000
DTEND;TZID=America/New_York:20251012T190000
DTSTAMP:20260425T215247
CREATED:20240913T163124Z
LAST-MODIFIED:20250821T125146Z
UID:10064824-1760263200-1760295600@thepinestimes.com
SUMMARY:Hello Fall: Farm Corn Maze and Fall Fun
DESCRIPTION:Join Kalawi Farm and Ben’s Ice Cream for their annual Kalawi Corn Maze & Fall Fun event! Enjoy fun for all ages with the Corn Maze\, Hay Rides\, Pumpkin Patch\, Jump Pillow\, Super Slide\, Corn Jump\, play area and more. The farm will be open every Friday\, Saturday and Sunday from September 26th-November 2nd\, from 10am-7pm. Pricing is $15 for kids ages 3-17 and $8 for adults\, while ages 2 and under are free. \n 
URL:https://thepinestimes.com/event/farm-corn-maze-and-fall-fun/2025-10-12/
LOCATION:Kalawi Farm and Ben’s Ice Cream\, 1515 NC Highway 211\, Eagle Springs\, NC\, 27242\, United States
CATEGORIES:Adult Connections,Adults,Children,Eagle Springs,Fall,Fall in the Sandhills,Family,Food,Games,Halloween,Piney's Kids,Piney's Tiny's,Social,Teen Activities,Young Adults
END:VEVENT
BEGIN:VEVENT
DTSTART;TZID=America/New_York:20251011T100000
DTEND;TZID=America/New_York:20251011T190000
DTSTAMP:20260425T215247
CREATED:20240913T163124Z
LAST-MODIFIED:20250821T125146Z
UID:10064823-1760176800-1760209200@thepinestimes.com
SUMMARY:Hello Fall: Farm Corn Maze and Fall Fun
DESCRIPTION:Join Kalawi Farm and Ben’s Ice Cream for their annual Kalawi Corn Maze & Fall Fun event! Enjoy fun for all ages with the Corn Maze\, Hay Rides\, Pumpkin Patch\, Jump Pillow\, Super Slide\, Corn Jump\, play area and more. The farm will be open every Friday\, Saturday and Sunday from September 26th-November 2nd\, from 10am-7pm. Pricing is $15 for kids ages 3-17 and $8 for adults\, while ages 2 and under are free. \n 
URL:https://thepinestimes.com/event/farm-corn-maze-and-fall-fun/2025-10-11/
LOCATION:Kalawi Farm and Ben’s Ice Cream\, 1515 NC Highway 211\, Eagle Springs\, NC\, 27242\, United States
CATEGORIES:Adult Connections,Adults,Children,Eagle Springs,Fall,Fall in the Sandhills,Family,Food,Games,Halloween,Piney's Kids,Piney's Tiny's,Social,Teen Activities,Young Adults
END:VEVENT
BEGIN:VEVENT
DTSTART;TZID=America/New_York:20251010T100000
DTEND;TZID=America/New_York:20251010T190000
DTSTAMP:20260425T215247
CREATED:20240913T163124Z
LAST-MODIFIED:20250821T125146Z
UID:10064822-1760090400-1760122800@thepinestimes.com
SUMMARY:Hello Fall: Farm Corn Maze and Fall Fun
DESCRIPTION:Join Kalawi Farm and Ben’s Ice Cream for their annual Kalawi Corn Maze & Fall Fun event! Enjoy fun for all ages with the Corn Maze\, Hay Rides\, Pumpkin Patch\, Jump Pillow\, Super Slide\, Corn Jump\, play area and more. The farm will be open every Friday\, Saturday and Sunday from September 26th-November 2nd\, from 10am-7pm. Pricing is $15 for kids ages 3-17 and $8 for adults\, while ages 2 and under are free. \n 
URL:https://thepinestimes.com/event/farm-corn-maze-and-fall-fun/2025-10-10/
LOCATION:Kalawi Farm and Ben’s Ice Cream\, 1515 NC Highway 211\, Eagle Springs\, NC\, 27242\, United States
CATEGORIES:Adult Connections,Adults,Children,Eagle Springs,Fall,Fall in the Sandhills,Family,Food,Games,Halloween,Piney's Kids,Piney's Tiny's,Social,Teen Activities,Young Adults
END:VEVENT
BEGIN:VEVENT
DTSTART;TZID=America/New_York:20251005T100000
DTEND;TZID=America/New_York:20251005T190000
DTSTAMP:20260425T215247
CREATED:20240913T163124Z
LAST-MODIFIED:20250821T125146Z
UID:10064821-1759658400-1759690800@thepinestimes.com
SUMMARY:Hello Fall: Farm Corn Maze and Fall Fun
DESCRIPTION:Join Kalawi Farm and Ben’s Ice Cream for their annual Kalawi Corn Maze & Fall Fun event! Enjoy fun for all ages with the Corn Maze\, Hay Rides\, Pumpkin Patch\, Jump Pillow\, Super Slide\, Corn Jump\, play area and more. The farm will be open every Friday\, Saturday and Sunday from September 26th-November 2nd\, from 10am-7pm. Pricing is $15 for kids ages 3-17 and $8 for adults\, while ages 2 and under are free. \n 
URL:https://thepinestimes.com/event/farm-corn-maze-and-fall-fun/2025-10-05/
LOCATION:Kalawi Farm and Ben’s Ice Cream\, 1515 NC Highway 211\, Eagle Springs\, NC\, 27242\, United States
CATEGORIES:Adult Connections,Adults,Children,Eagle Springs,Fall,Fall in the Sandhills,Family,Food,Games,Halloween,Piney's Kids,Piney's Tiny's,Social,Teen Activities,Young Adults
END:VEVENT
BEGIN:VEVENT
DTSTART;TZID=America/New_York:20251004T100000
DTEND;TZID=America/New_York:20251004T190000
DTSTAMP:20260425T215247
CREATED:20240913T163124Z
LAST-MODIFIED:20250821T125146Z
UID:10064820-1759572000-1759604400@thepinestimes.com
SUMMARY:Hello Fall: Farm Corn Maze and Fall Fun
DESCRIPTION:Join Kalawi Farm and Ben’s Ice Cream for their annual Kalawi Corn Maze & Fall Fun event! Enjoy fun for all ages with the Corn Maze\, Hay Rides\, Pumpkin Patch\, Jump Pillow\, Super Slide\, Corn Jump\, play area and more. The farm will be open every Friday\, Saturday and Sunday from September 26th-November 2nd\, from 10am-7pm. Pricing is $15 for kids ages 3-17 and $8 for adults\, while ages 2 and under are free. \n 
URL:https://thepinestimes.com/event/farm-corn-maze-and-fall-fun/2025-10-04/
LOCATION:Kalawi Farm and Ben’s Ice Cream\, 1515 NC Highway 211\, Eagle Springs\, NC\, 27242\, United States
CATEGORIES:Adult Connections,Adults,Children,Eagle Springs,Fall,Fall in the Sandhills,Family,Food,Games,Halloween,Piney's Kids,Piney's Tiny's,Social,Teen Activities,Young Adults
END:VEVENT
BEGIN:VEVENT
DTSTART;TZID=America/New_York:20251003T100000
DTEND;TZID=America/New_York:20251003T190000
DTSTAMP:20260425T215247
CREATED:20240913T163124Z
LAST-MODIFIED:20250821T125146Z
UID:10064819-1759485600-1759518000@thepinestimes.com
SUMMARY:Hello Fall: Farm Corn Maze and Fall Fun
DESCRIPTION:Join Kalawi Farm and Ben’s Ice Cream for their annual Kalawi Corn Maze & Fall Fun event! Enjoy fun for all ages with the Corn Maze\, Hay Rides\, Pumpkin Patch\, Jump Pillow\, Super Slide\, Corn Jump\, play area and more. The farm will be open every Friday\, Saturday and Sunday from September 26th-November 2nd\, from 10am-7pm. Pricing is $15 for kids ages 3-17 and $8 for adults\, while ages 2 and under are free. \n 
URL:https://thepinestimes.com/event/farm-corn-maze-and-fall-fun/2025-10-03/
LOCATION:Kalawi Farm and Ben’s Ice Cream\, 1515 NC Highway 211\, Eagle Springs\, NC\, 27242\, United States
CATEGORIES:Adult Connections,Adults,Children,Eagle Springs,Fall,Fall in the Sandhills,Family,Food,Games,Halloween,Piney's Kids,Piney's Tiny's,Social,Teen Activities,Young Adults
END:VEVENT
BEGIN:VEVENT
DTSTART;TZID=America/New_York:20250928T100000
DTEND;TZID=America/New_York:20250928T190000
DTSTAMP:20260425T215247
CREATED:20240913T163124Z
LAST-MODIFIED:20250821T125146Z
UID:10064818-1759053600-1759086000@thepinestimes.com
SUMMARY:Hello Fall: Farm Corn Maze and Fall Fun
DESCRIPTION:Join Kalawi Farm and Ben’s Ice Cream for their annual Kalawi Corn Maze & Fall Fun event! Enjoy fun for all ages with the Corn Maze\, Hay Rides\, Pumpkin Patch\, Jump Pillow\, Super Slide\, Corn Jump\, play area and more. The farm will be open every Friday\, Saturday and Sunday from September 26th-November 2nd\, from 10am-7pm. Pricing is $15 for kids ages 3-17 and $8 for adults\, while ages 2 and under are free. \n 
URL:https://thepinestimes.com/event/farm-corn-maze-and-fall-fun/2025-09-28/
LOCATION:Kalawi Farm and Ben’s Ice Cream\, 1515 NC Highway 211\, Eagle Springs\, NC\, 27242\, United States
CATEGORIES:Adult Connections,Adults,Children,Eagle Springs,Fall,Fall in the Sandhills,Family,Food,Games,Halloween,Piney's Kids,Piney's Tiny's,Social,Teen Activities,Young Adults
END:VEVENT
BEGIN:VEVENT
DTSTART;TZID=America/New_York:20250927T100000
DTEND;TZID=America/New_York:20250927T190000
DTSTAMP:20260425T215247
CREATED:20240913T163124Z
LAST-MODIFIED:20250821T125146Z
UID:10064817-1758967200-1758999600@thepinestimes.com
SUMMARY:Hello Fall: Farm Corn Maze and Fall Fun
DESCRIPTION:Join Kalawi Farm and Ben’s Ice Cream for their annual Kalawi Corn Maze & Fall Fun event! Enjoy fun for all ages with the Corn Maze\, Hay Rides\, Pumpkin Patch\, Jump Pillow\, Super Slide\, Corn Jump\, play area and more. The farm will be open every Friday\, Saturday and Sunday from September 26th-November 2nd\, from 10am-7pm. Pricing is $15 for kids ages 3-17 and $8 for adults\, while ages 2 and under are free. \n 
URL:https://thepinestimes.com/event/farm-corn-maze-and-fall-fun/2025-09-27/
LOCATION:Kalawi Farm and Ben’s Ice Cream\, 1515 NC Highway 211\, Eagle Springs\, NC\, 27242\, United States
CATEGORIES:Adult Connections,Adults,Children,Eagle Springs,Fall,Fall in the Sandhills,Family,Food,Games,Halloween,Piney's Kids,Piney's Tiny's,Social,Teen Activities,Young Adults
END:VEVENT
BEGIN:VEVENT
DTSTART;TZID=America/New_York:20250926T100000
DTEND;TZID=America/New_York:20250926T190000
DTSTAMP:20260425T215247
CREATED:20240913T163124Z
LAST-MODIFIED:20250821T125146Z
UID:10044794-1758880800-1758913200@thepinestimes.com
SUMMARY:Hello Fall: Farm Corn Maze and Fall Fun
DESCRIPTION:Join Kalawi Farm and Ben’s Ice Cream for their annual Kalawi Corn Maze & Fall Fun event! Enjoy fun for all ages with the Corn Maze\, Hay Rides\, Pumpkin Patch\, Jump Pillow\, Super Slide\, Corn Jump\, play area and more. The farm will be open every Friday\, Saturday and Sunday from September 26th-November 2nd\, from 10am-7pm. Pricing is $15 for kids ages 3-17 and $8 for adults\, while ages 2 and under are free. \n 
URL:https://thepinestimes.com/event/farm-corn-maze-and-fall-fun/2025-09-26/
LOCATION:Kalawi Farm and Ben’s Ice Cream\, 1515 NC Highway 211\, Eagle Springs\, NC\, 27242\, United States
CATEGORIES:Adult Connections,Adults,Children,Eagle Springs,Fall,Fall in the Sandhills,Family,Food,Games,Halloween,Piney's Kids,Piney's Tiny's,Social,Teen Activities,Young Adults
END:VEVENT
END:VCALENDAR