BEGIN:VCALENDAR
VERSION:2.0
PRODID:-//The Pines Times - ECPv6.15.20//NONSGML v1.0//EN
CALSCALE:GREGORIAN
METHOD:PUBLISH
X-ORIGINAL-URL:https://thepinestimes.com
X-WR-CALDESC:Events for The Pines Times
REFRESH-INTERVAL;VALUE=DURATION:PT1H
X-Robots-Tag:noindex
X-PUBLISHED-TTL:PT1H
BEGIN:VTIMEZONE
TZID:America/New_York
BEGIN:DAYLIGHT
TZOFFSETFROM:-0500
TZOFFSETTO:-0400
TZNAME:EDT
DTSTART:20250309T070000
END:DAYLIGHT
BEGIN:STANDARD
TZOFFSETFROM:-0400
TZOFFSETTO:-0500
TZNAME:EST
DTSTART:20251102T060000
END:STANDARD
BEGIN:DAYLIGHT
TZOFFSETFROM:-0500
TZOFFSETTO:-0400
TZNAME:EDT
DTSTART:20260308T070000
END:DAYLIGHT
BEGIN:STANDARD
TZOFFSETFROM:-0400
TZOFFSETTO:-0500
TZNAME:EST
DTSTART:20261101T060000
END:STANDARD
BEGIN:DAYLIGHT
TZOFFSETFROM:-0500
TZOFFSETTO:-0400
TZNAME:EDT
DTSTART:20270314T070000
END:DAYLIGHT
BEGIN:STANDARD
TZOFFSETFROM:-0400
TZOFFSETTO:-0500
TZNAME:EST
DTSTART:20271107T060000
END:STANDARD
END:VTIMEZONE
BEGIN:VEVENT
DTSTART;TZID=America/New_York:20260708T190000
DTEND;TZID=America/New_York:20260708T210000
DTSTAMP:20260425T184907
CREATED:20260326T191726Z
LAST-MODIFIED:20260326T200259Z
UID:10084349-1783537200-1783544400@thepinestimes.com
SUMMARY:Wednesday Night Trivia
DESCRIPTION:Head out to Wild Dogs Brewing for Trivia Night fun! Trivia takes place every Wednesday night at 7PM. Refer to Wild Dogs’ social media platforms for the weekly bonus question.
URL:https://thepinestimes.com/event/wednesday-night-trivia/2026-07-08/
LOCATION:Wild Dogs Brewing Company\, 136 N Steele St\, Sanford\, NC\, 27330\, United States
CATEGORIES:Adult Connections,Adults,Games,Sanford Events,Social
ATTACH;FMTTYPE=image/jpeg:https://thepinestimes.com/wp-content/uploads/WildDogsBrewingFeature1.jpg
ORGANIZER;CN="Wild Dogs Brewing":MAILTO:craig@wilddogsbrewing.com
END:VEVENT
BEGIN:VEVENT
DTSTART;TZID=America/New_York:20260715T190000
DTEND;TZID=America/New_York:20260715T210000
DTSTAMP:20260425T184907
CREATED:20260326T191726Z
LAST-MODIFIED:20260326T200259Z
UID:10084350-1784142000-1784149200@thepinestimes.com
SUMMARY:Wednesday Night Trivia
DESCRIPTION:Head out to Wild Dogs Brewing for Trivia Night fun! Trivia takes place every Wednesday night at 7PM. Refer to Wild Dogs’ social media platforms for the weekly bonus question.
URL:https://thepinestimes.com/event/wednesday-night-trivia/2026-07-15/
LOCATION:Wild Dogs Brewing Company\, 136 N Steele St\, Sanford\, NC\, 27330\, United States
CATEGORIES:Adult Connections,Adults,Games,Sanford Events,Social
ATTACH;FMTTYPE=image/jpeg:https://thepinestimes.com/wp-content/uploads/WildDogsBrewingFeature1.jpg
ORGANIZER;CN="Wild Dogs Brewing":MAILTO:craig@wilddogsbrewing.com
END:VEVENT
BEGIN:VEVENT
DTSTART;TZID=America/New_York:20260722T190000
DTEND;TZID=America/New_York:20260722T210000
DTSTAMP:20260425T184907
CREATED:20260326T191726Z
LAST-MODIFIED:20260326T200259Z
UID:10084351-1784746800-1784754000@thepinestimes.com
SUMMARY:Wednesday Night Trivia
DESCRIPTION:Head out to Wild Dogs Brewing for Trivia Night fun! Trivia takes place every Wednesday night at 7PM. Refer to Wild Dogs’ social media platforms for the weekly bonus question.
URL:https://thepinestimes.com/event/wednesday-night-trivia/2026-07-22/
LOCATION:Wild Dogs Brewing Company\, 136 N Steele St\, Sanford\, NC\, 27330\, United States
CATEGORIES:Adult Connections,Adults,Games,Sanford Events,Social
ATTACH;FMTTYPE=image/jpeg:https://thepinestimes.com/wp-content/uploads/WildDogsBrewingFeature1.jpg
ORGANIZER;CN="Wild Dogs Brewing":MAILTO:craig@wilddogsbrewing.com
END:VEVENT
BEGIN:VEVENT
DTSTART;TZID=America/New_York:20260723T140000
DTEND;TZID=America/New_York:20260723T150000
DTSTAMP:20260425T184907
CREATED:20260119T235525Z
LAST-MODIFIED:20260119T235525Z
UID:10079831-1784815200-1784818800@thepinestimes.com
SUMMARY:Read\, Create\, Play! Craft and Storytime in the Park
DESCRIPTION:Bring the little ones out for Read\, Create\, Play! Craft and Storytime in the Park\, a fun monthly event hosted by Sanford Parks and Lee County Libraries. These gatherings take place on the fourth Thursday of every month at 2:00 p.m.\, providing a wonderful opportunity for children to engage with stories and hands-on crafts. The activities are held outdoors at Third Street Park\, located at 228 North Ave\, making it a perfect afternoon for community connection and creative play.
URL:https://thepinestimes.com/event/read-create-play-craft-and-storytime-in-the-park/2026-07-23/
LOCATION:Third Street Park\, 228 North Ave\, Sanford\, 27330\, United States
CATEGORIES:Children,Crafts,Educational,Family,Piney's Kids,Piney's Tiny's,Sanford Events,Sanford Events,Social
ATTACH;FMTTYPE=image/jpeg:https://thepinestimes.com/wp-content/uploads/SanfordLibraryStorytimeFeature.jpg
END:VEVENT
BEGIN:VEVENT
DTSTART;TZID=America/New_York:20260729T190000
DTEND;TZID=America/New_York:20260729T210000
DTSTAMP:20260425T184907
CREATED:20260326T191726Z
LAST-MODIFIED:20260326T200259Z
UID:10084352-1785351600-1785358800@thepinestimes.com
SUMMARY:Wednesday Night Trivia
DESCRIPTION:Head out to Wild Dogs Brewing for Trivia Night fun! Trivia takes place every Wednesday night at 7PM. Refer to Wild Dogs’ social media platforms for the weekly bonus question.
URL:https://thepinestimes.com/event/wednesday-night-trivia/2026-07-29/
LOCATION:Wild Dogs Brewing Company\, 136 N Steele St\, Sanford\, NC\, 27330\, United States
CATEGORIES:Adult Connections,Adults,Games,Sanford Events,Social
ATTACH;FMTTYPE=image/jpeg:https://thepinestimes.com/wp-content/uploads/WildDogsBrewingFeature1.jpg
ORGANIZER;CN="Wild Dogs Brewing":MAILTO:craig@wilddogsbrewing.com
END:VEVENT
BEGIN:VEVENT
DTSTART;TZID=America/New_York:20260805T190000
DTEND;TZID=America/New_York:20260805T210000
DTSTAMP:20260425T184907
CREATED:20260326T191726Z
LAST-MODIFIED:20260326T200259Z
UID:10084353-1785956400-1785963600@thepinestimes.com
SUMMARY:Wednesday Night Trivia
DESCRIPTION:Head out to Wild Dogs Brewing for Trivia Night fun! Trivia takes place every Wednesday night at 7PM. Refer to Wild Dogs’ social media platforms for the weekly bonus question.
URL:https://thepinestimes.com/event/wednesday-night-trivia/2026-08-05/
LOCATION:Wild Dogs Brewing Company\, 136 N Steele St\, Sanford\, NC\, 27330\, United States
CATEGORIES:Adult Connections,Adults,Games,Sanford Events,Social
ATTACH;FMTTYPE=image/jpeg:https://thepinestimes.com/wp-content/uploads/WildDogsBrewingFeature1.jpg
ORGANIZER;CN="Wild Dogs Brewing":MAILTO:craig@wilddogsbrewing.com
END:VEVENT
BEGIN:VEVENT
DTSTART;TZID=America/New_York:20260812T190000
DTEND;TZID=America/New_York:20260812T210000
DTSTAMP:20260425T184907
CREATED:20260326T191726Z
LAST-MODIFIED:20260326T200259Z
UID:10084354-1786561200-1786568400@thepinestimes.com
SUMMARY:Wednesday Night Trivia
DESCRIPTION:Head out to Wild Dogs Brewing for Trivia Night fun! Trivia takes place every Wednesday night at 7PM. Refer to Wild Dogs’ social media platforms for the weekly bonus question.
URL:https://thepinestimes.com/event/wednesday-night-trivia/2026-08-12/
LOCATION:Wild Dogs Brewing Company\, 136 N Steele St\, Sanford\, NC\, 27330\, United States
CATEGORIES:Adult Connections,Adults,Games,Sanford Events,Social
ATTACH;FMTTYPE=image/jpeg:https://thepinestimes.com/wp-content/uploads/WildDogsBrewingFeature1.jpg
ORGANIZER;CN="Wild Dogs Brewing":MAILTO:craig@wilddogsbrewing.com
END:VEVENT
BEGIN:VEVENT
DTSTART;TZID=America/New_York:20260819T190000
DTEND;TZID=America/New_York:20260819T210000
DTSTAMP:20260425T184907
CREATED:20260326T191726Z
LAST-MODIFIED:20260326T200259Z
UID:10084355-1787166000-1787173200@thepinestimes.com
SUMMARY:Wednesday Night Trivia
DESCRIPTION:Head out to Wild Dogs Brewing for Trivia Night fun! Trivia takes place every Wednesday night at 7PM. Refer to Wild Dogs’ social media platforms for the weekly bonus question.
URL:https://thepinestimes.com/event/wednesday-night-trivia/2026-08-19/
LOCATION:Wild Dogs Brewing Company\, 136 N Steele St\, Sanford\, NC\, 27330\, United States
CATEGORIES:Adult Connections,Adults,Games,Sanford Events,Social
ATTACH;FMTTYPE=image/jpeg:https://thepinestimes.com/wp-content/uploads/WildDogsBrewingFeature1.jpg
ORGANIZER;CN="Wild Dogs Brewing":MAILTO:craig@wilddogsbrewing.com
END:VEVENT
BEGIN:VEVENT
DTSTART;TZID=America/New_York:20260826T190000
DTEND;TZID=America/New_York:20260826T210000
DTSTAMP:20260425T184907
CREATED:20260326T191726Z
LAST-MODIFIED:20260326T200259Z
UID:10084356-1787770800-1787778000@thepinestimes.com
SUMMARY:Wednesday Night Trivia
DESCRIPTION:Head out to Wild Dogs Brewing for Trivia Night fun! Trivia takes place every Wednesday night at 7PM. Refer to Wild Dogs’ social media platforms for the weekly bonus question.
URL:https://thepinestimes.com/event/wednesday-night-trivia/2026-08-26/
LOCATION:Wild Dogs Brewing Company\, 136 N Steele St\, Sanford\, NC\, 27330\, United States
CATEGORIES:Adult Connections,Adults,Games,Sanford Events,Social
ATTACH;FMTTYPE=image/jpeg:https://thepinestimes.com/wp-content/uploads/WildDogsBrewingFeature1.jpg
ORGANIZER;CN="Wild Dogs Brewing":MAILTO:craig@wilddogsbrewing.com
END:VEVENT
BEGIN:VEVENT
DTSTART;TZID=America/New_York:20260827T140000
DTEND;TZID=America/New_York:20260827T150000
DTSTAMP:20260425T184907
CREATED:20260119T235525Z
LAST-MODIFIED:20260119T235525Z
UID:10079832-1787839200-1787842800@thepinestimes.com
SUMMARY:Read\, Create\, Play! Craft and Storytime in the Park
DESCRIPTION:Bring the little ones out for Read\, Create\, Play! Craft and Storytime in the Park\, a fun monthly event hosted by Sanford Parks and Lee County Libraries. These gatherings take place on the fourth Thursday of every month at 2:00 p.m.\, providing a wonderful opportunity for children to engage with stories and hands-on crafts. The activities are held outdoors at Third Street Park\, located at 228 North Ave\, making it a perfect afternoon for community connection and creative play.
URL:https://thepinestimes.com/event/read-create-play-craft-and-storytime-in-the-park/2026-08-27/
LOCATION:Third Street Park\, 228 North Ave\, Sanford\, 27330\, United States
CATEGORIES:Children,Crafts,Educational,Family,Piney's Kids,Piney's Tiny's,Sanford Events,Sanford Events,Social
ATTACH;FMTTYPE=image/jpeg:https://thepinestimes.com/wp-content/uploads/SanfordLibraryStorytimeFeature.jpg
END:VEVENT
BEGIN:VEVENT
DTSTART;TZID=America/New_York:20260924T140000
DTEND;TZID=America/New_York:20260924T150000
DTSTAMP:20260425T184907
CREATED:20260119T235525Z
LAST-MODIFIED:20260119T235525Z
UID:10079833-1790258400-1790262000@thepinestimes.com
SUMMARY:Read\, Create\, Play! Craft and Storytime in the Park
DESCRIPTION:Bring the little ones out for Read\, Create\, Play! Craft and Storytime in the Park\, a fun monthly event hosted by Sanford Parks and Lee County Libraries. These gatherings take place on the fourth Thursday of every month at 2:00 p.m.\, providing a wonderful opportunity for children to engage with stories and hands-on crafts. The activities are held outdoors at Third Street Park\, located at 228 North Ave\, making it a perfect afternoon for community connection and creative play.
URL:https://thepinestimes.com/event/read-create-play-craft-and-storytime-in-the-park/2026-09-24/
LOCATION:Third Street Park\, 228 North Ave\, Sanford\, 27330\, United States
CATEGORIES:Children,Crafts,Educational,Family,Piney's Kids,Piney's Tiny's,Sanford Events,Sanford Events,Social
ATTACH;FMTTYPE=image/jpeg:https://thepinestimes.com/wp-content/uploads/SanfordLibraryStorytimeFeature.jpg
END:VEVENT
BEGIN:VEVENT
DTSTART;TZID=America/New_York:20261022T140000
DTEND;TZID=America/New_York:20261022T150000
DTSTAMP:20260425T184907
CREATED:20260119T235525Z
LAST-MODIFIED:20260119T235525Z
UID:10079834-1792677600-1792681200@thepinestimes.com
SUMMARY:Read\, Create\, Play! Craft and Storytime in the Park
DESCRIPTION:Bring the little ones out for Read\, Create\, Play! Craft and Storytime in the Park\, a fun monthly event hosted by Sanford Parks and Lee County Libraries. These gatherings take place on the fourth Thursday of every month at 2:00 p.m.\, providing a wonderful opportunity for children to engage with stories and hands-on crafts. The activities are held outdoors at Third Street Park\, located at 228 North Ave\, making it a perfect afternoon for community connection and creative play.
URL:https://thepinestimes.com/event/read-create-play-craft-and-storytime-in-the-park/2026-10-22/
LOCATION:Third Street Park\, 228 North Ave\, Sanford\, 27330\, United States
CATEGORIES:Children,Crafts,Educational,Family,Piney's Kids,Piney's Tiny's,Sanford Events,Sanford Events,Social
ATTACH;FMTTYPE=image/jpeg:https://thepinestimes.com/wp-content/uploads/SanfordLibraryStorytimeFeature.jpg
END:VEVENT
END:VCALENDAR