BEGIN:VCALENDAR
VERSION:2.0
PRODID:-//The Pines Times - ECPv6.15.20//NONSGML v1.0//EN
CALSCALE:GREGORIAN
METHOD:PUBLISH
X-WR-CALNAME:The Pines Times
X-ORIGINAL-URL:https://thepinestimes.com
X-WR-CALDESC:Events for The Pines Times
REFRESH-INTERVAL;VALUE=DURATION:PT1H
X-Robots-Tag:noindex
X-PUBLISHED-TTL:PT1H
BEGIN:VTIMEZONE
TZID:America/New_York
BEGIN:DAYLIGHT
TZOFFSETFROM:-0500
TZOFFSETTO:-0400
TZNAME:EDT
DTSTART:20250309T070000
END:DAYLIGHT
BEGIN:STANDARD
TZOFFSETFROM:-0400
TZOFFSETTO:-0500
TZNAME:EST
DTSTART:20251102T060000
END:STANDARD
BEGIN:DAYLIGHT
TZOFFSETFROM:-0500
TZOFFSETTO:-0400
TZNAME:EDT
DTSTART:20260308T070000
END:DAYLIGHT
BEGIN:STANDARD
TZOFFSETFROM:-0400
TZOFFSETTO:-0500
TZNAME:EST
DTSTART:20261101T060000
END:STANDARD
BEGIN:DAYLIGHT
TZOFFSETFROM:-0500
TZOFFSETTO:-0400
TZNAME:EDT
DTSTART:20270314T070000
END:DAYLIGHT
BEGIN:STANDARD
TZOFFSETFROM:-0400
TZOFFSETTO:-0500
TZNAME:EST
DTSTART:20271107T060000
END:STANDARD
END:VTIMEZONE
BEGIN:VEVENT
DTSTART;TZID=America/New_York:20260517T160000
DTEND;TZID=America/New_York:20260517T200000
DTSTAMP:20260422T223324
CREATED:20260409T122714Z
LAST-MODIFIED:20260409T122714Z
UID:10086680-1779033600-1779048000@thepinestimes.com
SUMMARY:Cruisin’ for Christ Benefit
DESCRIPTION:Holly Springs Baptist Church is hosting Cruisin’ for Christ on Sunday\, May 17th\, from 4PM-8PM at 385 Holly Springs Church Rd. in Broadway. This family-friendly event features free admission and includes classic cars\, gospel music\, and special performances by Charles Scarlette. Hot dogs and hamburgers will be served. All donations support our annual Men’s/Women’s Conference. Sponsored by the HSBC Men’s and Women’s Conference Committee\, it offers an afternoon of community fun and entertainment for all ages. For more information\, you can visit the church website at hsbcbwaync.org.
URL:https://thepinestimes.com/event/cruisin-for-christ-benefit/
LOCATION:Holly Springs Baptist Church\, 385 Holly Springs Church Rd.\, Broadway\, 27505\, United States
CATEGORIES:Adults,Benefit,Broadway,Car Show/Motorcycle Show/Cruise In,Family,Food,Fundraiser,Music,Senior,Social
ATTACH;FMTTYPE=image/jpeg:https://thepinestimes.com/wp-content/uploads/BroadwayCruiseInFeature.jpg
END:VEVENT
END:VCALENDAR