BEGIN:VCALENDAR
VERSION:2.0
PRODID:-//The Pines Times - ECPv6.15.20//NONSGML v1.0//EN
CALSCALE:GREGORIAN
METHOD:PUBLISH
X-ORIGINAL-URL:https://thepinestimes.com
X-WR-CALDESC:Events for The Pines Times
REFRESH-INTERVAL;VALUE=DURATION:PT1H
X-Robots-Tag:noindex
X-PUBLISHED-TTL:PT1H
BEGIN:VTIMEZONE
TZID:America/New_York
BEGIN:DAYLIGHT
TZOFFSETFROM:-0500
TZOFFSETTO:-0400
TZNAME:EDT
DTSTART:20240310T070000
END:DAYLIGHT
BEGIN:STANDARD
TZOFFSETFROM:-0400
TZOFFSETTO:-0500
TZNAME:EST
DTSTART:20241103T060000
END:STANDARD
BEGIN:DAYLIGHT
TZOFFSETFROM:-0500
TZOFFSETTO:-0400
TZNAME:EDT
DTSTART:20250309T070000
END:DAYLIGHT
BEGIN:STANDARD
TZOFFSETFROM:-0400
TZOFFSETTO:-0500
TZNAME:EST
DTSTART:20251102T060000
END:STANDARD
BEGIN:DAYLIGHT
TZOFFSETFROM:-0500
TZOFFSETTO:-0400
TZNAME:EDT
DTSTART:20260308T070000
END:DAYLIGHT
BEGIN:STANDARD
TZOFFSETFROM:-0400
TZOFFSETTO:-0500
TZNAME:EST
DTSTART:20261101T060000
END:STANDARD
END:VTIMEZONE
BEGIN:VEVENT
DTSTART;TZID=America/New_York:20250927T110000
DTEND;TZID=America/New_York:20250927T200000
DTSTAMP:20260420T181522
CREATED:20230915T015111Z
LAST-MODIFIED:20251115T150309Z
UID:10064869-1758970800-1759003200@thepinestimes.com
SUMMARY:"Get Lost in the Stalks" Corn Maze and Fun
DESCRIPTION:Come out for the 2025 Gallberry Corn Maze and “get lost in the stalks!” Have fun on the 12-acre farm with activities for the whole family. Activities include Hayride\, Jumping Pillow\, Double Barrel Tube Slides\, a giant Corn Shack (with a slide inside)\, the Bouncy Ball Corral\, Corn Hole games\, our Spookley [the Square Pumpkin] Barn\, Barrel Train Rides\, Sandbox Fort\, Hay Mountain\, super-sized Sandbox with diggers and more. There are farm animals and get ready for pig races! New this year…live music and food trucks on site! Fun for all ages to be had. \nThe season runs September 27th-October 26th. Saturdays & Sundays: 11am-8pm \nFor full details and online ticket purchases\, follow the link provided below.
URL:https://thepinestimes.com/event/gallberry-corn-maze/
LOCATION:Gallberry Corn Maze\, 5991 Braxton Rd\, Hope Mills\, NC\, 28348\, United States
CATEGORIES:Adults,Children,Fall,Fall in the Sandhills,Family,Food,Games,Halloween,Hope Mills,Nature/Outdoors,Out of Town,Pets/Animals,Piney's Kids,Piney's Tiny's,Social,Teen Activities,Young Adults
ATTACH;FMTTYPE=image/jpeg:https://thepinestimes.com/wp-content/uploads/GallberryCornMazeFeature.jpg
END:VEVENT
BEGIN:VEVENT
DTSTART;TZID=America/New_York:20250907T123000
DTEND;TZID=America/New_York:20250907T153000
DTSTAMP:20260420T181522
CREATED:20250904T203707Z
LAST-MODIFIED:20250904T203707Z
UID:10067652-1757248200-1757259000@thepinestimes.com
SUMMARY:Live Music: Whiskey Pines
DESCRIPTION:Come out to Dirtbag Ales Brewery and Taproom in Hope Mills and enjoy live music from Whiskey Pines!
URL:https://thepinestimes.com/event/live-music-whiskey-pines-4/
LOCATION:Dirtbag Ales Brewery and Taproom\, 15435 Corporation Dr\, Hope Mills\, NC\, 28348\, United States
CATEGORIES:Adult Connections,Adults,Hobby/Enthusiast,Hope Mills,Live Music,Music,Night Life,Out of Town,Social
ATTACH;FMTTYPE=image/jpeg:https://thepinestimes.com/wp-content/uploads/DirtbagAlesFeature.jpg
ORGANIZER;CN="Dirtbag Ales Brewery and Taproom":MAILTO:info@dirtbagales.com
END:VEVENT
BEGIN:VEVENT
DTSTART;TZID=America/New_York:20250906T190000
DTEND;TZID=America/New_York:20250906T220000
DTSTAMP:20260420T181522
CREATED:20250904T203557Z
LAST-MODIFIED:20250904T203557Z
UID:10067651-1757185200-1757196000@thepinestimes.com
SUMMARY:Live Music: Wade Hill and the Revival
DESCRIPTION:Come out to Dirtbag Ales Brewery and Taproom in Hope Mills and enjoy live music from Wade Hill and the Revival!
URL:https://thepinestimes.com/event/live-music-wade-hill-and-the-revival/
LOCATION:Dirtbag Ales Brewery and Taproom\, 15435 Corporation Dr\, Hope Mills\, NC\, 28348\, United States
CATEGORIES:Adult Connections,Adults,Hobby/Enthusiast,Hope Mills,Live Music,Music,Night Life,Out of Town,Social
ATTACH;FMTTYPE=image/jpeg:https://thepinestimes.com/wp-content/uploads/DirtbagAlesFeature.jpg
ORGANIZER;CN="Dirtbag Ales Brewery and Taproom":MAILTO:info@dirtbagales.com
END:VEVENT
BEGIN:VEVENT
DTSTART;TZID=America/New_York:20250905T190000
DTEND;TZID=America/New_York:20250905T220000
DTSTAMP:20260420T181522
CREATED:20250813T174227Z
LAST-MODIFIED:20250904T203215Z
UID:10064582-1757098800-1757109600@thepinestimes.com
SUMMARY:Live Music: Rambling Roosters
DESCRIPTION:Come out to Dirtbag Ales Brewery and Taproom in Hope Mills and enjoy live music from Rambling Roosters!
URL:https://thepinestimes.com/event/live-music-rambling-roosters/
LOCATION:Dirtbag Ales Brewery and Taproom\, 15435 Corporation Dr\, Hope Mills\, NC\, 28348\, United States
CATEGORIES:Adult Connections,Adults,Hobby/Enthusiast,Hope Mills,Live Music,Music,Night Life,Out of Town,Social
ATTACH;FMTTYPE=image/jpeg:https://thepinestimes.com/wp-content/uploads/DirtbagAlesFeature.jpg
ORGANIZER;CN="Dirtbag Ales Brewery and Taproom":MAILTO:info@dirtbagales.com
END:VEVENT
BEGIN:VEVENT
DTSTART;TZID=America/New_York:20250830T210000
DTEND;TZID=America/New_York:20250830T210000
DTSTAMP:20260420T181522
CREATED:20250807T144342Z
LAST-MODIFIED:20250828T122711Z
UID:10064182-1756587600-1756587600@thepinestimes.com
SUMMARY:Live Music: Andrew Hodgson
DESCRIPTION:Enjoy live music at Dirty Whiskey Craft Cocktails in Hope Mills! Andrew Hodgson is performing tonight!
URL:https://thepinestimes.com/event/live-music-andrew-hodgson/
LOCATION:Dirty Whiskey Craft Cocktail Bar\, 5431 Corporation Dr.\, Hope Mills\, 28348\, United States
CATEGORIES:Adult Connections,Beer and Wine,Hope Mills,Live Music,Night Life,Out of Town,Social
ATTACH;FMTTYPE=image/jpeg:https://thepinestimes.com/wp-content/uploads/DirtyWhiskeyCocktailsFeature.jpg
ORGANIZER;CN="Dirty Whiskey Craft Cocktail Bar":MAILTO:manager@dirtywhiskeyinc.com
END:VEVENT
BEGIN:VEVENT
DTSTART;TZID=America/New_York:20250829T210000
DTEND;TZID=America/New_York:20250829T210000
DTSTAMP:20260420T181522
CREATED:20250807T144232Z
LAST-MODIFIED:20250828T110829Z
UID:10064181-1756501200-1756501200@thepinestimes.com
SUMMARY:Live Music: Mary Stone
DESCRIPTION:Enjoy live music at Dirty Whiskey Craft Cocktails in Hope Mills! Mary Stone is performing tonight!
URL:https://thepinestimes.com/event/live-music-mary-stone-2/
LOCATION:Dirty Whiskey Craft Cocktail Bar\, 5431 Corporation Dr.\, Hope Mills\, 28348\, United States
CATEGORIES:Adult Connections,Beer and Wine,Hope Mills,Live Music,Night Life,Out of Town,Social
ATTACH;FMTTYPE=image/jpeg:https://thepinestimes.com/wp-content/uploads/DirtyWhiskeyCocktailsFeature.jpg
ORGANIZER;CN="Dirty Whiskey Craft Cocktail Bar":MAILTO:manager@dirtywhiskeyinc.com
END:VEVENT
BEGIN:VEVENT
DTSTART;TZID=America/New_York:20250628T170000
DTEND;TZID=America/New_York:20250628T213000
DTSTAMP:20260420T181522
CREATED:20250628T132053Z
LAST-MODIFIED:20250628T132053Z
UID:10062133-1751130000-1751146200@thepinestimes.com
SUMMARY:Hope Mills 2025 Independence Day Kickoff Celebration
DESCRIPTION:Come out for the Hope Mills 2025 Independence Day Kickoff Celebration at Hope Mills Municipal Park on Saturday\, June 28th | 5:00pm-9:30pm. Enjoy an evening full of fun\, food and fireworks. Live Music will be provided by Whiskey Pines & Dalton Davis. There will be facepainting\, a petting zoo\, the fun slide and food trucks & vendors on site to shop. The fireworks show begins at 9:00pm. Entry is free.
URL:https://thepinestimes.com/event/hope-mills-2025-independence-day-kickoff-celebration/
LOCATION:Hope Mills Municipal Park\, 5770 Rockfish Rd\, Hope Mills\, NC\, 28348\, United States
CATEGORIES:4th of July,Adults,Children,Concert,Family,Food,Games,Holiday Events,Hope Mills,Live Entertainment,Live Music,Nature/Outdoors,Out of Town
ATTACH;FMTTYPE=image/jpeg:https://thepinestimes.com/wp-content/uploads/HopeMillsFeature.jpg
ORGANIZER;CN="Hope Mills Parks and Recreation":MAILTO:hmpr@townofhopemills.com
END:VEVENT
END:VCALENDAR