BEGIN:VCALENDAR
VERSION:2.0
PRODID:-//The Pines Times - ECPv6.15.20//NONSGML v1.0//EN
CALSCALE:GREGORIAN
METHOD:PUBLISH
X-ORIGINAL-URL:https://thepinestimes.com
X-WR-CALDESC:Events for The Pines Times
REFRESH-INTERVAL;VALUE=DURATION:PT1H
X-Robots-Tag:noindex
X-PUBLISHED-TTL:PT1H
BEGIN:VTIMEZONE
TZID:America/New_York
BEGIN:DAYLIGHT
TZOFFSETFROM:-0500
TZOFFSETTO:-0400
TZNAME:EDT
DTSTART:20240310T070000
END:DAYLIGHT
BEGIN:STANDARD
TZOFFSETFROM:-0400
TZOFFSETTO:-0500
TZNAME:EST
DTSTART:20241103T060000
END:STANDARD
BEGIN:DAYLIGHT
TZOFFSETFROM:-0500
TZOFFSETTO:-0400
TZNAME:EDT
DTSTART:20250309T070000
END:DAYLIGHT
BEGIN:STANDARD
TZOFFSETFROM:-0400
TZOFFSETTO:-0500
TZNAME:EST
DTSTART:20251102T060000
END:STANDARD
BEGIN:DAYLIGHT
TZOFFSETFROM:-0500
TZOFFSETTO:-0400
TZNAME:EDT
DTSTART:20260308T070000
END:DAYLIGHT
BEGIN:STANDARD
TZOFFSETFROM:-0400
TZOFFSETTO:-0500
TZNAME:EST
DTSTART:20261101T060000
END:STANDARD
END:VTIMEZONE
BEGIN:VEVENT
DTSTART;TZID=America/New_York:20251206T110000
DTEND;TZID=America/New_York:20251206T210000
DTSTAMP:20260419T115419
CREATED:20251201T170158Z
LAST-MODIFIED:20251201T170158Z
UID:10076777-1765018800-1765054800@thepinestimes.com
SUMMARY:Hoke County Indigenous Pow Wow 2025
DESCRIPTION:The 3rd Annual Hoke County Indigenous Pow Wow will be held at Sandy Grove Middle in Lumber Bridge on December 6th from 11:00am-9:00pm! The event will feature food\, crafts\, and vendors\, along with exciting dance and drum contests. The event staff includes Host Drum: Southern Eagle\, MC: JD Moore\, Head Judge: Brock Jacobs\, Arena Director: John Locklear\, and Head Dancers: Page Freeman and Dakota Locklear. \nDoors opening at 10am\, Dancer Registration starting at 11am\, and the Grand Entry taking place at 12pm. Admission prices are as follows: Ages 0-6 are free\, Ages 7-12 are $5\, Seniors 60+ are $5\, and Adult admission is $10.
URL:https://thepinestimes.com/event/hoke-county-indigenous-pow-wow-2025/
LOCATION:Sandy Grove Middle School\, 300 Chason Rd.\, Lumber Bridge\, 28357\, United States
CATEGORIES:Adults,Crafts,Cultural,Dance,Educational,Family,Food,Historical,Hobby/Enthusiast,Live Entertainment,Lumber bridge,Music,Out of Town,Senior,Shopping,Social,Vendors,Young Adults
ATTACH;FMTTYPE=image/jpeg:https://thepinestimes.com/wp-content/uploads/PowwowFeature.jpg
ORGANIZER;CN="Hoke County Indigenous Powwow":MAILTO:HokeCountyIPW@gmail.com
END:VEVENT
BEGIN:VEVENT
DTSTART;TZID=America/New_York:20250809T170000
DTEND;TZID=America/New_York:20250809T223000
DTSTAMP:20260419T115419
CREATED:20250728T125301Z
LAST-MODIFIED:20250728T125301Z
UID:10063787-1754758800-1754778600@thepinestimes.com
SUMMARY:Ranch Rodeo & Bullriding Championship
DESCRIPTION:Come out for a wild and exciting day at the Ranch Rodeo & Bull Riding Championship Rodeo at 7 Branch Farm Arena! Get ready to witness thrilling rodeo events\, jaw-dropping bull riding and impressive lasso skills. Come early for the food & pre-rodeo events to include sky diving\, Mounted Shooters\, trick riding\, bounce houses and a helicopter fly-by. Bleecher and lawn seating available (bring chairs for lawn seating) and get there early for the best seats. For full details and online ticket purchases\, follow the event website link provided below.
URL:https://thepinestimes.com/event/ranch-rodeo-bullriding-championship/2025-08-09/
LOCATION:7 Branch Farm\, 62 McGougan Rd\, Lumber Bridge\, NC\, 28357\, United States
CATEGORIES:Adults,Contest,Equestrian,Family,Food,Hobby/Enthusiast,Live Entertainment,Lumber bridge,Nature/Outdoors,Out of Town,Rodeo,Sports
ORGANIZER;CN="7 Branch Farm":MAILTO:dayofthecowboy@yahoo.com
END:VEVENT
BEGIN:VEVENT
DTSTART;TZID=America/New_York:20250808T170000
DTEND;TZID=America/New_York:20250808T223000
DTSTAMP:20260419T115419
CREATED:20250728T125301Z
LAST-MODIFIED:20250728T125301Z
UID:10063786-1754672400-1754692200@thepinestimes.com
SUMMARY:Ranch Rodeo & Bullriding Championship
DESCRIPTION:Come out for a wild and exciting day at the Ranch Rodeo & Bull Riding Championship Rodeo at 7 Branch Farm Arena! Get ready to witness thrilling rodeo events\, jaw-dropping bull riding and impressive lasso skills. Come early for the food & pre-rodeo events to include sky diving\, Mounted Shooters\, trick riding\, bounce houses and a helicopter fly-by. Bleecher and lawn seating available (bring chairs for lawn seating) and get there early for the best seats. For full details and online ticket purchases\, follow the event website link provided below.
URL:https://thepinestimes.com/event/ranch-rodeo-bullriding-championship/2025-08-08/
LOCATION:7 Branch Farm\, 62 McGougan Rd\, Lumber Bridge\, NC\, 28357\, United States
CATEGORIES:Adults,Contest,Equestrian,Family,Food,Hobby/Enthusiast,Live Entertainment,Lumber bridge,Nature/Outdoors,Out of Town,Rodeo,Sports
ORGANIZER;CN="7 Branch Farm":MAILTO:dayofthecowboy@yahoo.com
END:VEVENT
BEGIN:VEVENT
DTSTART;TZID=America/New_York:20250726T170000
DTEND;TZID=America/New_York:20250726T223000
DTSTAMP:20260419T115419
CREATED:20250522T223755Z
LAST-MODIFIED:20250522T223755Z
UID:10059052-1753549200-1753569000@thepinestimes.com
SUMMARY:Day of the Cowboy Benefit ProRodeo
DESCRIPTION:Get ready for a thrilling season of rodeo action at 7 Branch Arena in Lumber Bridge! The 2025 Rodeo Events kick off with the 11th annual Day of the Cowboy Rodeo on July 25th & 26th\, followed by the Ranch Rodeo. Proceeds from the event support the Friends of the Cancer Center at Cape Fear Valley Hospital\, helping provide care and comfort to local cancer patients and their families. From 5:00pm-8:00pm\, enjoy exciting pre-rodeo events including Country Concert with Tyler Tew\, cowboy mounted shooting\, trick riders\, skydivers\, buffaloes\, bounce houses\, a bucking machine and food vendors. Then from 8:00pm-10:30pm\, experience the thrill of the main attraction—the Professional Rodeo Grand Entry. Enjoy bleacher and lawn seating\, on-site vendors and fun for the whole family. For tickets and more information\, visit call 910-779-3050 or visit the event website link provided below.
URL:https://thepinestimes.com/event/11th-annual-day-of-the-cowboy-benefit-prorodeo/2025-07-26/
LOCATION:7 Branch Farm\, 62 McGougan Rd\, Lumber Bridge\, NC\, 28357\, United States
CATEGORIES:Adults,Children,Equestrian,Family,Food,Hobby/Enthusiast,Live Entertainment,Lumber bridge,Nature/Outdoors,Out of Town,Rodeo,Sports,Vendors
ATTACH;FMTTYPE=image/jpeg:https://thepinestimes.com/wp-content/uploads/CowboyRodeoFeature.jpg
ORGANIZER;CN="7 Branch Farm":MAILTO:dayofthecowboy@yahoo.com
END:VEVENT
BEGIN:VEVENT
DTSTART;TZID=America/New_York:20250725T170000
DTEND;TZID=America/New_York:20250725T223000
DTSTAMP:20260419T115419
CREATED:20250522T223755Z
LAST-MODIFIED:20250522T223755Z
UID:10059051-1753462800-1753482600@thepinestimes.com
SUMMARY:Day of the Cowboy Benefit ProRodeo
DESCRIPTION:Get ready for a thrilling season of rodeo action at 7 Branch Arena in Lumber Bridge! The 2025 Rodeo Events kick off with the 11th annual Day of the Cowboy Rodeo on July 25th & 26th\, followed by the Ranch Rodeo. Proceeds from the event support the Friends of the Cancer Center at Cape Fear Valley Hospital\, helping provide care and comfort to local cancer patients and their families. From 5:00pm-8:00pm\, enjoy exciting pre-rodeo events including Country Concert with Tyler Tew\, cowboy mounted shooting\, trick riders\, skydivers\, buffaloes\, bounce houses\, a bucking machine and food vendors. Then from 8:00pm-10:30pm\, experience the thrill of the main attraction—the Professional Rodeo Grand Entry. Enjoy bleacher and lawn seating\, on-site vendors and fun for the whole family. For tickets and more information\, visit call 910-779-3050 or visit the event website link provided below.
URL:https://thepinestimes.com/event/11th-annual-day-of-the-cowboy-benefit-prorodeo/2025-07-25/
LOCATION:7 Branch Farm\, 62 McGougan Rd\, Lumber Bridge\, NC\, 28357\, United States
CATEGORIES:Adults,Children,Equestrian,Family,Food,Hobby/Enthusiast,Live Entertainment,Lumber bridge,Nature/Outdoors,Out of Town,Rodeo,Sports,Vendors
ATTACH;FMTTYPE=image/jpeg:https://thepinestimes.com/wp-content/uploads/CowboyRodeoFeature.jpg
ORGANIZER;CN="7 Branch Farm":MAILTO:dayofthecowboy@yahoo.com
END:VEVENT
END:VCALENDAR