BEGIN:VCALENDAR
VERSION:2.0
PRODID:-//The Pines Times - ECPv6.15.20//NONSGML v1.0//EN
CALSCALE:GREGORIAN
METHOD:PUBLISH
X-ORIGINAL-URL:https://thepinestimes.com
X-WR-CALDESC:Events for The Pines Times
REFRESH-INTERVAL;VALUE=DURATION:PT1H
X-Robots-Tag:noindex
X-PUBLISHED-TTL:PT1H
BEGIN:VTIMEZONE
TZID:America/New_York
BEGIN:DAYLIGHT
TZOFFSETFROM:-0500
TZOFFSETTO:-0400
TZNAME:EDT
DTSTART:20250309T070000
END:DAYLIGHT
BEGIN:STANDARD
TZOFFSETFROM:-0400
TZOFFSETTO:-0500
TZNAME:EST
DTSTART:20251102T060000
END:STANDARD
BEGIN:DAYLIGHT
TZOFFSETFROM:-0500
TZOFFSETTO:-0400
TZNAME:EDT
DTSTART:20260308T070000
END:DAYLIGHT
BEGIN:STANDARD
TZOFFSETFROM:-0400
TZOFFSETTO:-0500
TZNAME:EST
DTSTART:20261101T060000
END:STANDARD
BEGIN:DAYLIGHT
TZOFFSETFROM:-0500
TZOFFSETTO:-0400
TZNAME:EDT
DTSTART:20270314T070000
END:DAYLIGHT
BEGIN:STANDARD
TZOFFSETFROM:-0400
TZOFFSETTO:-0500
TZNAME:EST
DTSTART:20271107T060000
END:STANDARD
END:VTIMEZONE
BEGIN:VEVENT
DTSTART;TZID=America/New_York:20260531T140000
DTEND;TZID=America/New_York:20260531T230000
DTSTAMP:20260420T100456
CREATED:20260227T161514Z
LAST-MODIFIED:20260402T141034Z
UID:10081802-1780236000-1780268400@thepinestimes.com
SUMMARY:Hoke Fest 2026: Celebrating America 250th and Hoke County 115th
DESCRIPTION:Hoke Fest 2026 is returning to Raeford from May 29th-June 7th at East Hoke Middle School in Raeford! This year is celebrating America 250th and Hoke County 115th! This long-standing carnival has been a community staple since 2011\, providing family entertainment while raising funds for the middle school and local sports teams. While admission to the festival grounds is free\, there is a $5 charge for parking on school property. \nThe event is managed by an independent organization separate from the Raeford-Hoke Chamber of Commerce\, so vendors interested in participating should contact the Hoke Fest 2026 organization directly via their official social media or website to sign up.
URL:https://thepinestimes.com/event/hoke-fest-2026-celebrating-america-250th-and-hoke-county-115th/2026-05-31/
LOCATION:NC North Carolina
CATEGORIES:America 250,Exhibits,Fair/Festival,Family,Games,Live Entertainment,Music,Piney's Kids,Piney's Tiny's,Raeford Events,Senior,Social,Vendors,Young Adults
ATTACH;FMTTYPE=image/jpeg:https://thepinestimes.com/wp-content/uploads/HokeFestFeature.jpg
END:VEVENT
BEGIN:VEVENT
DTSTART;TZID=America/New_York:20260601T170000
DTEND;TZID=America/New_York:20260601T230000
DTSTAMP:20260420T100456
CREATED:20260227T161514Z
LAST-MODIFIED:20260402T141034Z
UID:10081803-1780333200-1780354800@thepinestimes.com
SUMMARY:Hoke Fest 2026: Celebrating America 250th and Hoke County 115th
DESCRIPTION:Hoke Fest 2026 is returning to Raeford from May 29th-June 7th at East Hoke Middle School in Raeford! This year is celebrating America 250th and Hoke County 115th! This long-standing carnival has been a community staple since 2011\, providing family entertainment while raising funds for the middle school and local sports teams. While admission to the festival grounds is free\, there is a $5 charge for parking on school property. \nThe event is managed by an independent organization separate from the Raeford-Hoke Chamber of Commerce\, so vendors interested in participating should contact the Hoke Fest 2026 organization directly via their official social media or website to sign up.
URL:https://thepinestimes.com/event/hoke-fest-2026-celebrating-america-250th-and-hoke-county-115th/2026-06-01/
LOCATION:NC North Carolina
CATEGORIES:America 250,Exhibits,Fair/Festival,Family,Games,Live Entertainment,Music,Piney's Kids,Piney's Tiny's,Raeford Events,Senior,Social,Vendors,Young Adults
ATTACH;FMTTYPE=image/jpeg:https://thepinestimes.com/wp-content/uploads/HokeFestFeature.jpg
END:VEVENT
BEGIN:VEVENT
DTSTART;TZID=America/New_York:20260602T170000
DTEND;TZID=America/New_York:20260602T230000
DTSTAMP:20260420T100456
CREATED:20260227T161514Z
LAST-MODIFIED:20260402T141034Z
UID:10081804-1780419600-1780441200@thepinestimes.com
SUMMARY:Hoke Fest 2026: Celebrating America 250th and Hoke County 115th
DESCRIPTION:Hoke Fest 2026 is returning to Raeford from May 29th-June 7th at East Hoke Middle School in Raeford! This year is celebrating America 250th and Hoke County 115th! This long-standing carnival has been a community staple since 2011\, providing family entertainment while raising funds for the middle school and local sports teams. While admission to the festival grounds is free\, there is a $5 charge for parking on school property. \nThe event is managed by an independent organization separate from the Raeford-Hoke Chamber of Commerce\, so vendors interested in participating should contact the Hoke Fest 2026 organization directly via their official social media or website to sign up.
URL:https://thepinestimes.com/event/hoke-fest-2026-celebrating-america-250th-and-hoke-county-115th/2026-06-02/
LOCATION:NC North Carolina
CATEGORIES:America 250,Exhibits,Fair/Festival,Family,Games,Live Entertainment,Music,Piney's Kids,Piney's Tiny's,Raeford Events,Senior,Social,Vendors,Young Adults
ATTACH;FMTTYPE=image/jpeg:https://thepinestimes.com/wp-content/uploads/HokeFestFeature.jpg
END:VEVENT
BEGIN:VEVENT
DTSTART;TZID=America/New_York:20260603T170000
DTEND;TZID=America/New_York:20260603T230000
DTSTAMP:20260420T100456
CREATED:20260227T161514Z
LAST-MODIFIED:20260402T141034Z
UID:10081805-1780506000-1780527600@thepinestimes.com
SUMMARY:Hoke Fest 2026: Celebrating America 250th and Hoke County 115th
DESCRIPTION:Hoke Fest 2026 is returning to Raeford from May 29th-June 7th at East Hoke Middle School in Raeford! This year is celebrating America 250th and Hoke County 115th! This long-standing carnival has been a community staple since 2011\, providing family entertainment while raising funds for the middle school and local sports teams. While admission to the festival grounds is free\, there is a $5 charge for parking on school property. \nThe event is managed by an independent organization separate from the Raeford-Hoke Chamber of Commerce\, so vendors interested in participating should contact the Hoke Fest 2026 organization directly via their official social media or website to sign up.
URL:https://thepinestimes.com/event/hoke-fest-2026-celebrating-america-250th-and-hoke-county-115th/2026-06-03/
LOCATION:NC North Carolina
CATEGORIES:America 250,Exhibits,Fair/Festival,Family,Games,Live Entertainment,Music,Piney's Kids,Piney's Tiny's,Raeford Events,Senior,Social,Vendors,Young Adults
ATTACH;FMTTYPE=image/jpeg:https://thepinestimes.com/wp-content/uploads/HokeFestFeature.jpg
END:VEVENT
BEGIN:VEVENT
DTSTART;TZID=America/New_York:20260604T170000
DTEND;TZID=America/New_York:20260604T230000
DTSTAMP:20260420T100456
CREATED:20260227T161514Z
LAST-MODIFIED:20260402T141034Z
UID:10081806-1780592400-1780614000@thepinestimes.com
SUMMARY:Hoke Fest 2026: Celebrating America 250th and Hoke County 115th
DESCRIPTION:Hoke Fest 2026 is returning to Raeford from May 29th-June 7th at East Hoke Middle School in Raeford! This year is celebrating America 250th and Hoke County 115th! This long-standing carnival has been a community staple since 2011\, providing family entertainment while raising funds for the middle school and local sports teams. While admission to the festival grounds is free\, there is a $5 charge for parking on school property. \nThe event is managed by an independent organization separate from the Raeford-Hoke Chamber of Commerce\, so vendors interested in participating should contact the Hoke Fest 2026 organization directly via their official social media or website to sign up.
URL:https://thepinestimes.com/event/hoke-fest-2026-celebrating-america-250th-and-hoke-county-115th/2026-06-04/
LOCATION:NC North Carolina
CATEGORIES:America 250,Exhibits,Fair/Festival,Family,Games,Live Entertainment,Music,Piney's Kids,Piney's Tiny's,Raeford Events,Senior,Social,Vendors,Young Adults
ATTACH;FMTTYPE=image/jpeg:https://thepinestimes.com/wp-content/uploads/HokeFestFeature.jpg
END:VEVENT
BEGIN:VEVENT
DTSTART;TZID=America/New_York:20260605T170000
DTEND;TZID=America/New_York:20260605T230000
DTSTAMP:20260420T100456
CREATED:20260227T161514Z
LAST-MODIFIED:20260402T141034Z
UID:10081807-1780678800-1780700400@thepinestimes.com
SUMMARY:Hoke Fest 2026: Celebrating America 250th and Hoke County 115th
DESCRIPTION:Hoke Fest 2026 is returning to Raeford from May 29th-June 7th at East Hoke Middle School in Raeford! This year is celebrating America 250th and Hoke County 115th! This long-standing carnival has been a community staple since 2011\, providing family entertainment while raising funds for the middle school and local sports teams. While admission to the festival grounds is free\, there is a $5 charge for parking on school property. \nThe event is managed by an independent organization separate from the Raeford-Hoke Chamber of Commerce\, so vendors interested in participating should contact the Hoke Fest 2026 organization directly via their official social media or website to sign up.
URL:https://thepinestimes.com/event/hoke-fest-2026-celebrating-america-250th-and-hoke-county-115th/2026-06-05/
LOCATION:NC North Carolina
CATEGORIES:America 250,Exhibits,Fair/Festival,Family,Games,Live Entertainment,Music,Piney's Kids,Piney's Tiny's,Raeford Events,Senior,Social,Vendors,Young Adults
ATTACH;FMTTYPE=image/jpeg:https://thepinestimes.com/wp-content/uploads/HokeFestFeature.jpg
END:VEVENT
END:VCALENDAR