BEGIN:VCALENDAR
VERSION:2.0
PRODID:-//The Pines Times - ECPv6.15.20//NONSGML v1.0//EN
CALSCALE:GREGORIAN
METHOD:PUBLISH
X-WR-CALNAME:The Pines Times
X-ORIGINAL-URL:https://thepinestimes.com
X-WR-CALDESC:Events for The Pines Times
REFRESH-INTERVAL;VALUE=DURATION:PT1H
X-Robots-Tag:noindex
X-PUBLISHED-TTL:PT1H
BEGIN:VTIMEZONE
TZID:America/New_York
BEGIN:DAYLIGHT
TZOFFSETFROM:-0500
TZOFFSETTO:-0400
TZNAME:EDT
DTSTART:20250309T070000
END:DAYLIGHT
BEGIN:STANDARD
TZOFFSETFROM:-0400
TZOFFSETTO:-0500
TZNAME:EST
DTSTART:20251102T060000
END:STANDARD
BEGIN:DAYLIGHT
TZOFFSETFROM:-0500
TZOFFSETTO:-0400
TZNAME:EDT
DTSTART:20260308T070000
END:DAYLIGHT
BEGIN:STANDARD
TZOFFSETFROM:-0400
TZOFFSETTO:-0500
TZNAME:EST
DTSTART:20261101T060000
END:STANDARD
BEGIN:DAYLIGHT
TZOFFSETFROM:-0500
TZOFFSETTO:-0400
TZNAME:EDT
DTSTART:20270314T070000
END:DAYLIGHT
BEGIN:STANDARD
TZOFFSETFROM:-0400
TZOFFSETTO:-0500
TZNAME:EST
DTSTART:20271107T060000
END:STANDARD
END:VTIMEZONE
BEGIN:VEVENT
DTSTART;TZID=America/New_York:20260423T110000
DTEND;TZID=America/New_York:20260423T160000
DTSTAMP:20260421T014636
CREATED:20260401T143936Z
LAST-MODIFIED:20260401T145041Z
UID:10085956-1776942000-1776960000@thepinestimes.com
SUMMARY:Brick City Gallery: April Exhibit Featuring JuliAnn Robinson
DESCRIPTION:The Brick City Gallery\, located in the MANN Center for the Arts at 507 N. Steele Street\, Suite 211\, in Sanford\, currently has 300 pieces of art created by 30 Sanford Brush & Palette Club members on display. Visitors can explore a collection that includes paintings\, pottery\, sculptures\, and unique novelty items\, all of which are refreshed every three months to provide a new experience. \nFor the month of April 2026\, the gallery is featuring JuliAnn Robinson. She will have on display 24 pieces of art\, spanning a diverse number of subjects. Abstracts to ethereal landscapes. An Opening Reception will take place on Saturday\, April 4th\, from 5PM-6PM. Refreshments will be served. The gallery is open Thursday through Sunday from 11:00AM-4:00PM\, and anyone seeking more information can reach out to gallery@sanfordarts.org. \nSanford Brush & Palette Club: Mann Center of North Carolina\, 507 N. Steele Street #8\, Sanford\, North Carolina 27330
URL:https://thepinestimes.com/event/brick-city-gallery-april-exhibit-featuring-juliann-robinson/2026-04-23/
LOCATION:MANN Center for the Arts\, 507 N Steele Street\, Sanford\, NC\, 27330\, United States
CATEGORIES:Art/Photography,Arts,Exhibits,Hobby/Enthusiast,Out of Town,Sanford Events,Sanford Events
ATTACH;FMTTYPE=image/jpeg:https://thepinestimes.com/wp-content/uploads/BrickCityGalleryFeature.jpg
END:VEVENT
BEGIN:VEVENT
DTSTART;TZID=America/New_York:20260424T090000
DTEND;TZID=America/New_York:20260424T160000
DTSTAMP:20260421T014636
CREATED:20260411T130351Z
LAST-MODIFIED:20260411T131817Z
UID:10086763-1777021200-1777046400@thepinestimes.com
SUMMARY:Pollinator Haven Garden Open House & Native Plant Sale
DESCRIPTION:Lee County Ag Week-Together We Grow! \nCome out for the Pollinator Haven Garden Open House & Native Plant Sale! Ready to transform your yard into a pollinator haven? Join the Lee County Extension Master Gardeners for a day of beauty\, learning\, and shopping at the Pollinator Haven Garden! Browse and shop from over 20 different varieties of native plants for sale (prices from $3-20)! These are the “powerhouse” plants our local bees\, butterflies\, and other pollinators love most. \n– When: Friday\, April 24th\n– Time: 9AM-4PM\n– Where: Pollinator Haven Garden (2420 Tramway Rd\, Sanford)\n– Admission: FREE! \nGardening Workshops:\nWant to level up your skills? We are hosting two specialized workshops throughout the day to help you grow with confidence:\n– 10AM-12PM- Native Perennial Plant Container Design Class (all materials included!)\n– 2PM-4PM-How to Start a Pollinator Garden Class (five plants included!) \nGarden Tours: Walk through the Pollinator Haven in full spring bloom and get ideas for your own landscape. \nAsk an Expert: Our Extension Master Gardener volunteers will be on-site all day to answer your toughest gardening questions.\nCome for the plants\, stay for the inspiration! Whether you have a green thumb or are just getting started\, there is something for everyone.
URL:https://thepinestimes.com/event/pollinator-haven-garden-open-house-native-plant-sale/
LOCATION:Pollinator Haven Garden\, 2420 Tramway Rd\, Sanford\, 27330\, United States
CATEGORIES:Adults,Classes/Workshops,Educational,Family,Gardening,Hobby/Enthusiast,Nature/Outdoors,Open House,Sanford Events,Sanford Events,Shopping
ATTACH;FMTTYPE=image/jpeg:https://thepinestimes.com/wp-content/uploads/LeeCountyAgWeekFeature.jpg
END:VEVENT
BEGIN:VEVENT
DTSTART;TZID=America/New_York:20260424T110000
DTEND;TZID=America/New_York:20260424T160000
DTSTAMP:20260421T014636
CREATED:20260401T143936Z
LAST-MODIFIED:20260401T145041Z
UID:10085957-1777028400-1777046400@thepinestimes.com
SUMMARY:Brick City Gallery: April Exhibit Featuring JuliAnn Robinson
DESCRIPTION:The Brick City Gallery\, located in the MANN Center for the Arts at 507 N. Steele Street\, Suite 211\, in Sanford\, currently has 300 pieces of art created by 30 Sanford Brush & Palette Club members on display. Visitors can explore a collection that includes paintings\, pottery\, sculptures\, and unique novelty items\, all of which are refreshed every three months to provide a new experience. \nFor the month of April 2026\, the gallery is featuring JuliAnn Robinson. She will have on display 24 pieces of art\, spanning a diverse number of subjects. Abstracts to ethereal landscapes. An Opening Reception will take place on Saturday\, April 4th\, from 5PM-6PM. Refreshments will be served. The gallery is open Thursday through Sunday from 11:00AM-4:00PM\, and anyone seeking more information can reach out to gallery@sanfordarts.org. \nSanford Brush & Palette Club: Mann Center of North Carolina\, 507 N. Steele Street #8\, Sanford\, North Carolina 27330
URL:https://thepinestimes.com/event/brick-city-gallery-april-exhibit-featuring-juliann-robinson/2026-04-24/
LOCATION:MANN Center for the Arts\, 507 N Steele Street\, Sanford\, NC\, 27330\, United States
CATEGORIES:Art/Photography,Arts,Exhibits,Hobby/Enthusiast,Out of Town,Sanford Events,Sanford Events
ATTACH;FMTTYPE=image/jpeg:https://thepinestimes.com/wp-content/uploads/BrickCityGalleryFeature.jpg
END:VEVENT
BEGIN:VEVENT
DTSTART;TZID=America/New_York:20260425T110000
DTEND;TZID=America/New_York:20260425T160000
DTSTAMP:20260421T014636
CREATED:20260401T143936Z
LAST-MODIFIED:20260401T145041Z
UID:10085958-1777114800-1777132800@thepinestimes.com
SUMMARY:Brick City Gallery: April Exhibit Featuring JuliAnn Robinson
DESCRIPTION:The Brick City Gallery\, located in the MANN Center for the Arts at 507 N. Steele Street\, Suite 211\, in Sanford\, currently has 300 pieces of art created by 30 Sanford Brush & Palette Club members on display. Visitors can explore a collection that includes paintings\, pottery\, sculptures\, and unique novelty items\, all of which are refreshed every three months to provide a new experience. \nFor the month of April 2026\, the gallery is featuring JuliAnn Robinson. She will have on display 24 pieces of art\, spanning a diverse number of subjects. Abstracts to ethereal landscapes. An Opening Reception will take place on Saturday\, April 4th\, from 5PM-6PM. Refreshments will be served. The gallery is open Thursday through Sunday from 11:00AM-4:00PM\, and anyone seeking more information can reach out to gallery@sanfordarts.org. \nSanford Brush & Palette Club: Mann Center of North Carolina\, 507 N. Steele Street #8\, Sanford\, North Carolina 27330
URL:https://thepinestimes.com/event/brick-city-gallery-april-exhibit-featuring-juliann-robinson/2026-04-25/
LOCATION:MANN Center for the Arts\, 507 N Steele Street\, Sanford\, NC\, 27330\, United States
CATEGORIES:Art/Photography,Arts,Exhibits,Hobby/Enthusiast,Out of Town,Sanford Events,Sanford Events
ATTACH;FMTTYPE=image/jpeg:https://thepinestimes.com/wp-content/uploads/BrickCityGalleryFeature.jpg
END:VEVENT
BEGIN:VEVENT
DTSTART;TZID=America/New_York:20260426T110000
DTEND;TZID=America/New_York:20260426T160000
DTSTAMP:20260421T014636
CREATED:20260401T143936Z
LAST-MODIFIED:20260401T145041Z
UID:10085959-1777201200-1777219200@thepinestimes.com
SUMMARY:Brick City Gallery: April Exhibit Featuring JuliAnn Robinson
DESCRIPTION:The Brick City Gallery\, located in the MANN Center for the Arts at 507 N. Steele Street\, Suite 211\, in Sanford\, currently has 300 pieces of art created by 30 Sanford Brush & Palette Club members on display. Visitors can explore a collection that includes paintings\, pottery\, sculptures\, and unique novelty items\, all of which are refreshed every three months to provide a new experience. \nFor the month of April 2026\, the gallery is featuring JuliAnn Robinson. She will have on display 24 pieces of art\, spanning a diverse number of subjects. Abstracts to ethereal landscapes. An Opening Reception will take place on Saturday\, April 4th\, from 5PM-6PM. Refreshments will be served. The gallery is open Thursday through Sunday from 11:00AM-4:00PM\, and anyone seeking more information can reach out to gallery@sanfordarts.org. \nSanford Brush & Palette Club: Mann Center of North Carolina\, 507 N. Steele Street #8\, Sanford\, North Carolina 27330
URL:https://thepinestimes.com/event/brick-city-gallery-april-exhibit-featuring-juliann-robinson/2026-04-26/
LOCATION:MANN Center for the Arts\, 507 N Steele Street\, Sanford\, NC\, 27330\, United States
CATEGORIES:Art/Photography,Arts,Exhibits,Hobby/Enthusiast,Out of Town,Sanford Events,Sanford Events
ATTACH;FMTTYPE=image/jpeg:https://thepinestimes.com/wp-content/uploads/BrickCityGalleryFeature.jpg
END:VEVENT
BEGIN:VEVENT
DTSTART;TZID=America/New_York:20260430T110000
DTEND;TZID=America/New_York:20260430T160000
DTSTAMP:20260421T014636
CREATED:20260401T143936Z
LAST-MODIFIED:20260401T145041Z
UID:10085960-1777546800-1777564800@thepinestimes.com
SUMMARY:Brick City Gallery: April Exhibit Featuring JuliAnn Robinson
DESCRIPTION:The Brick City Gallery\, located in the MANN Center for the Arts at 507 N. Steele Street\, Suite 211\, in Sanford\, currently has 300 pieces of art created by 30 Sanford Brush & Palette Club members on display. Visitors can explore a collection that includes paintings\, pottery\, sculptures\, and unique novelty items\, all of which are refreshed every three months to provide a new experience. \nFor the month of April 2026\, the gallery is featuring JuliAnn Robinson. She will have on display 24 pieces of art\, spanning a diverse number of subjects. Abstracts to ethereal landscapes. An Opening Reception will take place on Saturday\, April 4th\, from 5PM-6PM. Refreshments will be served. The gallery is open Thursday through Sunday from 11:00AM-4:00PM\, and anyone seeking more information can reach out to gallery@sanfordarts.org. \nSanford Brush & Palette Club: Mann Center of North Carolina\, 507 N. Steele Street #8\, Sanford\, North Carolina 27330
URL:https://thepinestimes.com/event/brick-city-gallery-april-exhibit-featuring-juliann-robinson/2026-04-30/
LOCATION:MANN Center for the Arts\, 507 N Steele Street\, Sanford\, NC\, 27330\, United States
CATEGORIES:Art/Photography,Arts,Exhibits,Hobby/Enthusiast,Out of Town,Sanford Events,Sanford Events
ATTACH;FMTTYPE=image/jpeg:https://thepinestimes.com/wp-content/uploads/BrickCityGalleryFeature.jpg
END:VEVENT
END:VCALENDAR