BEGIN:VCALENDAR
VERSION:2.0
PRODID:-//The Pines Times - ECPv6.15.20//NONSGML v1.0//EN
CALSCALE:GREGORIAN
METHOD:PUBLISH
X-WR-CALNAME:The Pines Times
X-ORIGINAL-URL:https://thepinestimes.com
X-WR-CALDESC:Events for The Pines Times
REFRESH-INTERVAL;VALUE=DURATION:PT1H
X-Robots-Tag:noindex
X-PUBLISHED-TTL:PT1H
BEGIN:VTIMEZONE
TZID:America/New_York
BEGIN:DAYLIGHT
TZOFFSETFROM:-0500
TZOFFSETTO:-0400
TZNAME:EDT
DTSTART:20240310T070000
END:DAYLIGHT
BEGIN:STANDARD
TZOFFSETFROM:-0400
TZOFFSETTO:-0500
TZNAME:EST
DTSTART:20241103T060000
END:STANDARD
BEGIN:DAYLIGHT
TZOFFSETFROM:-0500
TZOFFSETTO:-0400
TZNAME:EDT
DTSTART:20250309T070000
END:DAYLIGHT
BEGIN:STANDARD
TZOFFSETFROM:-0400
TZOFFSETTO:-0500
TZNAME:EST
DTSTART:20251102T060000
END:STANDARD
BEGIN:DAYLIGHT
TZOFFSETFROM:-0500
TZOFFSETTO:-0400
TZNAME:EDT
DTSTART:20260308T070000
END:DAYLIGHT
BEGIN:STANDARD
TZOFFSETFROM:-0400
TZOFFSETTO:-0500
TZNAME:EST
DTSTART:20261101T060000
END:STANDARD
END:VTIMEZONE
BEGIN:VEVENT
DTSTART;TZID=America/New_York:20250228T170000
DTEND;TZID=America/New_York:20250228T170000
DTSTAMP:20260420T095645
CREATED:20250208T192816Z
LAST-MODIFIED:20250208T192816Z
UID:10053544-1740762000-1740762000@thepinestimes.com
SUMMARY:Pinecrest High School Boys Varsity Basketball Home Game
DESCRIPTION:Come out for the Pinecrest High School Varsity Basketball Home Game vs. Apex Friendship High School on February 28th at 7:30pm. \n 
URL:https://thepinestimes.com/event/pinecrest-high-school-boys-varsity-basketball-home-game-2/
LOCATION:Pinecrest High School-James Moore Gymnasium\, 250 Voit Gilmore Rd.\, Southern Pines\, United States
CATEGORIES:Adults,Basketball,Family,Games,Hobby/Enthusiast,Live Entertainment,School,Social,Southern Pines Events,Sports
END:VEVENT
BEGIN:VEVENT
DTSTART;TZID=America/New_York:20250218T180000
DTEND;TZID=America/New_York:20250218T180000
DTSTAMP:20260420T095645
CREATED:20250119T204535Z
LAST-MODIFIED:20250119T204535Z
UID:10052828-1739901600-1739901600@thepinestimes.com
SUMMARY:Union Pines High School Girls Varsity Basketball: Conference Game
DESCRIPTION:Come out for the Union Pines High School Girls Varsity Basketball Home Game on February 18th at 6:00pm. This is the first round of the Conference Tournament. \n 
URL:https://thepinestimes.com/event/union-pines-high-school-girls-varsity-basketball-conference-game/
LOCATION:Union Pines High School\, 1981 Union Church Road\, Carthage\, NC\, 28326\, United States
CATEGORIES:Adults,Basketball,Cameron Events,Family,Games,Hobby/Enthusiast,Live Entertainment,School,Social,Southern Pines Events,Sports
ATTACH;FMTTYPE=image/jpeg:https://thepinestimes.com/wp-content/uploads/Union-Pines-Flyer.jpg
END:VEVENT
BEGIN:VEVENT
DTSTART;TZID=America/New_York:20250217T180000
DTEND;TZID=America/New_York:20250217T180000
DTSTAMP:20260420T095645
CREATED:20250119T204336Z
LAST-MODIFIED:20250119T204440Z
UID:10052827-1739815200-1739815200@thepinestimes.com
SUMMARY:Union Pines High School Boys Varsity Basketball: Conference Game
DESCRIPTION:Come out for the Union Pines High School Boys Varsity Basketball Home Game on February 17th at 6:00pm. This is the first round of the Conference Tournament. \n 
URL:https://thepinestimes.com/event/union-pines-high-school-boys-varsity-basketball-home-game/
LOCATION:Union Pines High School\, 1981 Union Church Road\, Carthage\, NC\, 28326\, United States
CATEGORIES:Adults,Basketball,Cameron Events,Family,Games,Hobby/Enthusiast,Live Entertainment,School,Social,Southern Pines Events,Sports
ATTACH;FMTTYPE=image/jpeg:https://thepinestimes.com/wp-content/uploads/Union-Pines-Flyer.jpg
END:VEVENT
BEGIN:VEVENT
DTSTART;TZID=America/New_York:20250214T183000
DTEND;TZID=America/New_York:20250214T183000
DTSTAMP:20260420T095645
CREATED:20250209T224027Z
LAST-MODIFIED:20250209T224027Z
UID:10053618-1739557800-1739557800@thepinestimes.com
SUMMARY:High School Boys Junior Varsity Basketball: Pinecrest vs Union Pines
DESCRIPTION:Come out for the Pinecrest High School Junior Varsity Basketball Home Game vs. Union Pines High School. \n 
URL:https://thepinestimes.com/event/high-school-boys-junior-varsity-basketball-pinecrest-vs-union-pines/
LOCATION:Pinecrest High School-James Moore Gymnasium\, 250 Voit Gilmore Rd.\, Southern Pines\, United States
CATEGORIES:Adults,Basketball,Family,Games,Hobby/Enthusiast,Live Entertainment,School,Social,Southern Pines Events,Sports
END:VEVENT
BEGIN:VEVENT
DTSTART;TZID=America/New_York:20250214T170000
DTEND;TZID=America/New_York:20250214T170000
DTSTAMP:20260420T095645
CREATED:20250209T225926Z
LAST-MODIFIED:20250209T225926Z
UID:10053617-1739552400-1739552400@thepinestimes.com
SUMMARY:High School Girls Junior Varsity Basketball Game: Pinecrest vs Union Pines
DESCRIPTION:Come out for the Pinecrest High School Girls Junior Varsity Basketball Home Game vs. Union Pines High School. \n 
URL:https://thepinestimes.com/event/high-school-girls-junior-varsity-basketball-game-pinecrest-vs-union-pines/
LOCATION:Pinecrest High School-James Moore Gymnasium\, 250 Voit Gilmore Rd.\, Southern Pines\, United States
CATEGORIES:Adults,Basketball,Family,Games,Hobby/Enthusiast,Live Entertainment,School,Social,Southern Pines Events,Sports
END:VEVENT
BEGIN:VEVENT
DTSTART;TZID=America/New_York:20250211T193000
DTEND;TZID=America/New_York:20250211T193000
DTSTAMP:20260420T095645
CREATED:20250119T202755Z
LAST-MODIFIED:20250119T202755Z
UID:10052823-1739302200-1739302200@thepinestimes.com
SUMMARY:Pinecrest High School Boys Varsity Basketball Home Game
DESCRIPTION:Come out for the Pinecrest High School Varsity Basketball Home Game vs. Hokey County High School on February 11th at 7:30pm. \n 
URL:https://thepinestimes.com/event/pinecrest-high-school-boys-varsity-basketball-home-game/
LOCATION:Pinecrest High School-James Moore Gymnasium\, 250 Voit Gilmore Rd.\, Southern Pines\, United States
CATEGORIES:Adults,Basketball,Family,Games,Hobby/Enthusiast,Live Entertainment,School,Social,Southern Pines Events,Sports
END:VEVENT
BEGIN:VEVENT
DTSTART;TZID=America/New_York:20250211T180000
DTEND;TZID=America/New_York:20250211T180000
DTSTAMP:20260420T095645
CREATED:20250119T203335Z
LAST-MODIFIED:20250119T203335Z
UID:10052826-1739296800-1739296800@thepinestimes.com
SUMMARY:Pinecrest High School Girls Varsity Basketball Home Game
DESCRIPTION:Come out for the Pinecrest High School Girls Varsity Basketball Home Game vs. Hoke County High School on February 11th at 6:00pm. \n 
URL:https://thepinestimes.com/event/pinecrest-high-school-girls-varsity-basketball-home-game-3/
LOCATION:Pinecrest High School-James Moore Gymnasium\, 250 Voit Gilmore Rd.\, Southern Pines\, United States
CATEGORIES:Adults,Basketball,Family,Games,Hobby/Enthusiast,Live Entertainment,School,Social,Southern Pines Events,Sports
END:VEVENT
BEGIN:VEVENT
DTSTART;TZID=America/New_York:20250211T163000
DTEND;TZID=America/New_York:20250211T163000
DTSTAMP:20260420T095645
CREATED:20250209T161019Z
LAST-MODIFIED:20250209T161019Z
UID:10053576-1739291400-1739291400@thepinestimes.com
SUMMARY:Union Pines High School Boys Varsity/JV Basketball
DESCRIPTION:Come out for the Union Pines High School Boys Varsity Basketball Home Games vs. Southern Lee Cavaliers. \n 
URL:https://thepinestimes.com/event/union-pines-high-school-boys-varsity-jv-basketball/
LOCATION:Union Pines High School\, 1981 Union Church Road\, Carthage\, NC\, 28326\, United States
CATEGORIES:Adults,Basketball,Cameron Events,Family,Games,Hobby/Enthusiast,Live Entertainment,School,Social,Southern Pines Events,Sports
ATTACH;FMTTYPE=image/jpeg:https://thepinestimes.com/wp-content/uploads/Union-Pines-Flyer.jpg
END:VEVENT
BEGIN:VEVENT
DTSTART;TZID=America/New_York:20250208T100000
DTEND;TZID=America/New_York:20250208T180000
DTSTAMP:20260420T095645
CREATED:20231021T142033Z
LAST-MODIFIED:20250117T184259Z
UID:10021734-1739008800-1739037600@thepinestimes.com
SUMMARY:Galentine's Day Market
DESCRIPTION:Twigg & Co. in Aberdeen is holding a Galentine’s Day event for you and your favorite gal pals! Join on Saturday\, February 8th | 10am-6pm to enjoy storewide sales\, live music\, champagne and $3 drinks.  \n 
URL:https://thepinestimes.com/event/christmas-open-house-weekend/
LOCATION:Twigg & Co.\, 206 N Sandhills Blvd\, Aberdeen\, NC\, 28315\, United States
CATEGORIES:Aberdeen Events,Adults,Baseball,Basketball,Cameron Events,Football,Hobby/Enthusiast,Holiday Events,Live Music,Markets,Open House,Pets/Animals,Political,Religious/Spiritual,School,Senior,Shopping,Support Group,Valentine's Day,Vendors
END:VEVENT
BEGIN:VEVENT
DTSTART;TZID=America/New_York:20250207T193000
DTEND;TZID=America/New_York:20250207T193000
DTSTAMP:20260420T095645
CREATED:20250119T205145Z
LAST-MODIFIED:20250119T205721Z
UID:10052830-1738956600-1738956600@thepinestimes.com
SUMMARY:North Moore High School Boys Varsity Basketball Home Game
DESCRIPTION:Come out for the North Moore High School Boys Varsity Basketball Home Game vs Graham High School on February 7th at 7:30pm. \n 
URL:https://thepinestimes.com/event/north-moore-high-school-boys-varsity-basketball-home-game-2/
LOCATION:Union Pines High School\, 1981 Union Church Road\, Carthage\, NC\, 28326\, United States
CATEGORIES:Adults,Basketball,Family,Games,Hobby/Enthusiast,Live Entertainment,Robbins Events,School,Social,Sports
ATTACH;FMTTYPE=image/jpeg:https://thepinestimes.com/wp-content/uploads/NorthMooreHighSchoolFeature.jpg
END:VEVENT
BEGIN:VEVENT
DTSTART;TZID=America/New_York:20250207T180000
DTEND;TZID=America/New_York:20250207T180000
DTSTAMP:20260420T095645
CREATED:20250119T210127Z
LAST-MODIFIED:20250119T210127Z
UID:10052833-1738951200-1738951200@thepinestimes.com
SUMMARY:North Moore High School Girls Varsity Basketball Home Game
DESCRIPTION:Come out for the North Moore High School Girls Varsity Basketball Home Game vs Graham High School on February 7th at 6:00pm. \n 
URL:https://thepinestimes.com/event/north-moore-high-school-girls-varsity-basketball-home-game-3/
LOCATION:Union Pines High School\, 1981 Union Church Road\, Carthage\, NC\, 28326\, United States
CATEGORIES:Adults,Basketball,Family,Games,Hobby/Enthusiast,Live Entertainment,Robbins Events,School,Social,Sports
ATTACH;FMTTYPE=image/jpeg:https://thepinestimes.com/wp-content/uploads/NorthMooreHighSchoolFeature.jpg
END:VEVENT
BEGIN:VEVENT
DTSTART;TZID=America/New_York:20250204T193000
DTEND;TZID=America/New_York:20250204T193000
DTSTAMP:20260420T095645
CREATED:20250119T201559Z
LAST-MODIFIED:20250119T202920Z
UID:10052821-1738697400-1738697400@thepinestimes.com
SUMMARY:Pinecrest High School Boys Varsity Basketball Home Game
DESCRIPTION:Come out for the Pinecrest High School Varsity Basketball Home Game vs. Lee County High School on February 4th at 7:30pm. \n 
URL:https://thepinestimes.com/event/pinecrest-high-school-varsity-basketball-home-game-2/
LOCATION:Pinecrest High School-James Moore Gymnasium\, 250 Voit Gilmore Rd.\, Southern Pines\, United States
CATEGORIES:Adults,Basketball,Family,Games,Hobby/Enthusiast,Live Entertainment,School,Social,Southern Pines Events,Sports
END:VEVENT
BEGIN:VEVENT
DTSTART;TZID=America/New_York:20250204T180000
DTEND;TZID=America/New_York:20250204T180000
DTSTAMP:20260420T095645
CREATED:20250119T210015Z
LAST-MODIFIED:20250119T210015Z
UID:10052832-1738692000-1738692000@thepinestimes.com
SUMMARY:North Moore High School Girls Varsity Basketball Home Game
DESCRIPTION:Come out for the North Moore High School Girls Varsity Basketball Home Game vs Seaforth High School on February 4th at 6:00pm. \n 
URL:https://thepinestimes.com/event/north-moore-high-school-girls-varsity-basketball-home-game-2/
LOCATION:Union Pines High School\, 1981 Union Church Road\, Carthage\, NC\, 28326\, United States
CATEGORIES:Adults,Basketball,Family,Games,Hobby/Enthusiast,Live Entertainment,Robbins Events,School,Social,Sports
ATTACH;FMTTYPE=image/jpeg:https://thepinestimes.com/wp-content/uploads/NorthMooreHighSchoolFeature.jpg
END:VEVENT
BEGIN:VEVENT
DTSTART;TZID=America/New_York:20250204T180000
DTEND;TZID=America/New_York:20250204T180000
DTSTAMP:20260420T095645
CREATED:20250119T203233Z
LAST-MODIFIED:20250119T203233Z
UID:10052825-1738692000-1738692000@thepinestimes.com
SUMMARY:Pinecrest High School Girls Varsity Basketball Home Game
DESCRIPTION:Come out for the Pinecrest High School Girls Varsity Basketball Home Game vs. Lee County High School on February 4th at 6:00pm. \n 
URL:https://thepinestimes.com/event/pinecrest-high-school-girls-varsity-basketball-home-game-2/
LOCATION:Pinecrest High School-James Moore Gymnasium\, 250 Voit Gilmore Rd.\, Southern Pines\, United States
CATEGORIES:Adults,Basketball,Family,Games,Hobby/Enthusiast,Live Entertainment,School,Social,Southern Pines Events,Sports
END:VEVENT
BEGIN:VEVENT
DTSTART;TZID=America/New_York:20250131T193000
DTEND;TZID=America/New_York:20250131T193000
DTSTAMP:20260420T095645
CREATED:20250119T201457Z
LAST-MODIFIED:20250119T202850Z
UID:10052820-1738351800-1738351800@thepinestimes.com
SUMMARY:Pinecrest High School Boys Varsity Basketball Home Game
DESCRIPTION:Come out for the Pinecrest High School Varsity Basketball Home Game vs. Southern Lee High School on January 31st at 7:30pm. \n 
URL:https://thepinestimes.com/event/pinecrest-high-school-varsity-basketball-home-game/
LOCATION:Pinecrest High School-James Moore Gymnasium\, 250 Voit Gilmore Rd.\, Southern Pines\, United States
CATEGORIES:Adults,Basketball,Family,Games,Hobby/Enthusiast,Live Entertainment,School,Social,Southern Pines Events,Sports
END:VEVENT
BEGIN:VEVENT
DTSTART;TZID=America/New_York:20250131T180000
DTEND;TZID=America/New_York:20250131T180000
DTSTAMP:20260420T095645
CREATED:20250119T203142Z
LAST-MODIFIED:20250119T203142Z
UID:10052824-1738346400-1738346400@thepinestimes.com
SUMMARY:Pinecrest High School Girls Varsity Basketball Home Game
DESCRIPTION:Come out for the Pinecrest High School Girls Varsity Basketball Home Game vs. Southern Lee High School on January 31st at 6:00pm. \n 
URL:https://thepinestimes.com/event/pinecrest-high-school-girls-varsity-basketball-home-game/
LOCATION:Pinecrest High School-James Moore Gymnasium\, 250 Voit Gilmore Rd.\, Southern Pines\, United States
CATEGORIES:Adults,Basketball,Family,Games,Hobby/Enthusiast,Live Entertainment,School,Social,Southern Pines Events,Sports
END:VEVENT
BEGIN:VEVENT
DTSTART;TZID=America/New_York:20250128T193000
DTEND;TZID=America/New_York:20250128T193000
DTSTAMP:20260420T095645
CREATED:20250119T205036Z
LAST-MODIFIED:20250119T205521Z
UID:10052829-1738092600-1738092600@thepinestimes.com
SUMMARY:North Moore High School Boys Varsity Basketball Home Game
DESCRIPTION:Come out for the North Moore High School Boys Varsity Basketball Home Game vs Jordan-Matthews High School on January 28th at 7:30pm. \n 
URL:https://thepinestimes.com/event/north-moore-high-school-boys-varsity-basketball-home-game/
LOCATION:Union Pines High School\, 1981 Union Church Road\, Carthage\, NC\, 28326\, United States
CATEGORIES:Adults,Basketball,Family,Games,Hobby/Enthusiast,Live Entertainment,Robbins Events,School,Social,Sports
ATTACH;FMTTYPE=image/jpeg:https://thepinestimes.com/wp-content/uploads/NorthMooreHighSchoolFeature.jpg
END:VEVENT
BEGIN:VEVENT
DTSTART;TZID=America/New_York:20250128T180000
DTEND;TZID=America/New_York:20250128T180000
DTSTAMP:20260420T095645
CREATED:20250119T205415Z
LAST-MODIFIED:20250119T205415Z
UID:10052831-1738087200-1738087200@thepinestimes.com
SUMMARY:North Moore High School Girls Varsity Basketball Home Game
DESCRIPTION:Come out for the North Moore High School Girls Varsity Basketball Home Game vs Jordan-Matthews High School on January 28th at 6:00pm. \n 
URL:https://thepinestimes.com/event/north-moore-high-school-girls-varsity-basketball-home-game/
LOCATION:Union Pines High School\, 1981 Union Church Road\, Carthage\, NC\, 28326\, United States
CATEGORIES:Adults,Basketball,Family,Games,Hobby/Enthusiast,Live Entertainment,Robbins Events,School,Social,Sports
ATTACH;FMTTYPE=image/jpeg:https://thepinestimes.com/wp-content/uploads/NorthMooreHighSchoolFeature.jpg
END:VEVENT
END:VCALENDAR