BEGIN:VCALENDAR
VERSION:2.0
PRODID:-//The Pines Times - ECPv6.15.20//NONSGML v1.0//EN
CALSCALE:GREGORIAN
METHOD:PUBLISH
X-WR-CALNAME:The Pines Times
X-ORIGINAL-URL:https://thepinestimes.com
X-WR-CALDESC:Events for The Pines Times
REFRESH-INTERVAL;VALUE=DURATION:PT1H
X-Robots-Tag:noindex
X-PUBLISHED-TTL:PT1H
BEGIN:VTIMEZONE
TZID:America/New_York
BEGIN:DAYLIGHT
TZOFFSETFROM:-0500
TZOFFSETTO:-0400
TZNAME:EDT
DTSTART:20250309T070000
END:DAYLIGHT
BEGIN:STANDARD
TZOFFSETFROM:-0400
TZOFFSETTO:-0500
TZNAME:EST
DTSTART:20251102T060000
END:STANDARD
BEGIN:DAYLIGHT
TZOFFSETFROM:-0500
TZOFFSETTO:-0400
TZNAME:EDT
DTSTART:20260308T070000
END:DAYLIGHT
BEGIN:STANDARD
TZOFFSETFROM:-0400
TZOFFSETTO:-0500
TZNAME:EST
DTSTART:20261101T060000
END:STANDARD
BEGIN:DAYLIGHT
TZOFFSETFROM:-0500
TZOFFSETTO:-0400
TZNAME:EDT
DTSTART:20270314T070000
END:DAYLIGHT
BEGIN:STANDARD
TZOFFSETFROM:-0400
TZOFFSETTO:-0500
TZNAME:EST
DTSTART:20271107T060000
END:STANDARD
END:VTIMEZONE
BEGIN:VEVENT
DTSTART;TZID=America/New_York:20260504T190000
DTEND;TZID=America/New_York:20260504T213000
DTSTAMP:20260424T164910
CREATED:20260409T140413Z
LAST-MODIFIED:20260409T140610Z
UID:10086687-1777921200-1777930200@thepinestimes.com
SUMMARY:Sandhills Trolley Company: "May the FOURTH Be With You-A Galactic Murder Mystery"
DESCRIPTION:Hop on with Sandhills Trolley Company for the May the FOURTH Be With You-A Galactic Murder Mystery! The trolley departs from Double Eagle Indoor Golf & Lounge on Monday\, May 04th\, 7:00PM-9:30PM. \nSomething has gone terribly wrong aboard the Cantina Cruiser…Board the iconic Sandhills Trolley — rebranded for one night only as the Cantina Cruiser — for an intergalactic evening of secrets\, sabotage\, and a crime that will shake the galaxy. Before the night is over… someone won’t make it to the next stop. \nNow it’s up to YOU. Step into the story as Jedi\, Sith\, smugglers\, bounty hunters\, or galactic royalty and help uncover who’s lying\, who’s hiding something\, and who’s behind it all! \nCostumes are HIGHLY encouraged. Princess Leia buns? Absolutely. Full Sith energy? Even better. There will be twists. There will be accusations. There may even be a light saber showdown…and someone on this trolley is not who they claim to be.Seats are limited. The Force is strong… but not everyone can be trusted. Tickets are $47.00+$1.18 ticket service fee. To purchase tickets\, CLICK HERE.
URL:https://thepinestimes.com/event/sandhills-trolley-company-may-the-fourth-be-with-you-a-galactic-murder-mystery/
LOCATION:Double Eagle Indoor Golf & Lounge\, 208 Brucewood Road\, Southern Pines\, 28387\, United States
CATEGORIES:Adult Connections,Adults,HOMEPAGE Featured,Sandhills Trolley Co.,Social,Southern Pines Events,Tours,Tours,Trolley
ATTACH;FMTTYPE=image/jpeg:https://thepinestimes.com/wp-content/uploads/SAndhillsTrolleyCofeature.jpg
ORGANIZER;CN="Sandhills Trolley Company":MAILTO:info@sandhillstrolley.com
END:VEVENT
END:VCALENDAR