BEGIN:VCALENDAR
VERSION:2.0
PRODID:-//The Pines Times - ECPv6.15.20//NONSGML v1.0//EN
CALSCALE:GREGORIAN
METHOD:PUBLISH
X-WR-CALNAME:The Pines Times
X-ORIGINAL-URL:https://thepinestimes.com
X-WR-CALDESC:Events for The Pines Times
REFRESH-INTERVAL;VALUE=DURATION:PT1H
X-Robots-Tag:noindex
X-PUBLISHED-TTL:PT1H
BEGIN:VTIMEZONE
TZID:America/New_York
BEGIN:DAYLIGHT
TZOFFSETFROM:-0500
TZOFFSETTO:-0400
TZNAME:EDT
DTSTART:20250309T070000
END:DAYLIGHT
BEGIN:STANDARD
TZOFFSETFROM:-0400
TZOFFSETTO:-0500
TZNAME:EST
DTSTART:20251102T060000
END:STANDARD
BEGIN:DAYLIGHT
TZOFFSETFROM:-0500
TZOFFSETTO:-0400
TZNAME:EDT
DTSTART:20260308T070000
END:DAYLIGHT
BEGIN:STANDARD
TZOFFSETFROM:-0400
TZOFFSETTO:-0500
TZNAME:EST
DTSTART:20261101T060000
END:STANDARD
BEGIN:DAYLIGHT
TZOFFSETFROM:-0500
TZOFFSETTO:-0400
TZNAME:EDT
DTSTART:20270314T070000
END:DAYLIGHT
BEGIN:STANDARD
TZOFFSETFROM:-0400
TZOFFSETTO:-0500
TZNAME:EST
DTSTART:20271107T060000
END:STANDARD
END:VTIMEZONE
BEGIN:VEVENT
DTSTART;TZID=America/New_York:20260429T180000
DTEND;TZID=America/New_York:20260429T190000
DTSTAMP:20260423T061240
CREATED:20260306T213751Z
LAST-MODIFIED:20260306T213751Z
UID:10082548-1777485600-1777489200@thepinestimes.com
SUMMARY:The America 250 NC Virtual Book Club
DESCRIPTION:The America 250 NC Virtual Book Club is a free\, statewide reading group open to everyone. Starting October 2025\, readers across North Carolina will meet virtually every other month at 6PM (EST) to discuss North Carolina–based historical fiction with stories that bring our state’s rich past to life. No membership or attendance requirement! Join any meeting that sparks your interest! Meet fellow readers\, explore powerful stories\, and share new perspectives from the comfort of home. \nUpcoming Book Discussions:\nApril 29\, 2026 – Cold Mountain by Charles Frazier\nJune 17\, 2026 – The Tobacco Wives by Adele Myers \nAbout America 250 NC:\nIn 2026\, North Carolina joins the nation in celebrating 250 years since the signing of the Declaration of Independence. The America 250 NC initiative honors our shared history\, diverse voices\, and the people who’ve shaped our state and country. \nFind meeting links\, book details\, and more through the event website link provided below.
URL:https://thepinestimes.com/event/the-america-250-nc-virtual-book-club/
LOCATION:Virtual\, NC\, United States
CATEGORIES:America 250,Book Club,Educational,Historical,Hobby/Enthusiast,Literary Event,Virtual
ATTACH;FMTTYPE=image/jpeg:https://thepinestimes.com/wp-content/uploads/America250VirtualBookClubFeature.jpg
END:VEVENT
BEGIN:VEVENT
DTSTART;TZID=America/New_York:20260508T083000
DTEND;TZID=America/New_York:20260508T153000
DTSTAMP:20260423T061240
CREATED:20260324T134929Z
LAST-MODIFIED:20260401T133411Z
UID:10083775-1778229000-1778254200@thepinestimes.com
SUMMARY:Sanford Dementia Caregiver Conference 2026
DESCRIPTION:The Dementia Alliance of North Carolina invites you to the Sanford Dementia Caregiver Education Conference on Friday\, May 8th\, at the Dennis A. Wicker Civic Center. Running from 8:30AM-3:30PM\, this in-person event offers a day of education\, networking\, and support for both new and experienced care partners. \nAttendees will have access to resource exhibitors and a Virtual Dementia Tour simulation led by Spring Arbor to better understand the sensory changes associated with the condition. Breakfast\, lunch\, and snacks are included\, and the day concludes with evaluations and door prizes. \nIt is a valuable opportunity for caregivers and professionals to connect and gain essential tools for navigating the daily challenges of dementia care. Registration ends Friday\, May 1st at 11:59PM EDT. Register through the event website link provided below.
URL:https://thepinestimes.com/event/sanford-dementia-caregiver-conference-2026/
LOCATION:Dennis A. Wicker Civic and Conference Center\, 1801 Nash Street\, Sanford\, NC\, 27330\, United States
CATEGORIES:Adults,Brain Change,Educational,Health & Wellness,Moore County Events,Out of Town,Seminar,Senior,Social,Virtual
ATTACH;FMTTYPE=image/jpeg:https://thepinestimes.com/wp-content/uploads/DementiaCaregiverEducationConferenceFeature.jpg
ORGANIZER;CN="Dementia Alliance of North Carolina":MAILTO:info@dementianc.org
END:VEVENT
END:VCALENDAR