BEGIN:VCALENDAR
VERSION:2.0
PRODID:-//The Pines Times - ECPv6.15.20//NONSGML v1.0//EN
CALSCALE:GREGORIAN
METHOD:PUBLISH
X-WR-CALNAME:The Pines Times
X-ORIGINAL-URL:https://thepinestimes.com
X-WR-CALDESC:Events for The Pines Times
REFRESH-INTERVAL;VALUE=DURATION:PT1H
X-Robots-Tag:noindex
X-PUBLISHED-TTL:PT1H
BEGIN:VTIMEZONE
TZID:America/New_York
BEGIN:DAYLIGHT
TZOFFSETFROM:-0500
TZOFFSETTO:-0400
TZNAME:EDT
DTSTART:20250309T070000
END:DAYLIGHT
BEGIN:STANDARD
TZOFFSETFROM:-0400
TZOFFSETTO:-0500
TZNAME:EST
DTSTART:20251102T060000
END:STANDARD
BEGIN:DAYLIGHT
TZOFFSETFROM:-0500
TZOFFSETTO:-0400
TZNAME:EDT
DTSTART:20260308T070000
END:DAYLIGHT
BEGIN:STANDARD
TZOFFSETFROM:-0400
TZOFFSETTO:-0500
TZNAME:EST
DTSTART:20261101T060000
END:STANDARD
BEGIN:DAYLIGHT
TZOFFSETFROM:-0500
TZOFFSETTO:-0400
TZNAME:EDT
DTSTART:20270314T070000
END:DAYLIGHT
BEGIN:STANDARD
TZOFFSETFROM:-0400
TZOFFSETTO:-0500
TZNAME:EST
DTSTART:20271107T060000
END:STANDARD
END:VTIMEZONE
BEGIN:VEVENT
DTSTART;TZID=America/New_York:20260514T183000
DTEND;TZID=America/New_York:20260514T183000
DTSTAMP:20260419T114752
CREATED:20260209T153605Z
LAST-MODIFIED:20260212T142109Z
UID:10080862-1778783400-1778783400@thepinestimes.com
SUMMARY:Railhouse Brewery: Brew Line Book Club
DESCRIPTION:📚 Welcome to the Brew Line Book Club! 🍺\nOne book. One night. Great beer. Great company. \n\nThe group meets at Railhouse Brewery on the second Thursday of each month at 6:30pm to dive into the book of the month. At the end of each meeting\, members vote on the next month’s read. Selections cover a variety of genres—so whether you love gripping fiction\, heartwarming memoirs\, or thought-provoking nonfiction\, you’ll find something to enjoy. Book suggestions are always welcome! Come for the stories\, stay for the pints\, and make some new friends along the way.\n\n📅Meeting: Second Thursday of the month at 6:30pm\n\n\n📍 Location: Railhouse Brewery\, 105 E. South Street\, Aberdeen\, NC
URL:https://thepinestimes.com/event/railhouse-brewery-brew-line-book-club/2026-05-14/
LOCATION:Railhouse Brewery\, 105 E South St Unit C\, Aberdeen\, NC\, 28315\, United States
CATEGORIES:Aberdeen Events,Adult Connections,Adults,Book Club,Discussion,Hobby/Enthusiast,Men,Moore County Events,Women
ATTACH;FMTTYPE=image/png:https://thepinestimes.com/wp-content/uploads/Railhouse-Book-Club-e1770906056323.png
ORGANIZER;CN="Railhouse Brewery":MAILTO:manager@railhousebrewery.com
END:VEVENT
BEGIN:VEVENT
DTSTART;TZID=America/New_York:20260611T183000
DTEND;TZID=America/New_York:20260611T183000
DTSTAMP:20260419T114752
CREATED:20260209T153605Z
LAST-MODIFIED:20260212T142109Z
UID:10080863-1781202600-1781202600@thepinestimes.com
SUMMARY:Railhouse Brewery: Brew Line Book Club
DESCRIPTION:📚 Welcome to the Brew Line Book Club! 🍺\nOne book. One night. Great beer. Great company. \n\nThe group meets at Railhouse Brewery on the second Thursday of each month at 6:30pm to dive into the book of the month. At the end of each meeting\, members vote on the next month’s read. Selections cover a variety of genres—so whether you love gripping fiction\, heartwarming memoirs\, or thought-provoking nonfiction\, you’ll find something to enjoy. Book suggestions are always welcome! Come for the stories\, stay for the pints\, and make some new friends along the way.\n\n📅Meeting: Second Thursday of the month at 6:30pm\n\n\n📍 Location: Railhouse Brewery\, 105 E. South Street\, Aberdeen\, NC
URL:https://thepinestimes.com/event/railhouse-brewery-brew-line-book-club/2026-06-11/
LOCATION:Railhouse Brewery\, 105 E South St Unit C\, Aberdeen\, NC\, 28315\, United States
CATEGORIES:Aberdeen Events,Adult Connections,Adults,Book Club,Discussion,Hobby/Enthusiast,Men,Moore County Events,Women
ATTACH;FMTTYPE=image/png:https://thepinestimes.com/wp-content/uploads/Railhouse-Book-Club-e1770906056323.png
ORGANIZER;CN="Railhouse Brewery":MAILTO:manager@railhousebrewery.com
END:VEVENT
END:VCALENDAR