BEGIN:VCALENDAR
VERSION:2.0
PRODID:-//The Pines Times - ECPv6.15.20//NONSGML v1.0//EN
CALSCALE:GREGORIAN
METHOD:PUBLISH
X-WR-CALNAME:The Pines Times
X-ORIGINAL-URL:https://thepinestimes.com
X-WR-CALDESC:Events for The Pines Times
REFRESH-INTERVAL;VALUE=DURATION:PT1H
X-Robots-Tag:noindex
X-PUBLISHED-TTL:PT1H
BEGIN:VTIMEZONE
TZID:America/New_York
BEGIN:DAYLIGHT
TZOFFSETFROM:-0500
TZOFFSETTO:-0400
TZNAME:EDT
DTSTART:20250309T070000
END:DAYLIGHT
BEGIN:STANDARD
TZOFFSETFROM:-0400
TZOFFSETTO:-0500
TZNAME:EST
DTSTART:20251102T060000
END:STANDARD
BEGIN:DAYLIGHT
TZOFFSETFROM:-0500
TZOFFSETTO:-0400
TZNAME:EDT
DTSTART:20260308T070000
END:DAYLIGHT
BEGIN:STANDARD
TZOFFSETFROM:-0400
TZOFFSETTO:-0500
TZNAME:EST
DTSTART:20261101T060000
END:STANDARD
BEGIN:DAYLIGHT
TZOFFSETFROM:-0500
TZOFFSETTO:-0400
TZNAME:EDT
DTSTART:20270314T070000
END:DAYLIGHT
BEGIN:STANDARD
TZOFFSETFROM:-0400
TZOFFSETTO:-0500
TZNAME:EST
DTSTART:20271107T060000
END:STANDARD
END:VTIMEZONE
BEGIN:VEVENT
DTSTART;TZID=America/New_York:20260508T100000
DTEND;TZID=America/New_York:20260508T103000
DTSTAMP:20260421T112830
CREATED:20251001T163956Z
LAST-MODIFIED:20260405T144926Z
UID:10086269-1778234400-1778236200@thepinestimes.com
SUMMARY:Storytime at Spark! Fire Station 82
DESCRIPTION:Southern Pines Public Library in partnership with the Southern Pines Fire Department presents Storytime at Spark! Bring the little ones out for Storytime at the Fire Station at 10am! Families with children ages birth–5 can enjoy stories\, songs\, and fun at Fire Station 82 in Carthage. Afterward\, stop by Spark! to check out books and keep the reading fun going at home. \n \n 
URL:https://thepinestimes.com/event/storytime-at-spark/2026-05-08/
LOCATION:Southern Pines Fire Station #82\, 7850 NC HWY 22\, Carthage\, NC\, 28327\, United States
CATEGORIES:Children,Educational,Family,Library,Literary Event,Piney's Kids,Piney's Tiny's,Social,Southern Pines Events,Storytimes
ATTACH;FMTTYPE=image/jpeg:https://thepinestimes.com/wp-content/uploads/StorytimeAtSparkSPPLfeature.jpg
END:VEVENT
BEGIN:VEVENT
DTSTART;TZID=America/New_York:20260612T100000
DTEND;TZID=America/New_York:20260612T103000
DTSTAMP:20260421T112830
CREATED:20251001T163956Z
LAST-MODIFIED:20260405T144926Z
UID:10086270-1781258400-1781260200@thepinestimes.com
SUMMARY:Storytime at Spark! Fire Station 82
DESCRIPTION:Southern Pines Public Library in partnership with the Southern Pines Fire Department presents Storytime at Spark! Bring the little ones out for Storytime at the Fire Station at 10am! Families with children ages birth–5 can enjoy stories\, songs\, and fun at Fire Station 82 in Carthage. Afterward\, stop by Spark! to check out books and keep the reading fun going at home. \n \n 
URL:https://thepinestimes.com/event/storytime-at-spark/2026-06-12/
LOCATION:Southern Pines Fire Station #82\, 7850 NC HWY 22\, Carthage\, NC\, 28327\, United States
CATEGORIES:Children,Educational,Family,Library,Literary Event,Piney's Kids,Piney's Tiny's,Social,Southern Pines Events,Storytimes
ATTACH;FMTTYPE=image/jpeg:https://thepinestimes.com/wp-content/uploads/StorytimeAtSparkSPPLfeature.jpg
END:VEVENT
BEGIN:VEVENT
DTSTART;TZID=America/New_York:20260710T100000
DTEND;TZID=America/New_York:20260710T103000
DTSTAMP:20260421T112830
CREATED:20251001T163956Z
LAST-MODIFIED:20260405T144926Z
UID:10086271-1783677600-1783679400@thepinestimes.com
SUMMARY:Storytime at Spark! Fire Station 82
DESCRIPTION:Southern Pines Public Library in partnership with the Southern Pines Fire Department presents Storytime at Spark! Bring the little ones out for Storytime at the Fire Station at 10am! Families with children ages birth–5 can enjoy stories\, songs\, and fun at Fire Station 82 in Carthage. Afterward\, stop by Spark! to check out books and keep the reading fun going at home. \n \n 
URL:https://thepinestimes.com/event/storytime-at-spark/2026-07-10/
LOCATION:Southern Pines Fire Station #82\, 7850 NC HWY 22\, Carthage\, NC\, 28327\, United States
CATEGORIES:Children,Educational,Family,Library,Literary Event,Piney's Kids,Piney's Tiny's,Social,Southern Pines Events,Storytimes
ATTACH;FMTTYPE=image/jpeg:https://thepinestimes.com/wp-content/uploads/StorytimeAtSparkSPPLfeature.jpg
END:VEVENT
BEGIN:VEVENT
DTSTART;TZID=America/New_York:20260814T100000
DTEND;TZID=America/New_York:20260814T103000
DTSTAMP:20260421T112830
CREATED:20251001T163956Z
LAST-MODIFIED:20260405T144926Z
UID:10086272-1786701600-1786703400@thepinestimes.com
SUMMARY:Storytime at Spark! Fire Station 82
DESCRIPTION:Southern Pines Public Library in partnership with the Southern Pines Fire Department presents Storytime at Spark! Bring the little ones out for Storytime at the Fire Station at 10am! Families with children ages birth–5 can enjoy stories\, songs\, and fun at Fire Station 82 in Carthage. Afterward\, stop by Spark! to check out books and keep the reading fun going at home. \n \n 
URL:https://thepinestimes.com/event/storytime-at-spark/2026-08-14/
LOCATION:Southern Pines Fire Station #82\, 7850 NC HWY 22\, Carthage\, NC\, 28327\, United States
CATEGORIES:Children,Educational,Family,Library,Literary Event,Piney's Kids,Piney's Tiny's,Social,Southern Pines Events,Storytimes
ATTACH;FMTTYPE=image/jpeg:https://thepinestimes.com/wp-content/uploads/StorytimeAtSparkSPPLfeature.jpg
END:VEVENT
END:VCALENDAR