BEGIN:VCALENDAR
VERSION:2.0
PRODID:-//The Pines Times - ECPv6.15.20//NONSGML v1.0//EN
CALSCALE:GREGORIAN
METHOD:PUBLISH
X-WR-CALNAME:The Pines Times
X-ORIGINAL-URL:https://thepinestimes.com
X-WR-CALDESC:Events for The Pines Times
REFRESH-INTERVAL;VALUE=DURATION:PT1H
X-Robots-Tag:noindex
X-PUBLISHED-TTL:PT1H
BEGIN:VTIMEZONE
TZID:America/New_York
BEGIN:DAYLIGHT
TZOFFSETFROM:-0500
TZOFFSETTO:-0400
TZNAME:EDT
DTSTART:20250309T070000
END:DAYLIGHT
BEGIN:STANDARD
TZOFFSETFROM:-0400
TZOFFSETTO:-0500
TZNAME:EST
DTSTART:20251102T060000
END:STANDARD
BEGIN:DAYLIGHT
TZOFFSETFROM:-0500
TZOFFSETTO:-0400
TZNAME:EDT
DTSTART:20260308T070000
END:DAYLIGHT
BEGIN:STANDARD
TZOFFSETFROM:-0400
TZOFFSETTO:-0500
TZNAME:EST
DTSTART:20261101T060000
END:STANDARD
BEGIN:DAYLIGHT
TZOFFSETFROM:-0500
TZOFFSETTO:-0400
TZNAME:EDT
DTSTART:20270314T070000
END:DAYLIGHT
BEGIN:STANDARD
TZOFFSETFROM:-0400
TZOFFSETTO:-0500
TZNAME:EST
DTSTART:20271107T060000
END:STANDARD
END:VTIMEZONE
BEGIN:VEVENT
DTSTART;TZID=America/New_York:20260503T130000
DTEND;TZID=America/New_York:20260503T170000
DTSTAMP:20260422T140416
CREATED:20260217T211751Z
LAST-MODIFIED:20260329T144839Z
UID:10081135-1777813200-1777827600@thepinestimes.com
SUMMARY:1st Sunday Farmers' Market
DESCRIPTION:Looking for the perfect Sunday outing? Join at James Creek Cider House for our Farmers Market\, happening on the 1st and 3rd Sundays of each month from March through November! Nestled in the heart of Cameron\, North Carolina\, the James Creek farmers market offers a beautiful setting with orchard views\, local vendors\, delicious food trucks\, craft cider\, and live music. It’s the perfect way to spend a relaxing afternoon with family and friends! \n This year there will be exciting new vendors along with the return of your favorites: Fresh Flowers\, Artisan Honey\, Pineland Pork\, Southern Pines Coffee\, Feathered Pines Farm\, and more. \nThis is more than a market — it’s a community gathering\, a Sunday tradition\, and the start of a new season at James Creek. Come shop. Come sip. Come celebrate with us. Kid-friendly and dog-friendly\, James Creek welcomes everyone to enjoy the best of our community. Bring your little ones\, bring your pups\, and experience all that our farm and orchard have to offer. Whether you’re shopping handmade goods\, tasting fresh local fare\, or sipping a cider slushy under the trees\, there’s something here for everyone. \n  \nWhat is a James Creek Market like? \n \n 
URL:https://thepinestimes.com/event/1st-sunday-farmers-market/2026-05-03/
LOCATION:James Creek Cider House\, 172 US Hwy 1 Bus.\, Cameron\, NC\, 28326\, United States
CATEGORIES:Adults,Beer and Wine,Cameron Events,Family,Food,Hobby/Enthusiast,Markets,Music,Shopping,Social,Vendors
ATTACH;FMTTYPE=image/png:https://thepinestimes.com/wp-content/uploads/Farmers-Market.png
ORGANIZER;CN="James Creek Cider House":MAILTO:info@jamescreekciderhouse.com
END:VEVENT
BEGIN:VEVENT
DTSTART;TZID=America/New_York:20260517T130000
DTEND;TZID=America/New_York:20260517T170000
DTSTAMP:20260422T140416
CREATED:20260217T211358Z
LAST-MODIFIED:20260406T182518Z
UID:10081066-1779022800-1779037200@thepinestimes.com
SUMMARY:3rd Sunday Farmers' Market
DESCRIPTION:Farmers Market at James Creek Cider House – Every 1st and 3rd Sunday from March to November! \nLooking for the perfect Sunday outing? Join us at James Creek Cider House for our Farmers Market\, happening on the 1st and 3rd Sundays of each month from March through November! \nNestled in the heart of Cameron\, North Carolina\, our farmers market offers a beautiful setting with orchard views\, local vendors\, delicious food trucks\, craft cider\, and live music. It’s the perfect way to spend a relaxing afternoon with family and friends! \nKid-friendly and dog-friendly\, James Creek welcomes everyone to enjoy the best of our community. Bring your little ones\, bring your pups\, and experience all that our farm and orchard have to offer. Whether you’re shopping handmade goods\, tasting fresh local fare\, or sipping a cider slushy under the trees\, there’s something here for everyone. \nWhat is a James Creek Market like? \n \n  \n  \n 
URL:https://thepinestimes.com/event/3rd-sunday-farmers-market/2026-05-17/
LOCATION:James Creek Cider House\, 172 US Hwy 1 Bus.\, Cameron\, NC\, 28326\, United States
CATEGORIES:Adults,Beer and Wine,Cameron Events,Family,Food,Hobby/Enthusiast,Markets,Music,Shopping,Social,Vendors
ATTACH;FMTTYPE=image/png:https://thepinestimes.com/wp-content/uploads/Farmers-Market.png
ORGANIZER;CN="James Creek Cider House":MAILTO:info@jamescreekciderhouse.com
END:VEVENT
BEGIN:VEVENT
DTSTART;TZID=America/New_York:20260607T130000
DTEND;TZID=America/New_York:20260607T170000
DTSTAMP:20260422T140416
CREATED:20260217T211751Z
LAST-MODIFIED:20260329T144839Z
UID:10081136-1780837200-1780851600@thepinestimes.com
SUMMARY:1st Sunday Farmers' Market
DESCRIPTION:Looking for the perfect Sunday outing? Join at James Creek Cider House for our Farmers Market\, happening on the 1st and 3rd Sundays of each month from March through November! Nestled in the heart of Cameron\, North Carolina\, the James Creek farmers market offers a beautiful setting with orchard views\, local vendors\, delicious food trucks\, craft cider\, and live music. It’s the perfect way to spend a relaxing afternoon with family and friends! \n This year there will be exciting new vendors along with the return of your favorites: Fresh Flowers\, Artisan Honey\, Pineland Pork\, Southern Pines Coffee\, Feathered Pines Farm\, and more. \nThis is more than a market — it’s a community gathering\, a Sunday tradition\, and the start of a new season at James Creek. Come shop. Come sip. Come celebrate with us. Kid-friendly and dog-friendly\, James Creek welcomes everyone to enjoy the best of our community. Bring your little ones\, bring your pups\, and experience all that our farm and orchard have to offer. Whether you’re shopping handmade goods\, tasting fresh local fare\, or sipping a cider slushy under the trees\, there’s something here for everyone. \n  \nWhat is a James Creek Market like? \n \n 
URL:https://thepinestimes.com/event/1st-sunday-farmers-market/2026-06-07/
LOCATION:James Creek Cider House\, 172 US Hwy 1 Bus.\, Cameron\, NC\, 28326\, United States
CATEGORIES:Adults,Beer and Wine,Cameron Events,Family,Food,Hobby/Enthusiast,Markets,Music,Shopping,Social,Vendors
ATTACH;FMTTYPE=image/png:https://thepinestimes.com/wp-content/uploads/Farmers-Market.png
ORGANIZER;CN="James Creek Cider House":MAILTO:info@jamescreekciderhouse.com
END:VEVENT
BEGIN:VEVENT
DTSTART;TZID=America/New_York:20260621T130000
DTEND;TZID=America/New_York:20260621T170000
DTSTAMP:20260422T140416
CREATED:20260217T211358Z
LAST-MODIFIED:20260406T182518Z
UID:10081067-1782046800-1782061200@thepinestimes.com
SUMMARY:3rd Sunday Farmers' Market
DESCRIPTION:Farmers Market at James Creek Cider House – Every 1st and 3rd Sunday from March to November! \nLooking for the perfect Sunday outing? Join us at James Creek Cider House for our Farmers Market\, happening on the 1st and 3rd Sundays of each month from March through November! \nNestled in the heart of Cameron\, North Carolina\, our farmers market offers a beautiful setting with orchard views\, local vendors\, delicious food trucks\, craft cider\, and live music. It’s the perfect way to spend a relaxing afternoon with family and friends! \nKid-friendly and dog-friendly\, James Creek welcomes everyone to enjoy the best of our community. Bring your little ones\, bring your pups\, and experience all that our farm and orchard have to offer. Whether you’re shopping handmade goods\, tasting fresh local fare\, or sipping a cider slushy under the trees\, there’s something here for everyone. \nWhat is a James Creek Market like? \n \n  \n  \n 
URL:https://thepinestimes.com/event/3rd-sunday-farmers-market/2026-06-21/
LOCATION:James Creek Cider House\, 172 US Hwy 1 Bus.\, Cameron\, NC\, 28326\, United States
CATEGORIES:Adults,Beer and Wine,Cameron Events,Family,Food,Hobby/Enthusiast,Markets,Music,Shopping,Social,Vendors
ATTACH;FMTTYPE=image/png:https://thepinestimes.com/wp-content/uploads/Farmers-Market.png
ORGANIZER;CN="James Creek Cider House":MAILTO:info@jamescreekciderhouse.com
END:VEVENT
BEGIN:VEVENT
DTSTART;TZID=America/New_York:20260705T130000
DTEND;TZID=America/New_York:20260705T170000
DTSTAMP:20260422T140416
CREATED:20260217T211751Z
LAST-MODIFIED:20260329T144839Z
UID:10081137-1783256400-1783270800@thepinestimes.com
SUMMARY:1st Sunday Farmers' Market
DESCRIPTION:Looking for the perfect Sunday outing? Join at James Creek Cider House for our Farmers Market\, happening on the 1st and 3rd Sundays of each month from March through November! Nestled in the heart of Cameron\, North Carolina\, the James Creek farmers market offers a beautiful setting with orchard views\, local vendors\, delicious food trucks\, craft cider\, and live music. It’s the perfect way to spend a relaxing afternoon with family and friends! \n This year there will be exciting new vendors along with the return of your favorites: Fresh Flowers\, Artisan Honey\, Pineland Pork\, Southern Pines Coffee\, Feathered Pines Farm\, and more. \nThis is more than a market — it’s a community gathering\, a Sunday tradition\, and the start of a new season at James Creek. Come shop. Come sip. Come celebrate with us. Kid-friendly and dog-friendly\, James Creek welcomes everyone to enjoy the best of our community. Bring your little ones\, bring your pups\, and experience all that our farm and orchard have to offer. Whether you’re shopping handmade goods\, tasting fresh local fare\, or sipping a cider slushy under the trees\, there’s something here for everyone. \n  \nWhat is a James Creek Market like? \n \n 
URL:https://thepinestimes.com/event/1st-sunday-farmers-market/2026-07-05/
LOCATION:James Creek Cider House\, 172 US Hwy 1 Bus.\, Cameron\, NC\, 28326\, United States
CATEGORIES:Adults,Beer and Wine,Cameron Events,Family,Food,Hobby/Enthusiast,Markets,Music,Shopping,Social,Vendors
ATTACH;FMTTYPE=image/png:https://thepinestimes.com/wp-content/uploads/Farmers-Market.png
ORGANIZER;CN="James Creek Cider House":MAILTO:info@jamescreekciderhouse.com
END:VEVENT
BEGIN:VEVENT
DTSTART;TZID=America/New_York:20260719T130000
DTEND;TZID=America/New_York:20260719T170000
DTSTAMP:20260422T140416
CREATED:20260217T211358Z
LAST-MODIFIED:20260406T182518Z
UID:10081068-1784466000-1784480400@thepinestimes.com
SUMMARY:3rd Sunday Farmers' Market
DESCRIPTION:Farmers Market at James Creek Cider House – Every 1st and 3rd Sunday from March to November! \nLooking for the perfect Sunday outing? Join us at James Creek Cider House for our Farmers Market\, happening on the 1st and 3rd Sundays of each month from March through November! \nNestled in the heart of Cameron\, North Carolina\, our farmers market offers a beautiful setting with orchard views\, local vendors\, delicious food trucks\, craft cider\, and live music. It’s the perfect way to spend a relaxing afternoon with family and friends! \nKid-friendly and dog-friendly\, James Creek welcomes everyone to enjoy the best of our community. Bring your little ones\, bring your pups\, and experience all that our farm and orchard have to offer. Whether you’re shopping handmade goods\, tasting fresh local fare\, or sipping a cider slushy under the trees\, there’s something here for everyone. \nWhat is a James Creek Market like? \n \n  \n  \n 
URL:https://thepinestimes.com/event/3rd-sunday-farmers-market/2026-07-19/
LOCATION:James Creek Cider House\, 172 US Hwy 1 Bus.\, Cameron\, NC\, 28326\, United States
CATEGORIES:Adults,Beer and Wine,Cameron Events,Family,Food,Hobby/Enthusiast,Markets,Music,Shopping,Social,Vendors
ATTACH;FMTTYPE=image/png:https://thepinestimes.com/wp-content/uploads/Farmers-Market.png
ORGANIZER;CN="James Creek Cider House":MAILTO:info@jamescreekciderhouse.com
END:VEVENT
BEGIN:VEVENT
DTSTART;TZID=America/New_York:20260802T130000
DTEND;TZID=America/New_York:20260802T170000
DTSTAMP:20260422T140416
CREATED:20260217T211751Z
LAST-MODIFIED:20260329T144839Z
UID:10081138-1785675600-1785690000@thepinestimes.com
SUMMARY:1st Sunday Farmers' Market
DESCRIPTION:Looking for the perfect Sunday outing? Join at James Creek Cider House for our Farmers Market\, happening on the 1st and 3rd Sundays of each month from March through November! Nestled in the heart of Cameron\, North Carolina\, the James Creek farmers market offers a beautiful setting with orchard views\, local vendors\, delicious food trucks\, craft cider\, and live music. It’s the perfect way to spend a relaxing afternoon with family and friends! \n This year there will be exciting new vendors along with the return of your favorites: Fresh Flowers\, Artisan Honey\, Pineland Pork\, Southern Pines Coffee\, Feathered Pines Farm\, and more. \nThis is more than a market — it’s a community gathering\, a Sunday tradition\, and the start of a new season at James Creek. Come shop. Come sip. Come celebrate with us. Kid-friendly and dog-friendly\, James Creek welcomes everyone to enjoy the best of our community. Bring your little ones\, bring your pups\, and experience all that our farm and orchard have to offer. Whether you’re shopping handmade goods\, tasting fresh local fare\, or sipping a cider slushy under the trees\, there’s something here for everyone. \n  \nWhat is a James Creek Market like? \n \n 
URL:https://thepinestimes.com/event/1st-sunday-farmers-market/2026-08-02/
LOCATION:James Creek Cider House\, 172 US Hwy 1 Bus.\, Cameron\, NC\, 28326\, United States
CATEGORIES:Adults,Beer and Wine,Cameron Events,Family,Food,Hobby/Enthusiast,Markets,Music,Shopping,Social,Vendors
ATTACH;FMTTYPE=image/png:https://thepinestimes.com/wp-content/uploads/Farmers-Market.png
ORGANIZER;CN="James Creek Cider House":MAILTO:info@jamescreekciderhouse.com
END:VEVENT
BEGIN:VEVENT
DTSTART;TZID=America/New_York:20260816T130000
DTEND;TZID=America/New_York:20260816T170000
DTSTAMP:20260422T140416
CREATED:20260217T211358Z
LAST-MODIFIED:20260406T182518Z
UID:10081069-1786885200-1786899600@thepinestimes.com
SUMMARY:3rd Sunday Farmers' Market
DESCRIPTION:Farmers Market at James Creek Cider House – Every 1st and 3rd Sunday from March to November! \nLooking for the perfect Sunday outing? Join us at James Creek Cider House for our Farmers Market\, happening on the 1st and 3rd Sundays of each month from March through November! \nNestled in the heart of Cameron\, North Carolina\, our farmers market offers a beautiful setting with orchard views\, local vendors\, delicious food trucks\, craft cider\, and live music. It’s the perfect way to spend a relaxing afternoon with family and friends! \nKid-friendly and dog-friendly\, James Creek welcomes everyone to enjoy the best of our community. Bring your little ones\, bring your pups\, and experience all that our farm and orchard have to offer. Whether you’re shopping handmade goods\, tasting fresh local fare\, or sipping a cider slushy under the trees\, there’s something here for everyone. \nWhat is a James Creek Market like? \n \n  \n  \n 
URL:https://thepinestimes.com/event/3rd-sunday-farmers-market/2026-08-16/
LOCATION:James Creek Cider House\, 172 US Hwy 1 Bus.\, Cameron\, NC\, 28326\, United States
CATEGORIES:Adults,Beer and Wine,Cameron Events,Family,Food,Hobby/Enthusiast,Markets,Music,Shopping,Social,Vendors
ATTACH;FMTTYPE=image/png:https://thepinestimes.com/wp-content/uploads/Farmers-Market.png
ORGANIZER;CN="James Creek Cider House":MAILTO:info@jamescreekciderhouse.com
END:VEVENT
BEGIN:VEVENT
DTSTART;TZID=America/New_York:20260906T130000
DTEND;TZID=America/New_York:20260906T170000
DTSTAMP:20260422T140416
CREATED:20260217T211751Z
LAST-MODIFIED:20260329T144839Z
UID:10081139-1788699600-1788714000@thepinestimes.com
SUMMARY:1st Sunday Farmers' Market
DESCRIPTION:Looking for the perfect Sunday outing? Join at James Creek Cider House for our Farmers Market\, happening on the 1st and 3rd Sundays of each month from March through November! Nestled in the heart of Cameron\, North Carolina\, the James Creek farmers market offers a beautiful setting with orchard views\, local vendors\, delicious food trucks\, craft cider\, and live music. It’s the perfect way to spend a relaxing afternoon with family and friends! \n This year there will be exciting new vendors along with the return of your favorites: Fresh Flowers\, Artisan Honey\, Pineland Pork\, Southern Pines Coffee\, Feathered Pines Farm\, and more. \nThis is more than a market — it’s a community gathering\, a Sunday tradition\, and the start of a new season at James Creek. Come shop. Come sip. Come celebrate with us. Kid-friendly and dog-friendly\, James Creek welcomes everyone to enjoy the best of our community. Bring your little ones\, bring your pups\, and experience all that our farm and orchard have to offer. Whether you’re shopping handmade goods\, tasting fresh local fare\, or sipping a cider slushy under the trees\, there’s something here for everyone. \n  \nWhat is a James Creek Market like? \n \n 
URL:https://thepinestimes.com/event/1st-sunday-farmers-market/2026-09-06/
LOCATION:James Creek Cider House\, 172 US Hwy 1 Bus.\, Cameron\, NC\, 28326\, United States
CATEGORIES:Adults,Beer and Wine,Cameron Events,Family,Food,Hobby/Enthusiast,Markets,Music,Shopping,Social,Vendors
ATTACH;FMTTYPE=image/png:https://thepinestimes.com/wp-content/uploads/Farmers-Market.png
ORGANIZER;CN="James Creek Cider House":MAILTO:info@jamescreekciderhouse.com
END:VEVENT
BEGIN:VEVENT
DTSTART;TZID=America/New_York:20260920T130000
DTEND;TZID=America/New_York:20260920T170000
DTSTAMP:20260422T140416
CREATED:20260217T211358Z
LAST-MODIFIED:20260406T182518Z
UID:10081070-1789909200-1789923600@thepinestimes.com
SUMMARY:3rd Sunday Farmers' Market
DESCRIPTION:Farmers Market at James Creek Cider House – Every 1st and 3rd Sunday from March to November! \nLooking for the perfect Sunday outing? Join us at James Creek Cider House for our Farmers Market\, happening on the 1st and 3rd Sundays of each month from March through November! \nNestled in the heart of Cameron\, North Carolina\, our farmers market offers a beautiful setting with orchard views\, local vendors\, delicious food trucks\, craft cider\, and live music. It’s the perfect way to spend a relaxing afternoon with family and friends! \nKid-friendly and dog-friendly\, James Creek welcomes everyone to enjoy the best of our community. Bring your little ones\, bring your pups\, and experience all that our farm and orchard have to offer. Whether you’re shopping handmade goods\, tasting fresh local fare\, or sipping a cider slushy under the trees\, there’s something here for everyone. \nWhat is a James Creek Market like? \n \n  \n  \n 
URL:https://thepinestimes.com/event/3rd-sunday-farmers-market/2026-09-20/
LOCATION:James Creek Cider House\, 172 US Hwy 1 Bus.\, Cameron\, NC\, 28326\, United States
CATEGORIES:Adults,Beer and Wine,Cameron Events,Family,Food,Hobby/Enthusiast,Markets,Music,Shopping,Social,Vendors
ATTACH;FMTTYPE=image/png:https://thepinestimes.com/wp-content/uploads/Farmers-Market.png
ORGANIZER;CN="James Creek Cider House":MAILTO:info@jamescreekciderhouse.com
END:VEVENT
BEGIN:VEVENT
DTSTART;TZID=America/New_York:20261004T130000
DTEND;TZID=America/New_York:20261004T170000
DTSTAMP:20260422T140416
CREATED:20260217T211751Z
LAST-MODIFIED:20260329T144839Z
UID:10081140-1791118800-1791133200@thepinestimes.com
SUMMARY:1st Sunday Farmers' Market
DESCRIPTION:Looking for the perfect Sunday outing? Join at James Creek Cider House for our Farmers Market\, happening on the 1st and 3rd Sundays of each month from March through November! Nestled in the heart of Cameron\, North Carolina\, the James Creek farmers market offers a beautiful setting with orchard views\, local vendors\, delicious food trucks\, craft cider\, and live music. It’s the perfect way to spend a relaxing afternoon with family and friends! \n This year there will be exciting new vendors along with the return of your favorites: Fresh Flowers\, Artisan Honey\, Pineland Pork\, Southern Pines Coffee\, Feathered Pines Farm\, and more. \nThis is more than a market — it’s a community gathering\, a Sunday tradition\, and the start of a new season at James Creek. Come shop. Come sip. Come celebrate with us. Kid-friendly and dog-friendly\, James Creek welcomes everyone to enjoy the best of our community. Bring your little ones\, bring your pups\, and experience all that our farm and orchard have to offer. Whether you’re shopping handmade goods\, tasting fresh local fare\, or sipping a cider slushy under the trees\, there’s something here for everyone. \n  \nWhat is a James Creek Market like? \n \n 
URL:https://thepinestimes.com/event/1st-sunday-farmers-market/2026-10-04/
LOCATION:James Creek Cider House\, 172 US Hwy 1 Bus.\, Cameron\, NC\, 28326\, United States
CATEGORIES:Adults,Beer and Wine,Cameron Events,Family,Food,Hobby/Enthusiast,Markets,Music,Shopping,Social,Vendors
ATTACH;FMTTYPE=image/png:https://thepinestimes.com/wp-content/uploads/Farmers-Market.png
ORGANIZER;CN="James Creek Cider House":MAILTO:info@jamescreekciderhouse.com
END:VEVENT
BEGIN:VEVENT
DTSTART;TZID=America/New_York:20261018T130000
DTEND;TZID=America/New_York:20261018T170000
DTSTAMP:20260422T140416
CREATED:20260217T211358Z
LAST-MODIFIED:20260406T182518Z
UID:10081071-1792328400-1792342800@thepinestimes.com
SUMMARY:3rd Sunday Farmers' Market
DESCRIPTION:Farmers Market at James Creek Cider House – Every 1st and 3rd Sunday from March to November! \nLooking for the perfect Sunday outing? Join us at James Creek Cider House for our Farmers Market\, happening on the 1st and 3rd Sundays of each month from March through November! \nNestled in the heart of Cameron\, North Carolina\, our farmers market offers a beautiful setting with orchard views\, local vendors\, delicious food trucks\, craft cider\, and live music. It’s the perfect way to spend a relaxing afternoon with family and friends! \nKid-friendly and dog-friendly\, James Creek welcomes everyone to enjoy the best of our community. Bring your little ones\, bring your pups\, and experience all that our farm and orchard have to offer. Whether you’re shopping handmade goods\, tasting fresh local fare\, or sipping a cider slushy under the trees\, there’s something here for everyone. \nWhat is a James Creek Market like? \n \n  \n  \n 
URL:https://thepinestimes.com/event/3rd-sunday-farmers-market/2026-10-18/
LOCATION:James Creek Cider House\, 172 US Hwy 1 Bus.\, Cameron\, NC\, 28326\, United States
CATEGORIES:Adults,Beer and Wine,Cameron Events,Family,Food,Hobby/Enthusiast,Markets,Music,Shopping,Social,Vendors
ATTACH;FMTTYPE=image/png:https://thepinestimes.com/wp-content/uploads/Farmers-Market.png
ORGANIZER;CN="James Creek Cider House":MAILTO:info@jamescreekciderhouse.com
END:VEVENT
BEGIN:VEVENT
DTSTART;TZID=America/New_York:20261101T130000
DTEND;TZID=America/New_York:20261101T170000
DTSTAMP:20260422T140416
CREATED:20260217T211751Z
LAST-MODIFIED:20260329T144839Z
UID:10081141-1793538000-1793552400@thepinestimes.com
SUMMARY:1st Sunday Farmers' Market
DESCRIPTION:Looking for the perfect Sunday outing? Join at James Creek Cider House for our Farmers Market\, happening on the 1st and 3rd Sundays of each month from March through November! Nestled in the heart of Cameron\, North Carolina\, the James Creek farmers market offers a beautiful setting with orchard views\, local vendors\, delicious food trucks\, craft cider\, and live music. It’s the perfect way to spend a relaxing afternoon with family and friends! \n This year there will be exciting new vendors along with the return of your favorites: Fresh Flowers\, Artisan Honey\, Pineland Pork\, Southern Pines Coffee\, Feathered Pines Farm\, and more. \nThis is more than a market — it’s a community gathering\, a Sunday tradition\, and the start of a new season at James Creek. Come shop. Come sip. Come celebrate with us. Kid-friendly and dog-friendly\, James Creek welcomes everyone to enjoy the best of our community. Bring your little ones\, bring your pups\, and experience all that our farm and orchard have to offer. Whether you’re shopping handmade goods\, tasting fresh local fare\, or sipping a cider slushy under the trees\, there’s something here for everyone. \n  \nWhat is a James Creek Market like? \n \n 
URL:https://thepinestimes.com/event/1st-sunday-farmers-market/2026-11-01/
LOCATION:James Creek Cider House\, 172 US Hwy 1 Bus.\, Cameron\, NC\, 28326\, United States
CATEGORIES:Adults,Beer and Wine,Cameron Events,Family,Food,Hobby/Enthusiast,Markets,Music,Shopping,Social,Vendors
ATTACH;FMTTYPE=image/png:https://thepinestimes.com/wp-content/uploads/Farmers-Market.png
ORGANIZER;CN="James Creek Cider House":MAILTO:info@jamescreekciderhouse.com
END:VEVENT
BEGIN:VEVENT
DTSTART;TZID=America/New_York:20261115T130000
DTEND;TZID=America/New_York:20261115T170000
DTSTAMP:20260422T140416
CREATED:20260217T211358Z
LAST-MODIFIED:20260406T182518Z
UID:10081072-1794747600-1794762000@thepinestimes.com
SUMMARY:3rd Sunday Farmers' Market
DESCRIPTION:Farmers Market at James Creek Cider House – Every 1st and 3rd Sunday from March to November! \nLooking for the perfect Sunday outing? Join us at James Creek Cider House for our Farmers Market\, happening on the 1st and 3rd Sundays of each month from March through November! \nNestled in the heart of Cameron\, North Carolina\, our farmers market offers a beautiful setting with orchard views\, local vendors\, delicious food trucks\, craft cider\, and live music. It’s the perfect way to spend a relaxing afternoon with family and friends! \nKid-friendly and dog-friendly\, James Creek welcomes everyone to enjoy the best of our community. Bring your little ones\, bring your pups\, and experience all that our farm and orchard have to offer. Whether you’re shopping handmade goods\, tasting fresh local fare\, or sipping a cider slushy under the trees\, there’s something here for everyone. \nWhat is a James Creek Market like? \n \n  \n  \n 
URL:https://thepinestimes.com/event/3rd-sunday-farmers-market/2026-11-15/
LOCATION:James Creek Cider House\, 172 US Hwy 1 Bus.\, Cameron\, NC\, 28326\, United States
CATEGORIES:Adults,Beer and Wine,Cameron Events,Family,Food,Hobby/Enthusiast,Markets,Music,Shopping,Social,Vendors
ATTACH;FMTTYPE=image/png:https://thepinestimes.com/wp-content/uploads/Farmers-Market.png
ORGANIZER;CN="James Creek Cider House":MAILTO:info@jamescreekciderhouse.com
END:VEVENT
END:VCALENDAR