BEGIN:VCALENDAR
VERSION:2.0
PRODID:-//The Pines Times - ECPv6.15.20//NONSGML v1.0//EN
CALSCALE:GREGORIAN
METHOD:PUBLISH
X-WR-CALNAME:The Pines Times
X-ORIGINAL-URL:https://thepinestimes.com
X-WR-CALDESC:Events for The Pines Times
REFRESH-INTERVAL;VALUE=DURATION:PT1H
X-Robots-Tag:noindex
X-PUBLISHED-TTL:PT1H
BEGIN:VTIMEZONE
TZID:America/New_York
BEGIN:DAYLIGHT
TZOFFSETFROM:-0500
TZOFFSETTO:-0400
TZNAME:EDT
DTSTART:20250309T070000
END:DAYLIGHT
BEGIN:STANDARD
TZOFFSETFROM:-0400
TZOFFSETTO:-0500
TZNAME:EST
DTSTART:20251102T060000
END:STANDARD
BEGIN:DAYLIGHT
TZOFFSETFROM:-0500
TZOFFSETTO:-0400
TZNAME:EDT
DTSTART:20260308T070000
END:DAYLIGHT
BEGIN:STANDARD
TZOFFSETFROM:-0400
TZOFFSETTO:-0500
TZNAME:EST
DTSTART:20261101T060000
END:STANDARD
BEGIN:DAYLIGHT
TZOFFSETFROM:-0500
TZOFFSETTO:-0400
TZNAME:EDT
DTSTART:20270314T070000
END:DAYLIGHT
BEGIN:STANDARD
TZOFFSETFROM:-0400
TZOFFSETTO:-0500
TZNAME:EST
DTSTART:20271107T060000
END:STANDARD
END:VTIMEZONE
BEGIN:VEVENT
DTSTART;TZID=America/New_York:20260427T190000
DTEND;TZID=America/New_York:20260427T200000
DTSTAMP:20260421T210907
CREATED:20260225T204629Z
LAST-MODIFIED:20260329T140708Z
UID:10081753-1777316400-1777320000@thepinestimes.com
SUMMARY:Salsa Classes
DESCRIPTION:Join Carolina DanceWorks every Monday night at 7PM beginning March 2nd for Salsa Class! All levels are welcome; no experience needed. Classes will lead up to Carolina DanceWorks’ first SalsaFest of 2026. The cost is $15. Call 910-725-1846 to reserve your spot now! \n \n 
URL:https://thepinestimes.com/event/salsa-classes-at-carolina-danceworks/2026-04-27/
LOCATION:Carolina DanceWorks\, 712 SW Broad Street\, Southern Pines\, NC\, 28387\, United States
CATEGORIES:Dance Class
ATTACH;FMTTYPE=image/png:https://thepinestimes.com/wp-content/uploads/Dance-Class.png
END:VEVENT
BEGIN:VEVENT
DTSTART;TZID=America/New_York:20260504T190000
DTEND;TZID=America/New_York:20260504T200000
DTSTAMP:20260421T210907
CREATED:20260225T204629Z
LAST-MODIFIED:20260329T140708Z
UID:10081754-1777921200-1777924800@thepinestimes.com
SUMMARY:Salsa Classes
DESCRIPTION:Join Carolina DanceWorks every Monday night at 7PM beginning March 2nd for Salsa Class! All levels are welcome; no experience needed. Classes will lead up to Carolina DanceWorks’ first SalsaFest of 2026. The cost is $15. Call 910-725-1846 to reserve your spot now! \n \n 
URL:https://thepinestimes.com/event/salsa-classes-at-carolina-danceworks/2026-05-04/
LOCATION:Carolina DanceWorks\, 712 SW Broad Street\, Southern Pines\, NC\, 28387\, United States
CATEGORIES:Dance Class
ATTACH;FMTTYPE=image/png:https://thepinestimes.com/wp-content/uploads/Dance-Class.png
END:VEVENT
END:VCALENDAR