BEGIN:VCALENDAR
VERSION:2.0
PRODID:-//The Pines Times - ECPv6.15.20//NONSGML v1.0//EN
CALSCALE:GREGORIAN
METHOD:PUBLISH
X-WR-CALNAME:The Pines Times
X-ORIGINAL-URL:https://thepinestimes.com
X-WR-CALDESC:Events for The Pines Times
REFRESH-INTERVAL;VALUE=DURATION:PT1H
X-Robots-Tag:noindex
X-PUBLISHED-TTL:PT1H
BEGIN:VTIMEZONE
TZID:America/New_York
BEGIN:DAYLIGHT
TZOFFSETFROM:-0500
TZOFFSETTO:-0400
TZNAME:EDT
DTSTART:20250309T070000
END:DAYLIGHT
BEGIN:STANDARD
TZOFFSETFROM:-0400
TZOFFSETTO:-0500
TZNAME:EST
DTSTART:20251102T060000
END:STANDARD
BEGIN:DAYLIGHT
TZOFFSETFROM:-0500
TZOFFSETTO:-0400
TZNAME:EDT
DTSTART:20260308T070000
END:DAYLIGHT
BEGIN:STANDARD
TZOFFSETFROM:-0400
TZOFFSETTO:-0500
TZNAME:EST
DTSTART:20261101T060000
END:STANDARD
BEGIN:DAYLIGHT
TZOFFSETFROM:-0500
TZOFFSETTO:-0400
TZNAME:EDT
DTSTART:20270314T070000
END:DAYLIGHT
BEGIN:STANDARD
TZOFFSETFROM:-0400
TZOFFSETTO:-0500
TZNAME:EST
DTSTART:20271107T060000
END:STANDARD
END:VTIMEZONE
BEGIN:VEVENT
DTSTART;TZID=America/New_York:20260427T143000
DTEND;TZID=America/New_York:20260427T153000
DTSTAMP:20260423T015216
CREATED:20260305T181325Z
LAST-MODIFIED:20260305T181418Z
UID:10082360-1777300200-1777303800@thepinestimes.com
SUMMARY:"Active Living Everyday" Program (Ages 55+)
DESCRIPTION:Southern Pines Parks & Recreation is offering a free “Active Living Everyday” program for adults aged 55 and older at the E.S. Douglass Community Center. This 12-week course meets on Mondays from March 2nd-May 18th\, between 2:30PM and 3:30PM\, to help seniors learn how to incorporate consistent physical activity into their daily routines. Focused on improving overall health and fitness levels\, the program provides a supportive environment for local residents to stay active together. Those interested in participating can find more information by calling 910-692-7376 or visiting the event website link provided below. \n \n  \n 
URL:https://thepinestimes.com/event/active-living-everyday-program-ages-55/2026-04-27/
LOCATION:E.S. Douglass Community Center\, 1185 W Pennsylvania Ave\, Southern Pines\, NC\, 28387\, United States
CATEGORIES:Classes/Workshops,Educational,Golden Age,Health & Wellness,Hobby/Enthusiast,Senior,Social,Southern Pines Events
ATTACH;FMTTYPE=image/jpeg:https://thepinestimes.com/wp-content/uploads/ActiveLivingEverydaySeniorFeature.jpg
ORGANIZER;CN="Southern Pines Parks and Recreation":MAILTO:bsampson@southernpines.net
END:VEVENT
BEGIN:VEVENT
DTSTART;TZID=America/New_York:20260504T143000
DTEND;TZID=America/New_York:20260504T153000
DTSTAMP:20260423T015216
CREATED:20260305T181325Z
LAST-MODIFIED:20260305T181418Z
UID:10082361-1777905000-1777908600@thepinestimes.com
SUMMARY:"Active Living Everyday" Program (Ages 55+)
DESCRIPTION:Southern Pines Parks & Recreation is offering a free “Active Living Everyday” program for adults aged 55 and older at the E.S. Douglass Community Center. This 12-week course meets on Mondays from March 2nd-May 18th\, between 2:30PM and 3:30PM\, to help seniors learn how to incorporate consistent physical activity into their daily routines. Focused on improving overall health and fitness levels\, the program provides a supportive environment for local residents to stay active together. Those interested in participating can find more information by calling 910-692-7376 or visiting the event website link provided below. \n \n  \n 
URL:https://thepinestimes.com/event/active-living-everyday-program-ages-55/2026-05-04/
LOCATION:E.S. Douglass Community Center\, 1185 W Pennsylvania Ave\, Southern Pines\, NC\, 28387\, United States
CATEGORIES:Classes/Workshops,Educational,Golden Age,Health & Wellness,Hobby/Enthusiast,Senior,Social,Southern Pines Events
ATTACH;FMTTYPE=image/jpeg:https://thepinestimes.com/wp-content/uploads/ActiveLivingEverydaySeniorFeature.jpg
ORGANIZER;CN="Southern Pines Parks and Recreation":MAILTO:bsampson@southernpines.net
END:VEVENT
BEGIN:VEVENT
DTSTART;TZID=America/New_York:20260511T143000
DTEND;TZID=America/New_York:20260511T153000
DTSTAMP:20260423T015216
CREATED:20260305T181325Z
LAST-MODIFIED:20260305T181418Z
UID:10082362-1778509800-1778513400@thepinestimes.com
SUMMARY:"Active Living Everyday" Program (Ages 55+)
DESCRIPTION:Southern Pines Parks & Recreation is offering a free “Active Living Everyday” program for adults aged 55 and older at the E.S. Douglass Community Center. This 12-week course meets on Mondays from March 2nd-May 18th\, between 2:30PM and 3:30PM\, to help seniors learn how to incorporate consistent physical activity into their daily routines. Focused on improving overall health and fitness levels\, the program provides a supportive environment for local residents to stay active together. Those interested in participating can find more information by calling 910-692-7376 or visiting the event website link provided below. \n \n  \n 
URL:https://thepinestimes.com/event/active-living-everyday-program-ages-55/2026-05-11/
LOCATION:E.S. Douglass Community Center\, 1185 W Pennsylvania Ave\, Southern Pines\, NC\, 28387\, United States
CATEGORIES:Classes/Workshops,Educational,Golden Age,Health & Wellness,Hobby/Enthusiast,Senior,Social,Southern Pines Events
ATTACH;FMTTYPE=image/jpeg:https://thepinestimes.com/wp-content/uploads/ActiveLivingEverydaySeniorFeature.jpg
ORGANIZER;CN="Southern Pines Parks and Recreation":MAILTO:bsampson@southernpines.net
END:VEVENT
BEGIN:VEVENT
DTSTART;TZID=America/New_York:20260518T143000
DTEND;TZID=America/New_York:20260518T153000
DTSTAMP:20260423T015216
CREATED:20260305T181325Z
LAST-MODIFIED:20260305T181418Z
UID:10082363-1779114600-1779118200@thepinestimes.com
SUMMARY:"Active Living Everyday" Program (Ages 55+)
DESCRIPTION:Southern Pines Parks & Recreation is offering a free “Active Living Everyday” program for adults aged 55 and older at the E.S. Douglass Community Center. This 12-week course meets on Mondays from March 2nd-May 18th\, between 2:30PM and 3:30PM\, to help seniors learn how to incorporate consistent physical activity into their daily routines. Focused on improving overall health and fitness levels\, the program provides a supportive environment for local residents to stay active together. Those interested in participating can find more information by calling 910-692-7376 or visiting the event website link provided below. \n \n  \n 
URL:https://thepinestimes.com/event/active-living-everyday-program-ages-55/2026-05-18/
LOCATION:E.S. Douglass Community Center\, 1185 W Pennsylvania Ave\, Southern Pines\, NC\, 28387\, United States
CATEGORIES:Classes/Workshops,Educational,Golden Age,Health & Wellness,Hobby/Enthusiast,Senior,Social,Southern Pines Events
ATTACH;FMTTYPE=image/jpeg:https://thepinestimes.com/wp-content/uploads/ActiveLivingEverydaySeniorFeature.jpg
ORGANIZER;CN="Southern Pines Parks and Recreation":MAILTO:bsampson@southernpines.net
END:VEVENT
END:VCALENDAR