BEGIN:VCALENDAR
VERSION:2.0
PRODID:-//The Pines Times - ECPv6.15.20//NONSGML v1.0//EN
CALSCALE:GREGORIAN
METHOD:PUBLISH
X-WR-CALNAME:The Pines Times
X-ORIGINAL-URL:https://thepinestimes.com
X-WR-CALDESC:Events for The Pines Times
REFRESH-INTERVAL;VALUE=DURATION:PT1H
X-Robots-Tag:noindex
X-PUBLISHED-TTL:PT1H
BEGIN:VTIMEZONE
TZID:America/New_York
BEGIN:DAYLIGHT
TZOFFSETFROM:-0500
TZOFFSETTO:-0400
TZNAME:EDT
DTSTART:20250309T070000
END:DAYLIGHT
BEGIN:STANDARD
TZOFFSETFROM:-0400
TZOFFSETTO:-0500
TZNAME:EST
DTSTART:20251102T060000
END:STANDARD
BEGIN:DAYLIGHT
TZOFFSETFROM:-0500
TZOFFSETTO:-0400
TZNAME:EDT
DTSTART:20260308T070000
END:DAYLIGHT
BEGIN:STANDARD
TZOFFSETFROM:-0400
TZOFFSETTO:-0500
TZNAME:EST
DTSTART:20261101T060000
END:STANDARD
BEGIN:DAYLIGHT
TZOFFSETFROM:-0500
TZOFFSETTO:-0400
TZNAME:EDT
DTSTART:20270314T070000
END:DAYLIGHT
BEGIN:STANDARD
TZOFFSETFROM:-0400
TZOFFSETTO:-0500
TZNAME:EST
DTSTART:20271107T060000
END:STANDARD
END:VTIMEZONE
BEGIN:VEVENT
DTSTART;TZID=America/New_York:20260502T083000
DTEND;TZID=America/New_York:20260502T093000
DTSTAMP:20260423T153528
CREATED:20250619T130837Z
LAST-MODIFIED:20260320T003121Z
UID:10083582-1777710600-1777714200@thepinestimes.com
SUMMARY:Free Community 5k Fun Run
DESCRIPTION:Join FirstHealth Fitness in Pinehurst this Saturday\, March 21st at 8:30am for a free 5k Fun Run! This is a no frills\, timed event on the Greenway Trails. No registration required. Open to members and the community. \n \n 
URL:https://thepinestimes.com/event/free-5k-fun-run/2026-05-02/
LOCATION:FirstHealth Fitness Center-Pinehurst\, 170 Memorial Dr.\, Pinehurst\, NC\, 28373\, United States
CATEGORIES:Adults,Children,Family,Health & Wellness,Hobby/Enthusiast,Nature/Outdoors,Pinehurst Events,Piney's Kids,Senior,Social,Teen Activities,Walk/Run,Young Adults
ATTACH;FMTTYPE=image/jpeg:https://thepinestimes.com/wp-content/uploads/FirstHealthFunRunFeature.jpg
END:VEVENT
BEGIN:VEVENT
DTSTART;TZID=America/New_York:20260912T083000
DTEND;TZID=America/New_York:20260912T093000
DTSTAMP:20260423T153528
CREATED:20250619T130837Z
LAST-MODIFIED:20260320T003121Z
UID:10083583-1789201800-1789205400@thepinestimes.com
SUMMARY:Free Community 5k Fun Run
DESCRIPTION:Join FirstHealth Fitness in Pinehurst this Saturday\, March 21st at 8:30am for a free 5k Fun Run! This is a no frills\, timed event on the Greenway Trails. No registration required. Open to members and the community. \n \n 
URL:https://thepinestimes.com/event/free-5k-fun-run/2026-09-12/
LOCATION:FirstHealth Fitness Center-Pinehurst\, 170 Memorial Dr.\, Pinehurst\, NC\, 28373\, United States
CATEGORIES:Adults,Children,Family,Health & Wellness,Hobby/Enthusiast,Nature/Outdoors,Pinehurst Events,Piney's Kids,Senior,Social,Teen Activities,Walk/Run,Young Adults
ATTACH;FMTTYPE=image/jpeg:https://thepinestimes.com/wp-content/uploads/FirstHealthFunRunFeature.jpg
END:VEVENT
END:VCALENDAR