BEGIN:VCALENDAR
VERSION:2.0
PRODID:-//The Pines Times - ECPv6.15.20//NONSGML v1.0//EN
CALSCALE:GREGORIAN
METHOD:PUBLISH
X-WR-CALNAME:The Pines Times
X-ORIGINAL-URL:https://thepinestimes.com
X-WR-CALDESC:Events for The Pines Times
REFRESH-INTERVAL;VALUE=DURATION:PT1H
X-Robots-Tag:noindex
X-PUBLISHED-TTL:PT1H
BEGIN:VTIMEZONE
TZID:America/New_York
BEGIN:DAYLIGHT
TZOFFSETFROM:-0500
TZOFFSETTO:-0400
TZNAME:EDT
DTSTART:20250309T070000
END:DAYLIGHT
BEGIN:STANDARD
TZOFFSETFROM:-0400
TZOFFSETTO:-0500
TZNAME:EST
DTSTART:20251102T060000
END:STANDARD
BEGIN:DAYLIGHT
TZOFFSETFROM:-0500
TZOFFSETTO:-0400
TZNAME:EDT
DTSTART:20260308T070000
END:DAYLIGHT
BEGIN:STANDARD
TZOFFSETFROM:-0400
TZOFFSETTO:-0500
TZNAME:EST
DTSTART:20261101T060000
END:STANDARD
BEGIN:DAYLIGHT
TZOFFSETFROM:-0500
TZOFFSETTO:-0400
TZNAME:EDT
DTSTART:20270314T070000
END:DAYLIGHT
BEGIN:STANDARD
TZOFFSETFROM:-0400
TZOFFSETTO:-0500
TZNAME:EST
DTSTART:20271107T060000
END:STANDARD
END:VTIMEZONE
BEGIN:VEVENT
DTSTART;TZID=America/New_York:20260509T140000
DTEND;TZID=America/New_York:20260509T160000
DTSTAMP:20260422T200347
CREATED:20260401T132059Z
LAST-MODIFIED:20260401T143132Z
UID:10085942-1778335200-1778342400@thepinestimes.com
SUMMARY:The Music of Judy\, Joni\, Joan\, James and Carole at The Sunrise Theater
DESCRIPTION:Sandhills Repertory Theatre presents “The Music of Judy\, Joni\, Joan\, James and Carole.” \nWho doesn’t remember iconic songs such as “Both Sides Now”\, “Carolina on my Mind”\, “Blue”\, “Diamonds and Rust”\, and “You’ve Got a Friend”? These and so many others will be featured by NYC performers coming to Moore County in the new show “The Music of Judy\, Joni\, Joan\, James and Carole” (Collins\, Mitchell\, Baez\, Taylor and King)\, created and directed by the founder of Sandhills Repertory Theatre (SRT)\, Michael Pizzi. \n“I am thrilled that Elizabeth Nestlerode (SRT’s “Taylor King” and “Johnny and June”) and Jack Gerhard (NYC singer/songwriter and guitarist) will be joining me to present these giants of American music. Their voices and piano\, guitar and harmonic talents will sound like the originals\, and the audience will be excited about the diversity of songs we will offer”. \nJack Gerhard is a NYC based Actor/Musician whose voice has been heard leading the Broadway national touring company of “Once” and across many regional theaters around the country. Locally in NYC he performs with his band and all around with the folk group “A Band Called Honalee”. Jack has released two albums and is currently working on his 3rd. His music has been featured in segments on Television\, particularly his song “Cortland” which was voted to be the official song of the city of Cortland\, NY in 2025. He loves this music and hopes you enjoy the show! \nElizabeth Nestlerode is an actor\, musician\, and teaching artist based in NYC. Off-Broadway/New York: The Other Josh Cohen (Diane Cohen)\, Gypsy (Louise). Regional: Carole King in Beautiful: The Carole King Musical at Capital Repertory Theatre\, Ebenezer Scrooge’s BIG San Diego Christmas Show (Ghost of Christmas Present & others) at the Old Globe\, 5 productions of Once (Girl) including Casa Manaña\, Cape Playhouse\, and Actors’ Playhouse; 3 productions of Ring of Fire (June Carter Cash)\, Violet (Violet) …Spelling Bee (Olive)\, Buddy Holly (Vi – director Hunter Foster) 54 Forever (director Tommy Tune)\, Cabaret (Sally Bowles)\, It’s A Wonderful Life (Evelyn / Mary Bailey). TV: The Late Show with David Letterman. AEA Member. She teaches for a number of organizations including Disney Theatrical Group and The Second City among others. \nPerformances: Saturday\, May 9th at 2PM & 7 PM | Sunday\, May 10th at 2PM. \nTickets can be purchased via the Sunrise Theatre box office by calling 910-692-3611 or at their website http://www.sunrisetheater.com or at http://www.sandhillsrep.org. To purchase tickets online\, CLICK HERE.
URL:https://thepinestimes.com/event/the-music-of-judy-joni-joan-james-and-carole-the-sunrise/2026-05-09/1/
LOCATION:Sunrise Theater\, 250 NW Broad St\, Southern Pines\, NC\, 28387\, United States
CATEGORIES:Adults,Concert,Cultural,Live Entertainment,Live Music,Men,Moore County Events,Music,Night Life,Social,Southern Pines Events,Women
ATTACH;FMTTYPE=image/jpeg:https://thepinestimes.com/wp-content/uploads/SandhillsRepertoryFeature-1.jpg
ORGANIZER;CN="Sandhills Repertory Theatre":MAILTO:sahdillsbroadway@gmail.com
END:VEVENT
BEGIN:VEVENT
DTSTART;TZID=America/New_York:20260509T190000
DTEND;TZID=America/New_York:20260509T210000
DTSTAMP:20260422T200347
CREATED:20260401T132059Z
LAST-MODIFIED:20260401T143132Z
UID:10085943-1778353200-1778360400@thepinestimes.com
SUMMARY:The Music of Judy\, Joni\, Joan\, James and Carole at The Sunrise Theater
DESCRIPTION:Sandhills Repertory Theatre presents “The Music of Judy\, Joni\, Joan\, James and Carole.” \nWho doesn’t remember iconic songs such as “Both Sides Now”\, “Carolina on my Mind”\, “Blue”\, “Diamonds and Rust”\, and “You’ve Got a Friend”? These and so many others will be featured by NYC performers coming to Moore County in the new show “The Music of Judy\, Joni\, Joan\, James and Carole” (Collins\, Mitchell\, Baez\, Taylor and King)\, created and directed by the founder of Sandhills Repertory Theatre (SRT)\, Michael Pizzi. \n“I am thrilled that Elizabeth Nestlerode (SRT’s “Taylor King” and “Johnny and June”) and Jack Gerhard (NYC singer/songwriter and guitarist) will be joining me to present these giants of American music. Their voices and piano\, guitar and harmonic talents will sound like the originals\, and the audience will be excited about the diversity of songs we will offer”. \nJack Gerhard is a NYC based Actor/Musician whose voice has been heard leading the Broadway national touring company of “Once” and across many regional theaters around the country. Locally in NYC he performs with his band and all around with the folk group “A Band Called Honalee”. Jack has released two albums and is currently working on his 3rd. His music has been featured in segments on Television\, particularly his song “Cortland” which was voted to be the official song of the city of Cortland\, NY in 2025. He loves this music and hopes you enjoy the show! \nElizabeth Nestlerode is an actor\, musician\, and teaching artist based in NYC. Off-Broadway/New York: The Other Josh Cohen (Diane Cohen)\, Gypsy (Louise). Regional: Carole King in Beautiful: The Carole King Musical at Capital Repertory Theatre\, Ebenezer Scrooge’s BIG San Diego Christmas Show (Ghost of Christmas Present & others) at the Old Globe\, 5 productions of Once (Girl) including Casa Manaña\, Cape Playhouse\, and Actors’ Playhouse; 3 productions of Ring of Fire (June Carter Cash)\, Violet (Violet) …Spelling Bee (Olive)\, Buddy Holly (Vi – director Hunter Foster) 54 Forever (director Tommy Tune)\, Cabaret (Sally Bowles)\, It’s A Wonderful Life (Evelyn / Mary Bailey). TV: The Late Show with David Letterman. AEA Member. She teaches for a number of organizations including Disney Theatrical Group and The Second City among others. \nPerformances: Saturday\, May 9th at 2PM & 7 PM | Sunday\, May 10th at 2PM. \nTickets can be purchased via the Sunrise Theatre box office by calling 910-692-3611 or at their website http://www.sunrisetheater.com or at http://www.sandhillsrep.org. To purchase tickets online\, CLICK HERE.
URL:https://thepinestimes.com/event/the-music-of-judy-joni-joan-james-and-carole-the-sunrise/2026-05-09/2/
LOCATION:Sunrise Theater\, 250 NW Broad St\, Southern Pines\, NC\, 28387\, United States
CATEGORIES:Adults,Concert,Cultural,Live Entertainment,Live Music,Men,Moore County Events,Music,Night Life,Social,Southern Pines Events,Women
ATTACH;FMTTYPE=image/jpeg:https://thepinestimes.com/wp-content/uploads/SandhillsRepertoryFeature-1.jpg
ORGANIZER;CN="Sandhills Repertory Theatre":MAILTO:sahdillsbroadway@gmail.com
END:VEVENT
BEGIN:VEVENT
DTSTART;TZID=America/New_York:20260510T140000
DTEND;TZID=America/New_York:20260510T160000
DTSTAMP:20260422T200347
CREATED:20260401T132059Z
LAST-MODIFIED:20260401T143132Z
UID:10085944-1778421600-1778428800@thepinestimes.com
SUMMARY:The Music of Judy\, Joni\, Joan\, James and Carole at The Sunrise Theater
DESCRIPTION:Sandhills Repertory Theatre presents “The Music of Judy\, Joni\, Joan\, James and Carole.” \nWho doesn’t remember iconic songs such as “Both Sides Now”\, “Carolina on my Mind”\, “Blue”\, “Diamonds and Rust”\, and “You’ve Got a Friend”? These and so many others will be featured by NYC performers coming to Moore County in the new show “The Music of Judy\, Joni\, Joan\, James and Carole” (Collins\, Mitchell\, Baez\, Taylor and King)\, created and directed by the founder of Sandhills Repertory Theatre (SRT)\, Michael Pizzi. \n“I am thrilled that Elizabeth Nestlerode (SRT’s “Taylor King” and “Johnny and June”) and Jack Gerhard (NYC singer/songwriter and guitarist) will be joining me to present these giants of American music. Their voices and piano\, guitar and harmonic talents will sound like the originals\, and the audience will be excited about the diversity of songs we will offer”. \nJack Gerhard is a NYC based Actor/Musician whose voice has been heard leading the Broadway national touring company of “Once” and across many regional theaters around the country. Locally in NYC he performs with his band and all around with the folk group “A Band Called Honalee”. Jack has released two albums and is currently working on his 3rd. His music has been featured in segments on Television\, particularly his song “Cortland” which was voted to be the official song of the city of Cortland\, NY in 2025. He loves this music and hopes you enjoy the show! \nElizabeth Nestlerode is an actor\, musician\, and teaching artist based in NYC. Off-Broadway/New York: The Other Josh Cohen (Diane Cohen)\, Gypsy (Louise). Regional: Carole King in Beautiful: The Carole King Musical at Capital Repertory Theatre\, Ebenezer Scrooge’s BIG San Diego Christmas Show (Ghost of Christmas Present & others) at the Old Globe\, 5 productions of Once (Girl) including Casa Manaña\, Cape Playhouse\, and Actors’ Playhouse; 3 productions of Ring of Fire (June Carter Cash)\, Violet (Violet) …Spelling Bee (Olive)\, Buddy Holly (Vi – director Hunter Foster) 54 Forever (director Tommy Tune)\, Cabaret (Sally Bowles)\, It’s A Wonderful Life (Evelyn / Mary Bailey). TV: The Late Show with David Letterman. AEA Member. She teaches for a number of organizations including Disney Theatrical Group and The Second City among others. \nPerformances: Saturday\, May 9th at 2PM & 7 PM | Sunday\, May 10th at 2PM. \nTickets can be purchased via the Sunrise Theatre box office by calling 910-692-3611 or at their website http://www.sunrisetheater.com or at http://www.sandhillsrep.org. To purchase tickets online\, CLICK HERE.
URL:https://thepinestimes.com/event/the-music-of-judy-joni-joan-james-and-carole-the-sunrise/2026-05-10/
LOCATION:Sunrise Theater\, 250 NW Broad St\, Southern Pines\, NC\, 28387\, United States
CATEGORIES:Adults,Concert,Cultural,Live Entertainment,Live Music,Men,Moore County Events,Music,Night Life,Social,Southern Pines Events,Women
ATTACH;FMTTYPE=image/jpeg:https://thepinestimes.com/wp-content/uploads/SandhillsRepertoryFeature-1.jpg
ORGANIZER;CN="Sandhills Repertory Theatre":MAILTO:sahdillsbroadway@gmail.com
END:VEVENT
END:VCALENDAR