BEGIN:VCALENDAR
VERSION:2.0
PRODID:-//The Pines Times - ECPv6.15.20//NONSGML v1.0//EN
CALSCALE:GREGORIAN
METHOD:PUBLISH
X-WR-CALNAME:The Pines Times
X-ORIGINAL-URL:https://thepinestimes.com
X-WR-CALDESC:Events for The Pines Times
REFRESH-INTERVAL;VALUE=DURATION:PT1H
X-Robots-Tag:noindex
X-PUBLISHED-TTL:PT1H
BEGIN:VTIMEZONE
TZID:America/New_York
BEGIN:DAYLIGHT
TZOFFSETFROM:-0500
TZOFFSETTO:-0400
TZNAME:EDT
DTSTART:20250309T070000
END:DAYLIGHT
BEGIN:STANDARD
TZOFFSETFROM:-0400
TZOFFSETTO:-0500
TZNAME:EST
DTSTART:20251102T060000
END:STANDARD
BEGIN:DAYLIGHT
TZOFFSETFROM:-0500
TZOFFSETTO:-0400
TZNAME:EDT
DTSTART:20260308T070000
END:DAYLIGHT
BEGIN:STANDARD
TZOFFSETFROM:-0400
TZOFFSETTO:-0500
TZNAME:EST
DTSTART:20261101T060000
END:STANDARD
BEGIN:DAYLIGHT
TZOFFSETFROM:-0500
TZOFFSETTO:-0400
TZNAME:EDT
DTSTART:20270314T070000
END:DAYLIGHT
BEGIN:STANDARD
TZOFFSETFROM:-0400
TZOFFSETTO:-0500
TZNAME:EST
DTSTART:20271107T060000
END:STANDARD
END:VTIMEZONE
BEGIN:VEVENT
DTSTART;TZID=America/New_York:20260424T140000
DTEND;TZID=America/New_York:20260424T200000
DTSTAMP:20260420T213337
CREATED:20260402T201623Z
LAST-MODIFIED:20260402T201623Z
UID:10086035-1777039200-1777060800@thepinestimes.com
SUMMARY:Carolina Cinemas-Sandhills 10: "Speed Racer" Flashback Cinema
DESCRIPTION:Speed Racer is a young and brilliant racing driver. When corruption in the racing leagues costs his brother his life\, Speed must team up with the police and the mysterious Racer X to bring an end to the corruption and criminal activities.
URL:https://thepinestimes.com/event/carolina-cinemas-sandhills-10-speed-racer-flashback-cinema/2026-04-24/
LOCATION:Carolina Cinemas-Sandhills 10\, 104 Brucewood Drive\, Southern Pines\, NC\, 28387\, United States
CATEGORIES:Movie
ATTACH;FMTTYPE=image/jpeg:https://thepinestimes.com/wp-content/uploads/CarolinaCinemasFeature1.jpg
END:VEVENT
BEGIN:VEVENT
DTSTART;TZID=America/New_York:20260425T140000
DTEND;TZID=America/New_York:20260425T200000
DTSTAMP:20260420T213337
CREATED:20260402T201623Z
LAST-MODIFIED:20260402T201623Z
UID:10086036-1777125600-1777147200@thepinestimes.com
SUMMARY:Carolina Cinemas-Sandhills 10: "Speed Racer" Flashback Cinema
DESCRIPTION:Speed Racer is a young and brilliant racing driver. When corruption in the racing leagues costs his brother his life\, Speed must team up with the police and the mysterious Racer X to bring an end to the corruption and criminal activities.
URL:https://thepinestimes.com/event/carolina-cinemas-sandhills-10-speed-racer-flashback-cinema/2026-04-25/
LOCATION:Carolina Cinemas-Sandhills 10\, 104 Brucewood Drive\, Southern Pines\, NC\, 28387\, United States
CATEGORIES:Movie
ATTACH;FMTTYPE=image/jpeg:https://thepinestimes.com/wp-content/uploads/CarolinaCinemasFeature1.jpg
END:VEVENT
BEGIN:VEVENT
DTSTART;TZID=America/New_York:20260426T140000
DTEND;TZID=America/New_York:20260426T200000
DTSTAMP:20260420T213337
CREATED:20260402T201623Z
LAST-MODIFIED:20260402T201623Z
UID:10086037-1777212000-1777233600@thepinestimes.com
SUMMARY:Carolina Cinemas-Sandhills 10: "Speed Racer" Flashback Cinema
DESCRIPTION:Speed Racer is a young and brilliant racing driver. When corruption in the racing leagues costs his brother his life\, Speed must team up with the police and the mysterious Racer X to bring an end to the corruption and criminal activities.
URL:https://thepinestimes.com/event/carolina-cinemas-sandhills-10-speed-racer-flashback-cinema/2026-04-26/
LOCATION:Carolina Cinemas-Sandhills 10\, 104 Brucewood Drive\, Southern Pines\, NC\, 28387\, United States
CATEGORIES:Movie
ATTACH;FMTTYPE=image/jpeg:https://thepinestimes.com/wp-content/uploads/CarolinaCinemasFeature1.jpg
END:VEVENT
BEGIN:VEVENT
DTSTART;TZID=America/New_York:20260427T140000
DTEND;TZID=America/New_York:20260427T200000
DTSTAMP:20260420T213337
CREATED:20260402T201623Z
LAST-MODIFIED:20260402T201623Z
UID:10086038-1777298400-1777320000@thepinestimes.com
SUMMARY:Carolina Cinemas-Sandhills 10: "Speed Racer" Flashback Cinema
DESCRIPTION:Speed Racer is a young and brilliant racing driver. When corruption in the racing leagues costs his brother his life\, Speed must team up with the police and the mysterious Racer X to bring an end to the corruption and criminal activities.
URL:https://thepinestimes.com/event/carolina-cinemas-sandhills-10-speed-racer-flashback-cinema/2026-04-27/
LOCATION:Carolina Cinemas-Sandhills 10\, 104 Brucewood Drive\, Southern Pines\, NC\, 28387\, United States
CATEGORIES:Movie
ATTACH;FMTTYPE=image/jpeg:https://thepinestimes.com/wp-content/uploads/CarolinaCinemasFeature1.jpg
END:VEVENT
BEGIN:VEVENT
DTSTART;TZID=America/New_York:20260428T140000
DTEND;TZID=America/New_York:20260428T200000
DTSTAMP:20260420T213337
CREATED:20260402T201623Z
LAST-MODIFIED:20260402T201623Z
UID:10086039-1777384800-1777406400@thepinestimes.com
SUMMARY:Carolina Cinemas-Sandhills 10: "Speed Racer" Flashback Cinema
DESCRIPTION:Speed Racer is a young and brilliant racing driver. When corruption in the racing leagues costs his brother his life\, Speed must team up with the police and the mysterious Racer X to bring an end to the corruption and criminal activities.
URL:https://thepinestimes.com/event/carolina-cinemas-sandhills-10-speed-racer-flashback-cinema/2026-04-28/
LOCATION:Carolina Cinemas-Sandhills 10\, 104 Brucewood Drive\, Southern Pines\, NC\, 28387\, United States
CATEGORIES:Movie
ATTACH;FMTTYPE=image/jpeg:https://thepinestimes.com/wp-content/uploads/CarolinaCinemasFeature1.jpg
END:VEVENT
BEGIN:VEVENT
DTSTART;TZID=America/New_York:20260429T140000
DTEND;TZID=America/New_York:20260429T200000
DTSTAMP:20260420T213337
CREATED:20260402T201623Z
LAST-MODIFIED:20260402T201623Z
UID:10086040-1777471200-1777492800@thepinestimes.com
SUMMARY:Carolina Cinemas-Sandhills 10: "Speed Racer" Flashback Cinema
DESCRIPTION:Speed Racer is a young and brilliant racing driver. When corruption in the racing leagues costs his brother his life\, Speed must team up with the police and the mysterious Racer X to bring an end to the corruption and criminal activities.
URL:https://thepinestimes.com/event/carolina-cinemas-sandhills-10-speed-racer-flashback-cinema/2026-04-29/
LOCATION:Carolina Cinemas-Sandhills 10\, 104 Brucewood Drive\, Southern Pines\, NC\, 28387\, United States
CATEGORIES:Movie
ATTACH;FMTTYPE=image/jpeg:https://thepinestimes.com/wp-content/uploads/CarolinaCinemasFeature1.jpg
END:VEVENT
END:VCALENDAR