BEGIN:VCALENDAR
VERSION:2.0
PRODID:-//The Pines Times - ECPv6.15.20//NONSGML v1.0//EN
CALSCALE:GREGORIAN
METHOD:PUBLISH
X-WR-CALNAME:The Pines Times
X-ORIGINAL-URL:https://thepinestimes.com
X-WR-CALDESC:Events for The Pines Times
REFRESH-INTERVAL;VALUE=DURATION:PT1H
X-Robots-Tag:noindex
X-PUBLISHED-TTL:PT1H
BEGIN:VTIMEZONE
TZID:America/New_York
BEGIN:DAYLIGHT
TZOFFSETFROM:-0500
TZOFFSETTO:-0400
TZNAME:EDT
DTSTART:20250309T070000
END:DAYLIGHT
BEGIN:STANDARD
TZOFFSETFROM:-0400
TZOFFSETTO:-0500
TZNAME:EST
DTSTART:20251102T060000
END:STANDARD
BEGIN:DAYLIGHT
TZOFFSETFROM:-0500
TZOFFSETTO:-0400
TZNAME:EDT
DTSTART:20260308T070000
END:DAYLIGHT
BEGIN:STANDARD
TZOFFSETFROM:-0400
TZOFFSETTO:-0500
TZNAME:EST
DTSTART:20261101T060000
END:STANDARD
BEGIN:DAYLIGHT
TZOFFSETFROM:-0500
TZOFFSETTO:-0400
TZNAME:EDT
DTSTART:20270314T070000
END:DAYLIGHT
BEGIN:STANDARD
TZOFFSETFROM:-0400
TZOFFSETTO:-0500
TZNAME:EST
DTSTART:20271107T060000
END:STANDARD
END:VTIMEZONE
BEGIN:VEVENT
DTSTART;TZID=America/New_York:20260511T160000
DTEND;TZID=America/New_York:20260511T193000
DTSTAMP:20260420T163035
CREATED:20260407T154528Z
LAST-MODIFIED:20260407T155517Z
UID:10086432-1778515200-1778527800@thepinestimes.com
SUMMARY:Agape Lavender Lab at Dillon County Farmers Market - Agape Farm South
DESCRIPTION:Join us at the Dillon County Farmers Market at the new Festival Marketplace\, where Agape Farm South brings fresh herbs and our Agape Lavender Lab collection to the heart of the community. \nOur products are crafted with research-inspired ingredients and simple\, plant-based formulations designed for everyday use ……from calming routines to refreshing\, natural care. \nStop by after work to explore\, smell\, and shop local – whether you’re picking up herbs for your kitchen or discovering something new. \nSecond Monday of each month4:00PM-7:00PMFestival Marketplace\, Dillon County\, SC
URL:https://thepinestimes.com/event/agape-lavender-lab-at-dillon-county-farmers-market-agape-farm-south/2026-05-11/
CATEGORIES:Farmers Markets
ATTACH;FMTTYPE=image/png:https://thepinestimes.com/wp-content/uploads/agape-lavender-lab-2-1-e1775576681249.png
END:VEVENT
BEGIN:VEVENT
DTSTART;TZID=America/New_York:20260608T160000
DTEND;TZID=America/New_York:20260608T193000
DTSTAMP:20260420T163035
CREATED:20260407T154528Z
LAST-MODIFIED:20260407T155517Z
UID:10086433-1780934400-1780947000@thepinestimes.com
SUMMARY:Agape Lavender Lab at Dillon County Farmers Market - Agape Farm South
DESCRIPTION:Join us at the Dillon County Farmers Market at the new Festival Marketplace\, where Agape Farm South brings fresh herbs and our Agape Lavender Lab collection to the heart of the community. \nOur products are crafted with research-inspired ingredients and simple\, plant-based formulations designed for everyday use ……from calming routines to refreshing\, natural care. \nStop by after work to explore\, smell\, and shop local – whether you’re picking up herbs for your kitchen or discovering something new. \nSecond Monday of each month4:00PM-7:00PMFestival Marketplace\, Dillon County\, SC
URL:https://thepinestimes.com/event/agape-lavender-lab-at-dillon-county-farmers-market-agape-farm-south/2026-06-08/
CATEGORIES:Farmers Markets
ATTACH;FMTTYPE=image/png:https://thepinestimes.com/wp-content/uploads/agape-lavender-lab-2-1-e1775576681249.png
END:VEVENT
BEGIN:VEVENT
DTSTART;TZID=America/New_York:20260713T160000
DTEND;TZID=America/New_York:20260713T193000
DTSTAMP:20260420T163035
CREATED:20260407T154528Z
LAST-MODIFIED:20260407T155517Z
UID:10086434-1783958400-1783971000@thepinestimes.com
SUMMARY:Agape Lavender Lab at Dillon County Farmers Market - Agape Farm South
DESCRIPTION:Join us at the Dillon County Farmers Market at the new Festival Marketplace\, where Agape Farm South brings fresh herbs and our Agape Lavender Lab collection to the heart of the community. \nOur products are crafted with research-inspired ingredients and simple\, plant-based formulations designed for everyday use ……from calming routines to refreshing\, natural care. \nStop by after work to explore\, smell\, and shop local – whether you’re picking up herbs for your kitchen or discovering something new. \nSecond Monday of each month4:00PM-7:00PMFestival Marketplace\, Dillon County\, SC
URL:https://thepinestimes.com/event/agape-lavender-lab-at-dillon-county-farmers-market-agape-farm-south/2026-07-13/
CATEGORIES:Farmers Markets
ATTACH;FMTTYPE=image/png:https://thepinestimes.com/wp-content/uploads/agape-lavender-lab-2-1-e1775576681249.png
END:VEVENT
BEGIN:VEVENT
DTSTART;TZID=America/New_York:20260810T160000
DTEND;TZID=America/New_York:20260810T193000
DTSTAMP:20260420T163035
CREATED:20260407T154528Z
LAST-MODIFIED:20260407T155517Z
UID:10086435-1786377600-1786390200@thepinestimes.com
SUMMARY:Agape Lavender Lab at Dillon County Farmers Market - Agape Farm South
DESCRIPTION:Join us at the Dillon County Farmers Market at the new Festival Marketplace\, where Agape Farm South brings fresh herbs and our Agape Lavender Lab collection to the heart of the community. \nOur products are crafted with research-inspired ingredients and simple\, plant-based formulations designed for everyday use ……from calming routines to refreshing\, natural care. \nStop by after work to explore\, smell\, and shop local – whether you’re picking up herbs for your kitchen or discovering something new. \nSecond Monday of each month4:00PM-7:00PMFestival Marketplace\, Dillon County\, SC
URL:https://thepinestimes.com/event/agape-lavender-lab-at-dillon-county-farmers-market-agape-farm-south/2026-08-10/
CATEGORIES:Farmers Markets
ATTACH;FMTTYPE=image/png:https://thepinestimes.com/wp-content/uploads/agape-lavender-lab-2-1-e1775576681249.png
END:VEVENT
BEGIN:VEVENT
DTSTART;TZID=America/New_York:20260914T160000
DTEND;TZID=America/New_York:20260914T193000
DTSTAMP:20260420T163035
CREATED:20260407T154528Z
LAST-MODIFIED:20260407T155517Z
UID:10086436-1789401600-1789414200@thepinestimes.com
SUMMARY:Agape Lavender Lab at Dillon County Farmers Market - Agape Farm South
DESCRIPTION:Join us at the Dillon County Farmers Market at the new Festival Marketplace\, where Agape Farm South brings fresh herbs and our Agape Lavender Lab collection to the heart of the community. \nOur products are crafted with research-inspired ingredients and simple\, plant-based formulations designed for everyday use ……from calming routines to refreshing\, natural care. \nStop by after work to explore\, smell\, and shop local – whether you’re picking up herbs for your kitchen or discovering something new. \nSecond Monday of each month4:00PM-7:00PMFestival Marketplace\, Dillon County\, SC
URL:https://thepinestimes.com/event/agape-lavender-lab-at-dillon-county-farmers-market-agape-farm-south/2026-09-14/
CATEGORIES:Farmers Markets
ATTACH;FMTTYPE=image/png:https://thepinestimes.com/wp-content/uploads/agape-lavender-lab-2-1-e1775576681249.png
END:VEVENT
BEGIN:VEVENT
DTSTART;TZID=America/New_York:20261012T160000
DTEND;TZID=America/New_York:20261012T193000
DTSTAMP:20260420T163035
CREATED:20260407T154528Z
LAST-MODIFIED:20260407T155517Z
UID:10086437-1791820800-1791833400@thepinestimes.com
SUMMARY:Agape Lavender Lab at Dillon County Farmers Market - Agape Farm South
DESCRIPTION:Join us at the Dillon County Farmers Market at the new Festival Marketplace\, where Agape Farm South brings fresh herbs and our Agape Lavender Lab collection to the heart of the community. \nOur products are crafted with research-inspired ingredients and simple\, plant-based formulations designed for everyday use ……from calming routines to refreshing\, natural care. \nStop by after work to explore\, smell\, and shop local – whether you’re picking up herbs for your kitchen or discovering something new. \nSecond Monday of each month4:00PM-7:00PMFestival Marketplace\, Dillon County\, SC
URL:https://thepinestimes.com/event/agape-lavender-lab-at-dillon-county-farmers-market-agape-farm-south/2026-10-12/
CATEGORIES:Farmers Markets
ATTACH;FMTTYPE=image/png:https://thepinestimes.com/wp-content/uploads/agape-lavender-lab-2-1-e1775576681249.png
END:VEVENT
BEGIN:VEVENT
DTSTART;TZID=America/New_York:20261109T160000
DTEND;TZID=America/New_York:20261109T193000
DTSTAMP:20260420T163035
CREATED:20260407T154528Z
LAST-MODIFIED:20260407T155517Z
UID:10086438-1794240000-1794252600@thepinestimes.com
SUMMARY:Agape Lavender Lab at Dillon County Farmers Market - Agape Farm South
DESCRIPTION:Join us at the Dillon County Farmers Market at the new Festival Marketplace\, where Agape Farm South brings fresh herbs and our Agape Lavender Lab collection to the heart of the community. \nOur products are crafted with research-inspired ingredients and simple\, plant-based formulations designed for everyday use ……from calming routines to refreshing\, natural care. \nStop by after work to explore\, smell\, and shop local – whether you’re picking up herbs for your kitchen or discovering something new. \nSecond Monday of each month4:00PM-7:00PMFestival Marketplace\, Dillon County\, SC
URL:https://thepinestimes.com/event/agape-lavender-lab-at-dillon-county-farmers-market-agape-farm-south/2026-11-09/
CATEGORIES:Farmers Markets
ATTACH;FMTTYPE=image/png:https://thepinestimes.com/wp-content/uploads/agape-lavender-lab-2-1-e1775576681249.png
END:VEVENT
BEGIN:VEVENT
DTSTART;TZID=America/New_York:20261214T160000
DTEND;TZID=America/New_York:20261214T193000
DTSTAMP:20260420T163035
CREATED:20260407T154528Z
LAST-MODIFIED:20260407T155517Z
UID:10086439-1797264000-1797276600@thepinestimes.com
SUMMARY:Agape Lavender Lab at Dillon County Farmers Market - Agape Farm South
DESCRIPTION:Join us at the Dillon County Farmers Market at the new Festival Marketplace\, where Agape Farm South brings fresh herbs and our Agape Lavender Lab collection to the heart of the community. \nOur products are crafted with research-inspired ingredients and simple\, plant-based formulations designed for everyday use ……from calming routines to refreshing\, natural care. \nStop by after work to explore\, smell\, and shop local – whether you’re picking up herbs for your kitchen or discovering something new. \nSecond Monday of each month4:00PM-7:00PMFestival Marketplace\, Dillon County\, SC
URL:https://thepinestimes.com/event/agape-lavender-lab-at-dillon-county-farmers-market-agape-farm-south/2026-12-14/
CATEGORIES:Farmers Markets
ATTACH;FMTTYPE=image/png:https://thepinestimes.com/wp-content/uploads/agape-lavender-lab-2-1-e1775576681249.png
END:VEVENT
END:VCALENDAR