BEGIN:VCALENDAR
VERSION:2.0
PRODID:-//The Pines Times - ECPv6.15.20//NONSGML v1.0//EN
CALSCALE:GREGORIAN
METHOD:PUBLISH
X-WR-CALNAME:The Pines Times
X-ORIGINAL-URL:https://thepinestimes.com
X-WR-CALDESC:Events for The Pines Times
REFRESH-INTERVAL;VALUE=DURATION:PT1H
X-Robots-Tag:noindex
X-PUBLISHED-TTL:PT1H
BEGIN:VTIMEZONE
TZID:America/New_York
BEGIN:DAYLIGHT
TZOFFSETFROM:-0500
TZOFFSETTO:-0400
TZNAME:EDT
DTSTART:20250309T070000
END:DAYLIGHT
BEGIN:STANDARD
TZOFFSETFROM:-0400
TZOFFSETTO:-0500
TZNAME:EST
DTSTART:20251102T060000
END:STANDARD
BEGIN:DAYLIGHT
TZOFFSETFROM:-0500
TZOFFSETTO:-0400
TZNAME:EDT
DTSTART:20260308T070000
END:DAYLIGHT
BEGIN:STANDARD
TZOFFSETFROM:-0400
TZOFFSETTO:-0500
TZNAME:EST
DTSTART:20261101T060000
END:STANDARD
BEGIN:DAYLIGHT
TZOFFSETFROM:-0500
TZOFFSETTO:-0400
TZNAME:EDT
DTSTART:20270314T070000
END:DAYLIGHT
BEGIN:STANDARD
TZOFFSETFROM:-0400
TZOFFSETTO:-0500
TZNAME:EST
DTSTART:20271107T060000
END:STANDARD
END:VTIMEZONE
BEGIN:VEVENT
DTSTART;TZID=America/New_York:20260429T180000
DTEND;TZID=America/New_York:20260429T210000
DTSTAMP:20260422T223827
CREATED:20260420T130222Z
LAST-MODIFIED:20260420T130222Z
UID:10086977-1777485600-1777496400@thepinestimes.com
SUMMARY:2026 Bike Night Series
DESCRIPTION:Join at Cox’s Double Eagle Harley-Davidson Wednesday\, April 29th from 6PM-9PM at Hickory Tavern in Pinehurst as the 2026 Bike Night Series kicks off. This event is part of the 2026 Bike Night Series\, hosted the last Wednesday of every month from April-September\, 6PM–9PM\, at Hickory Tavern in Pinehurst. This isn’t a one-time ride-in. It’s six rounds. One season. No resets. When you roll in\, grab your official 2026 Bike Night Punch Card and commit to the series. Your physical card must be present each month to receive a punch. No replacements. No duplicates. No exceptions. \nRiders who punch all six Bike Nights will be entered to win one of several top prizes\, including a Daytona Helmet (winner’s choice of Viper or C6)\, a Simpson Helmet (winner’s choice of any non-carbon model)\, a Hickory Tavern gift card\, a full year of lawncare services from Backyard Pros\, and additional major prizing. Every month you attend\, you’re automatically entered into that night’s giveaway. No buy-in. No cover. Just show up. Monthly giveaways feature gear and prizes from Simpson\, Daytona Helmets\, Harley-Davidson\, Rockford Fosgate\, Khromewerks\, AMS Oil\, and Backyard Pros\, including $100 lawncare service vouchers throughout the series. \nHickory Tavern will be serving their regular Wednesday features during the event\, including $4.25 Blue Moon drafts and special event pricing on wings. This is the new home for Bike Night. The space is right\, the momentum builds month after month\, and the lot fills early. Show up. Stay in it. Finish what you start.
URL:https://thepinestimes.com/event/2026-bike-night-series/2026-04-29/
LOCATION:Hickory Tavern\, 9735 US 15/501\, Pinehurst\, NC\, 28374\, United States
CATEGORIES:Adults,Beer and Wine,Car Show/Motorcycle Show/Cruise In,Hobby/Enthusiast,Pinehurst Events,Social
ATTACH;FMTTYPE=image/jpeg:https://thepinestimes.com/wp-content/uploads/CoxBikeNightFeature.jpg
END:VEVENT
BEGIN:VEVENT
DTSTART;TZID=America/New_York:20260527T180000
DTEND;TZID=America/New_York:20260527T210000
DTSTAMP:20260422T223827
CREATED:20260420T130222Z
LAST-MODIFIED:20260420T130222Z
UID:10086978-1779904800-1779915600@thepinestimes.com
SUMMARY:2026 Bike Night Series
DESCRIPTION:Join at Cox’s Double Eagle Harley-Davidson Wednesday\, April 29th from 6PM-9PM at Hickory Tavern in Pinehurst as the 2026 Bike Night Series kicks off. This event is part of the 2026 Bike Night Series\, hosted the last Wednesday of every month from April-September\, 6PM–9PM\, at Hickory Tavern in Pinehurst. This isn’t a one-time ride-in. It’s six rounds. One season. No resets. When you roll in\, grab your official 2026 Bike Night Punch Card and commit to the series. Your physical card must be present each month to receive a punch. No replacements. No duplicates. No exceptions. \nRiders who punch all six Bike Nights will be entered to win one of several top prizes\, including a Daytona Helmet (winner’s choice of Viper or C6)\, a Simpson Helmet (winner’s choice of any non-carbon model)\, a Hickory Tavern gift card\, a full year of lawncare services from Backyard Pros\, and additional major prizing. Every month you attend\, you’re automatically entered into that night’s giveaway. No buy-in. No cover. Just show up. Monthly giveaways feature gear and prizes from Simpson\, Daytona Helmets\, Harley-Davidson\, Rockford Fosgate\, Khromewerks\, AMS Oil\, and Backyard Pros\, including $100 lawncare service vouchers throughout the series. \nHickory Tavern will be serving their regular Wednesday features during the event\, including $4.25 Blue Moon drafts and special event pricing on wings. This is the new home for Bike Night. The space is right\, the momentum builds month after month\, and the lot fills early. Show up. Stay in it. Finish what you start.
URL:https://thepinestimes.com/event/2026-bike-night-series/2026-05-27/
LOCATION:Hickory Tavern\, 9735 US 15/501\, Pinehurst\, NC\, 28374\, United States
CATEGORIES:Adults,Beer and Wine,Car Show/Motorcycle Show/Cruise In,Hobby/Enthusiast,Pinehurst Events,Social
ATTACH;FMTTYPE=image/jpeg:https://thepinestimes.com/wp-content/uploads/CoxBikeNightFeature.jpg
END:VEVENT
BEGIN:VEVENT
DTSTART;TZID=America/New_York:20260624T180000
DTEND;TZID=America/New_York:20260624T210000
DTSTAMP:20260422T223827
CREATED:20260420T130222Z
LAST-MODIFIED:20260420T130222Z
UID:10086979-1782324000-1782334800@thepinestimes.com
SUMMARY:2026 Bike Night Series
DESCRIPTION:Join at Cox’s Double Eagle Harley-Davidson Wednesday\, April 29th from 6PM-9PM at Hickory Tavern in Pinehurst as the 2026 Bike Night Series kicks off. This event is part of the 2026 Bike Night Series\, hosted the last Wednesday of every month from April-September\, 6PM–9PM\, at Hickory Tavern in Pinehurst. This isn’t a one-time ride-in. It’s six rounds. One season. No resets. When you roll in\, grab your official 2026 Bike Night Punch Card and commit to the series. Your physical card must be present each month to receive a punch. No replacements. No duplicates. No exceptions. \nRiders who punch all six Bike Nights will be entered to win one of several top prizes\, including a Daytona Helmet (winner’s choice of Viper or C6)\, a Simpson Helmet (winner’s choice of any non-carbon model)\, a Hickory Tavern gift card\, a full year of lawncare services from Backyard Pros\, and additional major prizing. Every month you attend\, you’re automatically entered into that night’s giveaway. No buy-in. No cover. Just show up. Monthly giveaways feature gear and prizes from Simpson\, Daytona Helmets\, Harley-Davidson\, Rockford Fosgate\, Khromewerks\, AMS Oil\, and Backyard Pros\, including $100 lawncare service vouchers throughout the series. \nHickory Tavern will be serving their regular Wednesday features during the event\, including $4.25 Blue Moon drafts and special event pricing on wings. This is the new home for Bike Night. The space is right\, the momentum builds month after month\, and the lot fills early. Show up. Stay in it. Finish what you start.
URL:https://thepinestimes.com/event/2026-bike-night-series/2026-06-24/
LOCATION:Hickory Tavern\, 9735 US 15/501\, Pinehurst\, NC\, 28374\, United States
CATEGORIES:Adults,Beer and Wine,Car Show/Motorcycle Show/Cruise In,Hobby/Enthusiast,Pinehurst Events,Social
ATTACH;FMTTYPE=image/jpeg:https://thepinestimes.com/wp-content/uploads/CoxBikeNightFeature.jpg
END:VEVENT
BEGIN:VEVENT
DTSTART;TZID=America/New_York:20260729T180000
DTEND;TZID=America/New_York:20260729T210000
DTSTAMP:20260422T223827
CREATED:20260420T130222Z
LAST-MODIFIED:20260420T130222Z
UID:10086980-1785348000-1785358800@thepinestimes.com
SUMMARY:2026 Bike Night Series
DESCRIPTION:Join at Cox’s Double Eagle Harley-Davidson Wednesday\, April 29th from 6PM-9PM at Hickory Tavern in Pinehurst as the 2026 Bike Night Series kicks off. This event is part of the 2026 Bike Night Series\, hosted the last Wednesday of every month from April-September\, 6PM–9PM\, at Hickory Tavern in Pinehurst. This isn’t a one-time ride-in. It’s six rounds. One season. No resets. When you roll in\, grab your official 2026 Bike Night Punch Card and commit to the series. Your physical card must be present each month to receive a punch. No replacements. No duplicates. No exceptions. \nRiders who punch all six Bike Nights will be entered to win one of several top prizes\, including a Daytona Helmet (winner’s choice of Viper or C6)\, a Simpson Helmet (winner’s choice of any non-carbon model)\, a Hickory Tavern gift card\, a full year of lawncare services from Backyard Pros\, and additional major prizing. Every month you attend\, you’re automatically entered into that night’s giveaway. No buy-in. No cover. Just show up. Monthly giveaways feature gear and prizes from Simpson\, Daytona Helmets\, Harley-Davidson\, Rockford Fosgate\, Khromewerks\, AMS Oil\, and Backyard Pros\, including $100 lawncare service vouchers throughout the series. \nHickory Tavern will be serving their regular Wednesday features during the event\, including $4.25 Blue Moon drafts and special event pricing on wings. This is the new home for Bike Night. The space is right\, the momentum builds month after month\, and the lot fills early. Show up. Stay in it. Finish what you start.
URL:https://thepinestimes.com/event/2026-bike-night-series/2026-07-29/
LOCATION:Hickory Tavern\, 9735 US 15/501\, Pinehurst\, NC\, 28374\, United States
CATEGORIES:Adults,Beer and Wine,Car Show/Motorcycle Show/Cruise In,Hobby/Enthusiast,Pinehurst Events,Social
ATTACH;FMTTYPE=image/jpeg:https://thepinestimes.com/wp-content/uploads/CoxBikeNightFeature.jpg
END:VEVENT
BEGIN:VEVENT
DTSTART;TZID=America/New_York:20260826T180000
DTEND;TZID=America/New_York:20260826T210000
DTSTAMP:20260422T223827
CREATED:20260420T130222Z
LAST-MODIFIED:20260420T130222Z
UID:10086981-1787767200-1787778000@thepinestimes.com
SUMMARY:2026 Bike Night Series
DESCRIPTION:Join at Cox’s Double Eagle Harley-Davidson Wednesday\, April 29th from 6PM-9PM at Hickory Tavern in Pinehurst as the 2026 Bike Night Series kicks off. This event is part of the 2026 Bike Night Series\, hosted the last Wednesday of every month from April-September\, 6PM–9PM\, at Hickory Tavern in Pinehurst. This isn’t a one-time ride-in. It’s six rounds. One season. No resets. When you roll in\, grab your official 2026 Bike Night Punch Card and commit to the series. Your physical card must be present each month to receive a punch. No replacements. No duplicates. No exceptions. \nRiders who punch all six Bike Nights will be entered to win one of several top prizes\, including a Daytona Helmet (winner’s choice of Viper or C6)\, a Simpson Helmet (winner’s choice of any non-carbon model)\, a Hickory Tavern gift card\, a full year of lawncare services from Backyard Pros\, and additional major prizing. Every month you attend\, you’re automatically entered into that night’s giveaway. No buy-in. No cover. Just show up. Monthly giveaways feature gear and prizes from Simpson\, Daytona Helmets\, Harley-Davidson\, Rockford Fosgate\, Khromewerks\, AMS Oil\, and Backyard Pros\, including $100 lawncare service vouchers throughout the series. \nHickory Tavern will be serving their regular Wednesday features during the event\, including $4.25 Blue Moon drafts and special event pricing on wings. This is the new home for Bike Night. The space is right\, the momentum builds month after month\, and the lot fills early. Show up. Stay in it. Finish what you start.
URL:https://thepinestimes.com/event/2026-bike-night-series/2026-08-26/
LOCATION:Hickory Tavern\, 9735 US 15/501\, Pinehurst\, NC\, 28374\, United States
CATEGORIES:Adults,Beer and Wine,Car Show/Motorcycle Show/Cruise In,Hobby/Enthusiast,Pinehurst Events,Social
ATTACH;FMTTYPE=image/jpeg:https://thepinestimes.com/wp-content/uploads/CoxBikeNightFeature.jpg
END:VEVENT
BEGIN:VEVENT
DTSTART;TZID=America/New_York:20260930T180000
DTEND;TZID=America/New_York:20260930T210000
DTSTAMP:20260422T223827
CREATED:20260420T130222Z
LAST-MODIFIED:20260420T130222Z
UID:10086982-1790791200-1790802000@thepinestimes.com
SUMMARY:2026 Bike Night Series
DESCRIPTION:Join at Cox’s Double Eagle Harley-Davidson Wednesday\, April 29th from 6PM-9PM at Hickory Tavern in Pinehurst as the 2026 Bike Night Series kicks off. This event is part of the 2026 Bike Night Series\, hosted the last Wednesday of every month from April-September\, 6PM–9PM\, at Hickory Tavern in Pinehurst. This isn’t a one-time ride-in. It’s six rounds. One season. No resets. When you roll in\, grab your official 2026 Bike Night Punch Card and commit to the series. Your physical card must be present each month to receive a punch. No replacements. No duplicates. No exceptions. \nRiders who punch all six Bike Nights will be entered to win one of several top prizes\, including a Daytona Helmet (winner’s choice of Viper or C6)\, a Simpson Helmet (winner’s choice of any non-carbon model)\, a Hickory Tavern gift card\, a full year of lawncare services from Backyard Pros\, and additional major prizing. Every month you attend\, you’re automatically entered into that night’s giveaway. No buy-in. No cover. Just show up. Monthly giveaways feature gear and prizes from Simpson\, Daytona Helmets\, Harley-Davidson\, Rockford Fosgate\, Khromewerks\, AMS Oil\, and Backyard Pros\, including $100 lawncare service vouchers throughout the series. \nHickory Tavern will be serving their regular Wednesday features during the event\, including $4.25 Blue Moon drafts and special event pricing on wings. This is the new home for Bike Night. The space is right\, the momentum builds month after month\, and the lot fills early. Show up. Stay in it. Finish what you start.
URL:https://thepinestimes.com/event/2026-bike-night-series/2026-09-30/
LOCATION:Hickory Tavern\, 9735 US 15/501\, Pinehurst\, NC\, 28374\, United States
CATEGORIES:Adults,Beer and Wine,Car Show/Motorcycle Show/Cruise In,Hobby/Enthusiast,Pinehurst Events,Social
ATTACH;FMTTYPE=image/jpeg:https://thepinestimes.com/wp-content/uploads/CoxBikeNightFeature.jpg
END:VEVENT
END:VCALENDAR