BEGIN:VCALENDAR
VERSION:2.0
PRODID:-//The Pines Times - ECPv6.15.20//NONSGML v1.0//EN
CALSCALE:GREGORIAN
METHOD:PUBLISH
X-WR-CALNAME:The Pines Times
X-ORIGINAL-URL:https://thepinestimes.com
X-WR-CALDESC:Events for The Pines Times
REFRESH-INTERVAL;VALUE=DURATION:PT1H
X-Robots-Tag:noindex
X-PUBLISHED-TTL:PT1H
BEGIN:VTIMEZONE
TZID:America/New_York
BEGIN:DAYLIGHT
TZOFFSETFROM:-0500
TZOFFSETTO:-0400
TZNAME:EDT
DTSTART:20250309T070000
END:DAYLIGHT
BEGIN:STANDARD
TZOFFSETFROM:-0400
TZOFFSETTO:-0500
TZNAME:EST
DTSTART:20251102T060000
END:STANDARD
BEGIN:DAYLIGHT
TZOFFSETFROM:-0500
TZOFFSETTO:-0400
TZNAME:EDT
DTSTART:20260308T070000
END:DAYLIGHT
BEGIN:STANDARD
TZOFFSETFROM:-0400
TZOFFSETTO:-0500
TZNAME:EST
DTSTART:20261101T060000
END:STANDARD
BEGIN:DAYLIGHT
TZOFFSETFROM:-0500
TZOFFSETTO:-0400
TZNAME:EDT
DTSTART:20270314T070000
END:DAYLIGHT
BEGIN:STANDARD
TZOFFSETFROM:-0400
TZOFFSETTO:-0500
TZNAME:EST
DTSTART:20271107T060000
END:STANDARD
END:VTIMEZONE
BEGIN:VEVENT
DTSTART;TZID=America/New_York:20260424T190000
DTEND;TZID=America/New_York:20260424T203000
DTSTAMP:20260420T191116
CREATED:20240209T172627Z
LAST-MODIFIED:20260420T134229Z
UID:10086989-1777057200-1777062600@thepinestimes.com
SUMMARY:UP Stage Theatre Presents: "The Clockmakers Daughter" Spring Musical 2026
DESCRIPTION:UP Stage Theatre presents the 2026 spring musical! Don’t miss “The Clockmakers Daughter.” \n“The Clockmaker’s Daughter is a haunting contemporary folk musical that explores the boundaries of grief and humanity. After the tragic loss of his child\, the master clockmaker Abraham creates Constance\, a mechanical masterpiece built in his daughter’s image. Though she is a marvel of gears and springs\, Constance is bound by a strict set of rules to maintain her clockwork heart and remain hidden from a town that fears the unknown. The story takes a poignant turn when Constance’s curiosity leads her into the arms of a local boy named Will\, sparking a desire for a “real” life that her mechanical frame cannot sustain. It is a beautifully tragic fairy tale that examines whether the spark of life comes from the rhythm of a machine or the vulnerability of the human heart.” \nShowtimes: Friday\, April 24th & Saturday\, April 25th at 7PM | Sunday\, April 26th at 3PM
URL:https://thepinestimes.com/event/up-stage-theatre-presents-the-clockmakers-daughter-spring-musical-2026/2026-04-24/
LOCATION:Union Pines High School\, 1981 Union Church Road\, Carthage\, NC\, 28326\, United States
CATEGORIES:Adults,Arts,Cameron Events,Family,Hobby/Enthusiast,Live Entertainment,Live Theater,Music,Play,School,Social,Teen Activities,Young Adults
ATTACH;FMTTYPE=image/jpeg:https://thepinestimes.com/wp-content/uploads/UPStageTheatreFeature.jpg
END:VEVENT
BEGIN:VEVENT
DTSTART;TZID=America/New_York:20260425T190000
DTEND;TZID=America/New_York:20260425T203000
DTSTAMP:20260420T191116
CREATED:20240209T172627Z
LAST-MODIFIED:20260420T134229Z
UID:10086990-1777143600-1777149000@thepinestimes.com
SUMMARY:UP Stage Theatre Presents: "The Clockmakers Daughter" Spring Musical 2026
DESCRIPTION:UP Stage Theatre presents the 2026 spring musical! Don’t miss “The Clockmakers Daughter.” \n“The Clockmaker’s Daughter is a haunting contemporary folk musical that explores the boundaries of grief and humanity. After the tragic loss of his child\, the master clockmaker Abraham creates Constance\, a mechanical masterpiece built in his daughter’s image. Though she is a marvel of gears and springs\, Constance is bound by a strict set of rules to maintain her clockwork heart and remain hidden from a town that fears the unknown. The story takes a poignant turn when Constance’s curiosity leads her into the arms of a local boy named Will\, sparking a desire for a “real” life that her mechanical frame cannot sustain. It is a beautifully tragic fairy tale that examines whether the spark of life comes from the rhythm of a machine or the vulnerability of the human heart.” \nShowtimes: Friday\, April 24th & Saturday\, April 25th at 7PM | Sunday\, April 26th at 3PM
URL:https://thepinestimes.com/event/up-stage-theatre-presents-the-clockmakers-daughter-spring-musical-2026/2026-04-25/
LOCATION:Union Pines High School\, 1981 Union Church Road\, Carthage\, NC\, 28326\, United States
CATEGORIES:Adults,Arts,Cameron Events,Family,Hobby/Enthusiast,Live Entertainment,Live Theater,Music,Play,School,Social,Teen Activities,Young Adults
ATTACH;FMTTYPE=image/jpeg:https://thepinestimes.com/wp-content/uploads/UPStageTheatreFeature.jpg
END:VEVENT
BEGIN:VEVENT
DTSTART;TZID=America/New_York:20260426T150000
DTEND;TZID=America/New_York:20260426T163000
DTSTAMP:20260420T191116
CREATED:20240209T172627Z
LAST-MODIFIED:20260420T134229Z
UID:10086991-1777215600-1777221000@thepinestimes.com
SUMMARY:UP Stage Theatre Presents: "The Clockmakers Daughter" Spring Musical 2026
DESCRIPTION:UP Stage Theatre presents the 2026 spring musical! Don’t miss “The Clockmakers Daughter.” \n“The Clockmaker’s Daughter is a haunting contemporary folk musical that explores the boundaries of grief and humanity. After the tragic loss of his child\, the master clockmaker Abraham creates Constance\, a mechanical masterpiece built in his daughter’s image. Though she is a marvel of gears and springs\, Constance is bound by a strict set of rules to maintain her clockwork heart and remain hidden from a town that fears the unknown. The story takes a poignant turn when Constance’s curiosity leads her into the arms of a local boy named Will\, sparking a desire for a “real” life that her mechanical frame cannot sustain. It is a beautifully tragic fairy tale that examines whether the spark of life comes from the rhythm of a machine or the vulnerability of the human heart.” \nShowtimes: Friday\, April 24th & Saturday\, April 25th at 7PM | Sunday\, April 26th at 3PM
URL:https://thepinestimes.com/event/up-stage-theatre-presents-the-clockmakers-daughter-spring-musical-2026/2026-04-26/
LOCATION:Union Pines High School\, 1981 Union Church Road\, Carthage\, NC\, 28326\, United States
CATEGORIES:Adults,Arts,Cameron Events,Family,Hobby/Enthusiast,Live Entertainment,Live Theater,Music,Play,School,Social,Teen Activities,Young Adults
ATTACH;FMTTYPE=image/jpeg:https://thepinestimes.com/wp-content/uploads/UPStageTheatreFeature.jpg
END:VEVENT
END:VCALENDAR