BEGIN:VCALENDAR
VERSION:2.0
PRODID:-//The Pines Times - ECPv6.15.20//NONSGML v1.0//EN
CALSCALE:GREGORIAN
METHOD:PUBLISH
X-WR-CALNAME:The Pines Times
X-ORIGINAL-URL:https://thepinestimes.com
X-WR-CALDESC:Events for The Pines Times
REFRESH-INTERVAL;VALUE=DURATION:PT1H
X-Robots-Tag:noindex
X-PUBLISHED-TTL:PT1H
BEGIN:VTIMEZONE
TZID:America/New_York
BEGIN:DAYLIGHT
TZOFFSETFROM:-0500
TZOFFSETTO:-0400
TZNAME:EDT
DTSTART:20250309T070000
END:DAYLIGHT
BEGIN:STANDARD
TZOFFSETFROM:-0400
TZOFFSETTO:-0500
TZNAME:EST
DTSTART:20251102T060000
END:STANDARD
BEGIN:DAYLIGHT
TZOFFSETFROM:-0500
TZOFFSETTO:-0400
TZNAME:EDT
DTSTART:20260308T070000
END:DAYLIGHT
BEGIN:STANDARD
TZOFFSETFROM:-0400
TZOFFSETTO:-0500
TZNAME:EST
DTSTART:20261101T060000
END:STANDARD
BEGIN:DAYLIGHT
TZOFFSETFROM:-0500
TZOFFSETTO:-0400
TZNAME:EDT
DTSTART:20270314T070000
END:DAYLIGHT
BEGIN:STANDARD
TZOFFSETFROM:-0400
TZOFFSETTO:-0500
TZNAME:EST
DTSTART:20271107T060000
END:STANDARD
END:VTIMEZONE
BEGIN:VEVENT
DTSTART;TZID=America/New_York:20260426T130000
DTEND;TZID=America/New_York:20260426T160000
DTSTAMP:20260422T215428
CREATED:20231103T132945Z
LAST-MODIFIED:20260214T162044Z
UID:10080922-1777208400-1777219200@thepinestimes.com
SUMMARY:Cruzin 4 Kidz Car Show 2026
DESCRIPTION:Come out for a day of family-friendly fun and fellowship with Cruzin 4 Kidz Car Club of Moore County. The monthly car show takes place at Time Out Sports Grill in Carthage. The cruise in is open to all car\, truck and motorcycle enthusiasts. Bring your hot rods and show off for a great cause. Participate in the raffles to win some great prizes. There are raffles and festive events all year long. Time Out will be offering drinks and food specials. Bring the family out and walk the aisles of these dynamic machines!
URL:https://thepinestimes.com/event/cruzin-4-kidz-car-show-3/2026-04-26/
LOCATION:Time Out Sports Grill\, 1005 Monroe St.\, Carthage\, NC\, 28327\, United States
CATEGORIES:Adults,Car Show/Motorcycle Show/Cruise In,Carthage Events,Children,Family,Food,Hobby/Enthusiast,Live Entertainment,Nature/Outdoors,Raffle,Senior,Social
ATTACH;FMTTYPE=image/jpeg:https://thepinestimes.com/wp-content/uploads/Cruzin4KidzFeature-1.jpg
ORGANIZER;CN="Cruzin 4 Kidz Car Club of Moore County":MAILTO:moorecaringhearts@yahoo.com
END:VEVENT
BEGIN:VEVENT
DTSTART;TZID=America/New_York:20260524T130000
DTEND;TZID=America/New_York:20260524T160000
DTSTAMP:20260422T215428
CREATED:20231103T132945Z
LAST-MODIFIED:20260214T162044Z
UID:10080923-1779627600-1779638400@thepinestimes.com
SUMMARY:Cruzin 4 Kidz Car Show 2026
DESCRIPTION:Come out for a day of family-friendly fun and fellowship with Cruzin 4 Kidz Car Club of Moore County. The monthly car show takes place at Time Out Sports Grill in Carthage. The cruise in is open to all car\, truck and motorcycle enthusiasts. Bring your hot rods and show off for a great cause. Participate in the raffles to win some great prizes. There are raffles and festive events all year long. Time Out will be offering drinks and food specials. Bring the family out and walk the aisles of these dynamic machines!
URL:https://thepinestimes.com/event/cruzin-4-kidz-car-show-3/2026-05-24/
LOCATION:Time Out Sports Grill\, 1005 Monroe St.\, Carthage\, NC\, 28327\, United States
CATEGORIES:Adults,Car Show/Motorcycle Show/Cruise In,Carthage Events,Children,Family,Food,Hobby/Enthusiast,Live Entertainment,Nature/Outdoors,Raffle,Senior,Social
ATTACH;FMTTYPE=image/jpeg:https://thepinestimes.com/wp-content/uploads/Cruzin4KidzFeature-1.jpg
ORGANIZER;CN="Cruzin 4 Kidz Car Club of Moore County":MAILTO:moorecaringhearts@yahoo.com
END:VEVENT
BEGIN:VEVENT
DTSTART;TZID=America/New_York:20260628T130000
DTEND;TZID=America/New_York:20260628T160000
DTSTAMP:20260422T215428
CREATED:20231103T132945Z
LAST-MODIFIED:20260214T162044Z
UID:10080924-1782651600-1782662400@thepinestimes.com
SUMMARY:Cruzin 4 Kidz Car Show 2026
DESCRIPTION:Come out for a day of family-friendly fun and fellowship with Cruzin 4 Kidz Car Club of Moore County. The monthly car show takes place at Time Out Sports Grill in Carthage. The cruise in is open to all car\, truck and motorcycle enthusiasts. Bring your hot rods and show off for a great cause. Participate in the raffles to win some great prizes. There are raffles and festive events all year long. Time Out will be offering drinks and food specials. Bring the family out and walk the aisles of these dynamic machines!
URL:https://thepinestimes.com/event/cruzin-4-kidz-car-show-3/2026-06-28/
LOCATION:Time Out Sports Grill\, 1005 Monroe St.\, Carthage\, NC\, 28327\, United States
CATEGORIES:Adults,Car Show/Motorcycle Show/Cruise In,Carthage Events,Children,Family,Food,Hobby/Enthusiast,Live Entertainment,Nature/Outdoors,Raffle,Senior,Social
ATTACH;FMTTYPE=image/jpeg:https://thepinestimes.com/wp-content/uploads/Cruzin4KidzFeature-1.jpg
ORGANIZER;CN="Cruzin 4 Kidz Car Club of Moore County":MAILTO:moorecaringhearts@yahoo.com
END:VEVENT
BEGIN:VEVENT
DTSTART;TZID=America/New_York:20260726T130000
DTEND;TZID=America/New_York:20260726T160000
DTSTAMP:20260422T215428
CREATED:20231103T132945Z
LAST-MODIFIED:20260214T162044Z
UID:10080925-1785070800-1785081600@thepinestimes.com
SUMMARY:Cruzin 4 Kidz Car Show 2026
DESCRIPTION:Come out for a day of family-friendly fun and fellowship with Cruzin 4 Kidz Car Club of Moore County. The monthly car show takes place at Time Out Sports Grill in Carthage. The cruise in is open to all car\, truck and motorcycle enthusiasts. Bring your hot rods and show off for a great cause. Participate in the raffles to win some great prizes. There are raffles and festive events all year long. Time Out will be offering drinks and food specials. Bring the family out and walk the aisles of these dynamic machines!
URL:https://thepinestimes.com/event/cruzin-4-kidz-car-show-3/2026-07-26/
LOCATION:Time Out Sports Grill\, 1005 Monroe St.\, Carthage\, NC\, 28327\, United States
CATEGORIES:Adults,Car Show/Motorcycle Show/Cruise In,Carthage Events,Children,Family,Food,Hobby/Enthusiast,Live Entertainment,Nature/Outdoors,Raffle,Senior,Social
ATTACH;FMTTYPE=image/jpeg:https://thepinestimes.com/wp-content/uploads/Cruzin4KidzFeature-1.jpg
ORGANIZER;CN="Cruzin 4 Kidz Car Club of Moore County":MAILTO:moorecaringhearts@yahoo.com
END:VEVENT
BEGIN:VEVENT
DTSTART;TZID=America/New_York:20260823T130000
DTEND;TZID=America/New_York:20260823T160000
DTSTAMP:20260422T215428
CREATED:20231103T132945Z
LAST-MODIFIED:20260214T162044Z
UID:10080926-1787490000-1787500800@thepinestimes.com
SUMMARY:Cruzin 4 Kidz Car Show 2026
DESCRIPTION:Come out for a day of family-friendly fun and fellowship with Cruzin 4 Kidz Car Club of Moore County. The monthly car show takes place at Time Out Sports Grill in Carthage. The cruise in is open to all car\, truck and motorcycle enthusiasts. Bring your hot rods and show off for a great cause. Participate in the raffles to win some great prizes. There are raffles and festive events all year long. Time Out will be offering drinks and food specials. Bring the family out and walk the aisles of these dynamic machines!
URL:https://thepinestimes.com/event/cruzin-4-kidz-car-show-3/2026-08-23/
LOCATION:Time Out Sports Grill\, 1005 Monroe St.\, Carthage\, NC\, 28327\, United States
CATEGORIES:Adults,Car Show/Motorcycle Show/Cruise In,Carthage Events,Children,Family,Food,Hobby/Enthusiast,Live Entertainment,Nature/Outdoors,Raffle,Senior,Social
ATTACH;FMTTYPE=image/jpeg:https://thepinestimes.com/wp-content/uploads/Cruzin4KidzFeature-1.jpg
ORGANIZER;CN="Cruzin 4 Kidz Car Club of Moore County":MAILTO:moorecaringhearts@yahoo.com
END:VEVENT
BEGIN:VEVENT
DTSTART;TZID=America/New_York:20260927T130000
DTEND;TZID=America/New_York:20260927T160000
DTSTAMP:20260422T215428
CREATED:20231103T132945Z
LAST-MODIFIED:20260214T162044Z
UID:10080927-1790514000-1790524800@thepinestimes.com
SUMMARY:Cruzin 4 Kidz Car Show 2026
DESCRIPTION:Come out for a day of family-friendly fun and fellowship with Cruzin 4 Kidz Car Club of Moore County. The monthly car show takes place at Time Out Sports Grill in Carthage. The cruise in is open to all car\, truck and motorcycle enthusiasts. Bring your hot rods and show off for a great cause. Participate in the raffles to win some great prizes. There are raffles and festive events all year long. Time Out will be offering drinks and food specials. Bring the family out and walk the aisles of these dynamic machines!
URL:https://thepinestimes.com/event/cruzin-4-kidz-car-show-3/2026-09-27/
LOCATION:Time Out Sports Grill\, 1005 Monroe St.\, Carthage\, NC\, 28327\, United States
CATEGORIES:Adults,Car Show/Motorcycle Show/Cruise In,Carthage Events,Children,Family,Food,Hobby/Enthusiast,Live Entertainment,Nature/Outdoors,Raffle,Senior,Social
ATTACH;FMTTYPE=image/jpeg:https://thepinestimes.com/wp-content/uploads/Cruzin4KidzFeature-1.jpg
ORGANIZER;CN="Cruzin 4 Kidz Car Club of Moore County":MAILTO:moorecaringhearts@yahoo.com
END:VEVENT
BEGIN:VEVENT
DTSTART;TZID=America/New_York:20261025T130000
DTEND;TZID=America/New_York:20261025T160000
DTSTAMP:20260422T215428
CREATED:20231103T132945Z
LAST-MODIFIED:20260214T162044Z
UID:10080928-1792933200-1792944000@thepinestimes.com
SUMMARY:Cruzin 4 Kidz Car Show 2026
DESCRIPTION:Come out for a day of family-friendly fun and fellowship with Cruzin 4 Kidz Car Club of Moore County. The monthly car show takes place at Time Out Sports Grill in Carthage. The cruise in is open to all car\, truck and motorcycle enthusiasts. Bring your hot rods and show off for a great cause. Participate in the raffles to win some great prizes. There are raffles and festive events all year long. Time Out will be offering drinks and food specials. Bring the family out and walk the aisles of these dynamic machines!
URL:https://thepinestimes.com/event/cruzin-4-kidz-car-show-3/2026-10-25/
LOCATION:Time Out Sports Grill\, 1005 Monroe St.\, Carthage\, NC\, 28327\, United States
CATEGORIES:Adults,Car Show/Motorcycle Show/Cruise In,Carthage Events,Children,Family,Food,Hobby/Enthusiast,Live Entertainment,Nature/Outdoors,Raffle,Senior,Social
ATTACH;FMTTYPE=image/jpeg:https://thepinestimes.com/wp-content/uploads/Cruzin4KidzFeature-1.jpg
ORGANIZER;CN="Cruzin 4 Kidz Car Club of Moore County":MAILTO:moorecaringhearts@yahoo.com
END:VEVENT
BEGIN:VEVENT
DTSTART;TZID=America/New_York:20261122T130000
DTEND;TZID=America/New_York:20261122T160000
DTSTAMP:20260422T215428
CREATED:20231103T132945Z
LAST-MODIFIED:20260214T162044Z
UID:10080929-1795352400-1795363200@thepinestimes.com
SUMMARY:Cruzin 4 Kidz Car Show 2026
DESCRIPTION:Come out for a day of family-friendly fun and fellowship with Cruzin 4 Kidz Car Club of Moore County. The monthly car show takes place at Time Out Sports Grill in Carthage. The cruise in is open to all car\, truck and motorcycle enthusiasts. Bring your hot rods and show off for a great cause. Participate in the raffles to win some great prizes. There are raffles and festive events all year long. Time Out will be offering drinks and food specials. Bring the family out and walk the aisles of these dynamic machines!
URL:https://thepinestimes.com/event/cruzin-4-kidz-car-show-3/2026-11-22/
LOCATION:Time Out Sports Grill\, 1005 Monroe St.\, Carthage\, NC\, 28327\, United States
CATEGORIES:Adults,Car Show/Motorcycle Show/Cruise In,Carthage Events,Children,Family,Food,Hobby/Enthusiast,Live Entertainment,Nature/Outdoors,Raffle,Senior,Social
ATTACH;FMTTYPE=image/jpeg:https://thepinestimes.com/wp-content/uploads/Cruzin4KidzFeature-1.jpg
ORGANIZER;CN="Cruzin 4 Kidz Car Club of Moore County":MAILTO:moorecaringhearts@yahoo.com
END:VEVENT
BEGIN:VEVENT
DTSTART;TZID=America/New_York:20261213T130000
DTEND;TZID=America/New_York:20261213T160000
DTSTAMP:20260422T215428
CREATED:20231103T132945Z
LAST-MODIFIED:20260214T162044Z
UID:10080930-1797166800-1797177600@thepinestimes.com
SUMMARY:Cruzin 4 Kidz Car Show 2026
DESCRIPTION:Come out for a day of family-friendly fun and fellowship with Cruzin 4 Kidz Car Club of Moore County. The monthly car show takes place at Time Out Sports Grill in Carthage. The cruise in is open to all car\, truck and motorcycle enthusiasts. Bring your hot rods and show off for a great cause. Participate in the raffles to win some great prizes. There are raffles and festive events all year long. Time Out will be offering drinks and food specials. Bring the family out and walk the aisles of these dynamic machines!
URL:https://thepinestimes.com/event/cruzin-4-kidz-car-show-3/2026-12-13/
LOCATION:Time Out Sports Grill\, 1005 Monroe St.\, Carthage\, NC\, 28327\, United States
CATEGORIES:Adults,Car Show/Motorcycle Show/Cruise In,Carthage Events,Children,Family,Food,Hobby/Enthusiast,Live Entertainment,Nature/Outdoors,Raffle,Senior,Social
ATTACH;FMTTYPE=image/jpeg:https://thepinestimes.com/wp-content/uploads/Cruzin4KidzFeature-1.jpg
ORGANIZER;CN="Cruzin 4 Kidz Car Club of Moore County":MAILTO:moorecaringhearts@yahoo.com
END:VEVENT
END:VCALENDAR