BEGIN:VCALENDAR
VERSION:2.0
PRODID:-//The Pines Times - ECPv6.15.20//NONSGML v1.0//EN
CALSCALE:GREGORIAN
METHOD:PUBLISH
X-WR-CALNAME:The Pines Times
X-ORIGINAL-URL:https://thepinestimes.com
X-WR-CALDESC:Events for The Pines Times
REFRESH-INTERVAL;VALUE=DURATION:PT1H
X-Robots-Tag:noindex
X-PUBLISHED-TTL:PT1H
BEGIN:VTIMEZONE
TZID:America/New_York
BEGIN:DAYLIGHT
TZOFFSETFROM:-0500
TZOFFSETTO:-0400
TZNAME:EDT
DTSTART:20250309T070000
END:DAYLIGHT
BEGIN:STANDARD
TZOFFSETFROM:-0400
TZOFFSETTO:-0500
TZNAME:EST
DTSTART:20251102T060000
END:STANDARD
BEGIN:DAYLIGHT
TZOFFSETFROM:-0500
TZOFFSETTO:-0400
TZNAME:EDT
DTSTART:20260308T070000
END:DAYLIGHT
BEGIN:STANDARD
TZOFFSETFROM:-0400
TZOFFSETTO:-0500
TZNAME:EST
DTSTART:20261101T060000
END:STANDARD
BEGIN:DAYLIGHT
TZOFFSETFROM:-0500
TZOFFSETTO:-0400
TZNAME:EDT
DTSTART:20270314T070000
END:DAYLIGHT
BEGIN:STANDARD
TZOFFSETFROM:-0400
TZOFFSETTO:-0500
TZNAME:EST
DTSTART:20271107T060000
END:STANDARD
BEGIN:DAYLIGHT
TZOFFSETFROM:-0500
TZOFFSETTO:-0400
TZNAME:EDT
DTSTART:20280312T070000
END:DAYLIGHT
BEGIN:STANDARD
TZOFFSETFROM:-0400
TZOFFSETTO:-0500
TZNAME:EST
DTSTART:20281105T060000
END:STANDARD
END:VTIMEZONE
BEGIN:VEVENT
DTSTART;TZID=America/New_York:20260421T110000
DTEND;TZID=America/New_York:20260421T120000
DTSTAMP:20260421T082456
CREATED:20260219T132252Z
LAST-MODIFIED:20260328T154426Z
UID:10064006-1776769200-1776772800@thepinestimes.com
SUMMARY:Senior Enrichment Center: Caregiver Support Group 3rd Tuesday
DESCRIPTION:Please join at the Senior Enrichment Center of Moore County for an opportunity to share your feelings\, develop friendships\, receive Emotional support\, and discuss solutions to common Caregiver issues with other Caregivers. The group is held every third Tuesday of the month from 11AM-12PM. To reserve your seat\, call or email Alveda Person\, Family Caregiver Advisor at 910-947-4186 or aperson1@moorecountync.gov.
URL:https://thepinestimes.com/event/family-caregiver-support-group-2/2026-04-21/
LOCATION:Moore County Senior Enrichment Center\, 8040 Hwy 15-501\, West End\, NC\, 27376
CATEGORIES:Adults,Brain Change,Family,Health & Wellness,Meeting,Moore County Events,Pinehurst Events,Senior,Social,Support Group,Volunteer,West End Events
ATTACH;FMTTYPE=image/jpeg:https://thepinestimes.com/wp-content/uploads/MooreCountySeniorEnrichmentCenterFeature.jpg
END:VEVENT
BEGIN:VEVENT
DTSTART;TZID=America/New_York:20260505T110000
DTEND;TZID=America/New_York:20260505T120000
DTSTAMP:20260421T082456
CREATED:20260219T132538Z
LAST-MODIFIED:20260328T154234Z
UID:10081214-1777978800-1777982400@thepinestimes.com
SUMMARY:Senior Enrichment Center: Caregiver Support Group 1st Tuesday
DESCRIPTION:Please join at the Senior Enrichment Center of Moore County for an opportunity to share your feelings\, develop friendships\, receive Emotional support\, and discuss solutions to common Caregiver issues with other Caregivers. The group is held every First  Tuesday of the month from 11AM-12PM. To reserve your seat\, call or email Alveda Person\, Family Caregiver Advisor at 910-947-4186 or aperson1@moorecountync.gov.
URL:https://thepinestimes.com/event/senior-enrichment-center-caregiver-support-group/2026-05-05/
LOCATION:Moore County Senior Enrichment Center\, 8040 Hwy 15-501\, West End\, NC\, 27376
CATEGORIES:Adults,Brain Change,Family,Health & Wellness,Meeting,Moore County Events,Pinehurst Events,Senior,Social,Support Group,Volunteer,West End Events
ATTACH;FMTTYPE=image/jpeg:https://thepinestimes.com/wp-content/uploads/MooreCountySeniorEnrichmentCenterFeature.jpg
END:VEVENT
BEGIN:VEVENT
DTSTART;TZID=America/New_York:20260519T110000
DTEND;TZID=America/New_York:20260519T120000
DTSTAMP:20260421T082456
CREATED:20260219T132252Z
LAST-MODIFIED:20260328T154426Z
UID:10085269-1779188400-1779192000@thepinestimes.com
SUMMARY:Senior Enrichment Center: Caregiver Support Group 3rd Tuesday
DESCRIPTION:Please join at the Senior Enrichment Center of Moore County for an opportunity to share your feelings\, develop friendships\, receive Emotional support\, and discuss solutions to common Caregiver issues with other Caregivers. The group is held every third Tuesday of the month from 11AM-12PM. To reserve your seat\, call or email Alveda Person\, Family Caregiver Advisor at 910-947-4186 or aperson1@moorecountync.gov.
URL:https://thepinestimes.com/event/family-caregiver-support-group-2/2026-05-19/
LOCATION:Moore County Senior Enrichment Center\, 8040 Hwy 15-501\, West End\, NC\, 27376
CATEGORIES:Adults,Brain Change,Family,Health & Wellness,Meeting,Moore County Events,Pinehurst Events,Senior,Social,Support Group,Volunteer,West End Events
ATTACH;FMTTYPE=image/jpeg:https://thepinestimes.com/wp-content/uploads/MooreCountySeniorEnrichmentCenterFeature.jpg
END:VEVENT
BEGIN:VEVENT
DTSTART;TZID=America/New_York:20260602T110000
DTEND;TZID=America/New_York:20260602T120000
DTSTAMP:20260421T082456
CREATED:20260219T132538Z
LAST-MODIFIED:20260328T154234Z
UID:10081215-1780398000-1780401600@thepinestimes.com
SUMMARY:Senior Enrichment Center: Caregiver Support Group 1st Tuesday
DESCRIPTION:Please join at the Senior Enrichment Center of Moore County for an opportunity to share your feelings\, develop friendships\, receive Emotional support\, and discuss solutions to common Caregiver issues with other Caregivers. The group is held every First  Tuesday of the month from 11AM-12PM. To reserve your seat\, call or email Alveda Person\, Family Caregiver Advisor at 910-947-4186 or aperson1@moorecountync.gov.
URL:https://thepinestimes.com/event/senior-enrichment-center-caregiver-support-group/2026-06-02/
LOCATION:Moore County Senior Enrichment Center\, 8040 Hwy 15-501\, West End\, NC\, 27376
CATEGORIES:Adults,Brain Change,Family,Health & Wellness,Meeting,Moore County Events,Pinehurst Events,Senior,Social,Support Group,Volunteer,West End Events
ATTACH;FMTTYPE=image/jpeg:https://thepinestimes.com/wp-content/uploads/MooreCountySeniorEnrichmentCenterFeature.jpg
END:VEVENT
BEGIN:VEVENT
DTSTART;TZID=America/New_York:20260616T110000
DTEND;TZID=America/New_York:20260616T120000
DTSTAMP:20260421T082456
CREATED:20260219T132252Z
LAST-MODIFIED:20260328T154426Z
UID:10085270-1781607600-1781611200@thepinestimes.com
SUMMARY:Senior Enrichment Center: Caregiver Support Group 3rd Tuesday
DESCRIPTION:Please join at the Senior Enrichment Center of Moore County for an opportunity to share your feelings\, develop friendships\, receive Emotional support\, and discuss solutions to common Caregiver issues with other Caregivers. The group is held every third Tuesday of the month from 11AM-12PM. To reserve your seat\, call or email Alveda Person\, Family Caregiver Advisor at 910-947-4186 or aperson1@moorecountync.gov.
URL:https://thepinestimes.com/event/family-caregiver-support-group-2/2026-06-16/
LOCATION:Moore County Senior Enrichment Center\, 8040 Hwy 15-501\, West End\, NC\, 27376
CATEGORIES:Adults,Brain Change,Family,Health & Wellness,Meeting,Moore County Events,Pinehurst Events,Senior,Social,Support Group,Volunteer,West End Events
ATTACH;FMTTYPE=image/jpeg:https://thepinestimes.com/wp-content/uploads/MooreCountySeniorEnrichmentCenterFeature.jpg
END:VEVENT
BEGIN:VEVENT
DTSTART;TZID=America/New_York:20260707T110000
DTEND;TZID=America/New_York:20260707T120000
DTSTAMP:20260421T082456
CREATED:20260219T132538Z
LAST-MODIFIED:20260328T154234Z
UID:10081216-1783422000-1783425600@thepinestimes.com
SUMMARY:Senior Enrichment Center: Caregiver Support Group 1st Tuesday
DESCRIPTION:Please join at the Senior Enrichment Center of Moore County for an opportunity to share your feelings\, develop friendships\, receive Emotional support\, and discuss solutions to common Caregiver issues with other Caregivers. The group is held every First  Tuesday of the month from 11AM-12PM. To reserve your seat\, call or email Alveda Person\, Family Caregiver Advisor at 910-947-4186 or aperson1@moorecountync.gov.
URL:https://thepinestimes.com/event/senior-enrichment-center-caregiver-support-group/2026-07-07/
LOCATION:Moore County Senior Enrichment Center\, 8040 Hwy 15-501\, West End\, NC\, 27376
CATEGORIES:Adults,Brain Change,Family,Health & Wellness,Meeting,Moore County Events,Pinehurst Events,Senior,Social,Support Group,Volunteer,West End Events
ATTACH;FMTTYPE=image/jpeg:https://thepinestimes.com/wp-content/uploads/MooreCountySeniorEnrichmentCenterFeature.jpg
END:VEVENT
BEGIN:VEVENT
DTSTART;TZID=America/New_York:20260721T110000
DTEND;TZID=America/New_York:20260721T120000
DTSTAMP:20260421T082456
CREATED:20260219T132252Z
LAST-MODIFIED:20260328T154426Z
UID:10085271-1784631600-1784635200@thepinestimes.com
SUMMARY:Senior Enrichment Center: Caregiver Support Group 3rd Tuesday
DESCRIPTION:Please join at the Senior Enrichment Center of Moore County for an opportunity to share your feelings\, develop friendships\, receive Emotional support\, and discuss solutions to common Caregiver issues with other Caregivers. The group is held every third Tuesday of the month from 11AM-12PM. To reserve your seat\, call or email Alveda Person\, Family Caregiver Advisor at 910-947-4186 or aperson1@moorecountync.gov.
URL:https://thepinestimes.com/event/family-caregiver-support-group-2/2026-07-21/
LOCATION:Moore County Senior Enrichment Center\, 8040 Hwy 15-501\, West End\, NC\, 27376
CATEGORIES:Adults,Brain Change,Family,Health & Wellness,Meeting,Moore County Events,Pinehurst Events,Senior,Social,Support Group,Volunteer,West End Events
ATTACH;FMTTYPE=image/jpeg:https://thepinestimes.com/wp-content/uploads/MooreCountySeniorEnrichmentCenterFeature.jpg
END:VEVENT
BEGIN:VEVENT
DTSTART;TZID=America/New_York:20260804T110000
DTEND;TZID=America/New_York:20260804T120000
DTSTAMP:20260421T082456
CREATED:20260219T132538Z
LAST-MODIFIED:20260328T154234Z
UID:10081217-1785841200-1785844800@thepinestimes.com
SUMMARY:Senior Enrichment Center: Caregiver Support Group 1st Tuesday
DESCRIPTION:Please join at the Senior Enrichment Center of Moore County for an opportunity to share your feelings\, develop friendships\, receive Emotional support\, and discuss solutions to common Caregiver issues with other Caregivers. The group is held every First  Tuesday of the month from 11AM-12PM. To reserve your seat\, call or email Alveda Person\, Family Caregiver Advisor at 910-947-4186 or aperson1@moorecountync.gov.
URL:https://thepinestimes.com/event/senior-enrichment-center-caregiver-support-group/2026-08-04/
LOCATION:Moore County Senior Enrichment Center\, 8040 Hwy 15-501\, West End\, NC\, 27376
CATEGORIES:Adults,Brain Change,Family,Health & Wellness,Meeting,Moore County Events,Pinehurst Events,Senior,Social,Support Group,Volunteer,West End Events
ATTACH;FMTTYPE=image/jpeg:https://thepinestimes.com/wp-content/uploads/MooreCountySeniorEnrichmentCenterFeature.jpg
END:VEVENT
BEGIN:VEVENT
DTSTART;TZID=America/New_York:20260818T110000
DTEND;TZID=America/New_York:20260818T120000
DTSTAMP:20260421T082456
CREATED:20260219T132252Z
LAST-MODIFIED:20260328T154426Z
UID:10085272-1787050800-1787054400@thepinestimes.com
SUMMARY:Senior Enrichment Center: Caregiver Support Group 3rd Tuesday
DESCRIPTION:Please join at the Senior Enrichment Center of Moore County for an opportunity to share your feelings\, develop friendships\, receive Emotional support\, and discuss solutions to common Caregiver issues with other Caregivers. The group is held every third Tuesday of the month from 11AM-12PM. To reserve your seat\, call or email Alveda Person\, Family Caregiver Advisor at 910-947-4186 or aperson1@moorecountync.gov.
URL:https://thepinestimes.com/event/family-caregiver-support-group-2/2026-08-18/
LOCATION:Moore County Senior Enrichment Center\, 8040 Hwy 15-501\, West End\, NC\, 27376
CATEGORIES:Adults,Brain Change,Family,Health & Wellness,Meeting,Moore County Events,Pinehurst Events,Senior,Social,Support Group,Volunteer,West End Events
ATTACH;FMTTYPE=image/jpeg:https://thepinestimes.com/wp-content/uploads/MooreCountySeniorEnrichmentCenterFeature.jpg
END:VEVENT
BEGIN:VEVENT
DTSTART;TZID=America/New_York:20260901T110000
DTEND;TZID=America/New_York:20260901T120000
DTSTAMP:20260421T082456
CREATED:20260219T132538Z
LAST-MODIFIED:20260328T154234Z
UID:10081218-1788260400-1788264000@thepinestimes.com
SUMMARY:Senior Enrichment Center: Caregiver Support Group 1st Tuesday
DESCRIPTION:Please join at the Senior Enrichment Center of Moore County for an opportunity to share your feelings\, develop friendships\, receive Emotional support\, and discuss solutions to common Caregiver issues with other Caregivers. The group is held every First  Tuesday of the month from 11AM-12PM. To reserve your seat\, call or email Alveda Person\, Family Caregiver Advisor at 910-947-4186 or aperson1@moorecountync.gov.
URL:https://thepinestimes.com/event/senior-enrichment-center-caregiver-support-group/2026-09-01/
LOCATION:Moore County Senior Enrichment Center\, 8040 Hwy 15-501\, West End\, NC\, 27376
CATEGORIES:Adults,Brain Change,Family,Health & Wellness,Meeting,Moore County Events,Pinehurst Events,Senior,Social,Support Group,Volunteer,West End Events
ATTACH;FMTTYPE=image/jpeg:https://thepinestimes.com/wp-content/uploads/MooreCountySeniorEnrichmentCenterFeature.jpg
END:VEVENT
BEGIN:VEVENT
DTSTART;TZID=America/New_York:20260915T110000
DTEND;TZID=America/New_York:20260915T120000
DTSTAMP:20260421T082456
CREATED:20260219T132252Z
LAST-MODIFIED:20260328T154426Z
UID:10085273-1789470000-1789473600@thepinestimes.com
SUMMARY:Senior Enrichment Center: Caregiver Support Group 3rd Tuesday
DESCRIPTION:Please join at the Senior Enrichment Center of Moore County for an opportunity to share your feelings\, develop friendships\, receive Emotional support\, and discuss solutions to common Caregiver issues with other Caregivers. The group is held every third Tuesday of the month from 11AM-12PM. To reserve your seat\, call or email Alveda Person\, Family Caregiver Advisor at 910-947-4186 or aperson1@moorecountync.gov.
URL:https://thepinestimes.com/event/family-caregiver-support-group-2/2026-09-15/
LOCATION:Moore County Senior Enrichment Center\, 8040 Hwy 15-501\, West End\, NC\, 27376
CATEGORIES:Adults,Brain Change,Family,Health & Wellness,Meeting,Moore County Events,Pinehurst Events,Senior,Social,Support Group,Volunteer,West End Events
ATTACH;FMTTYPE=image/jpeg:https://thepinestimes.com/wp-content/uploads/MooreCountySeniorEnrichmentCenterFeature.jpg
END:VEVENT
BEGIN:VEVENT
DTSTART;TZID=America/New_York:20261006T110000
DTEND;TZID=America/New_York:20261006T120000
DTSTAMP:20260421T082456
CREATED:20260219T132538Z
LAST-MODIFIED:20260328T154234Z
UID:10081219-1791284400-1791288000@thepinestimes.com
SUMMARY:Senior Enrichment Center: Caregiver Support Group 1st Tuesday
DESCRIPTION:Please join at the Senior Enrichment Center of Moore County for an opportunity to share your feelings\, develop friendships\, receive Emotional support\, and discuss solutions to common Caregiver issues with other Caregivers. The group is held every First  Tuesday of the month from 11AM-12PM. To reserve your seat\, call or email Alveda Person\, Family Caregiver Advisor at 910-947-4186 or aperson1@moorecountync.gov.
URL:https://thepinestimes.com/event/senior-enrichment-center-caregiver-support-group/2026-10-06/
LOCATION:Moore County Senior Enrichment Center\, 8040 Hwy 15-501\, West End\, NC\, 27376
CATEGORIES:Adults,Brain Change,Family,Health & Wellness,Meeting,Moore County Events,Pinehurst Events,Senior,Social,Support Group,Volunteer,West End Events
ATTACH;FMTTYPE=image/jpeg:https://thepinestimes.com/wp-content/uploads/MooreCountySeniorEnrichmentCenterFeature.jpg
END:VEVENT
BEGIN:VEVENT
DTSTART;TZID=America/New_York:20261020T110000
DTEND;TZID=America/New_York:20261020T120000
DTSTAMP:20260421T082456
CREATED:20260219T132252Z
LAST-MODIFIED:20260328T154426Z
UID:10085274-1792494000-1792497600@thepinestimes.com
SUMMARY:Senior Enrichment Center: Caregiver Support Group 3rd Tuesday
DESCRIPTION:Please join at the Senior Enrichment Center of Moore County for an opportunity to share your feelings\, develop friendships\, receive Emotional support\, and discuss solutions to common Caregiver issues with other Caregivers. The group is held every third Tuesday of the month from 11AM-12PM. To reserve your seat\, call or email Alveda Person\, Family Caregiver Advisor at 910-947-4186 or aperson1@moorecountync.gov.
URL:https://thepinestimes.com/event/family-caregiver-support-group-2/2026-10-20/
LOCATION:Moore County Senior Enrichment Center\, 8040 Hwy 15-501\, West End\, NC\, 27376
CATEGORIES:Adults,Brain Change,Family,Health & Wellness,Meeting,Moore County Events,Pinehurst Events,Senior,Social,Support Group,Volunteer,West End Events
ATTACH;FMTTYPE=image/jpeg:https://thepinestimes.com/wp-content/uploads/MooreCountySeniorEnrichmentCenterFeature.jpg
END:VEVENT
BEGIN:VEVENT
DTSTART;TZID=America/New_York:20261103T110000
DTEND;TZID=America/New_York:20261103T120000
DTSTAMP:20260421T082456
CREATED:20260219T132538Z
LAST-MODIFIED:20260328T154234Z
UID:10081220-1793703600-1793707200@thepinestimes.com
SUMMARY:Senior Enrichment Center: Caregiver Support Group 1st Tuesday
DESCRIPTION:Please join at the Senior Enrichment Center of Moore County for an opportunity to share your feelings\, develop friendships\, receive Emotional support\, and discuss solutions to common Caregiver issues with other Caregivers. The group is held every First  Tuesday of the month from 11AM-12PM. To reserve your seat\, call or email Alveda Person\, Family Caregiver Advisor at 910-947-4186 or aperson1@moorecountync.gov.
URL:https://thepinestimes.com/event/senior-enrichment-center-caregiver-support-group/2026-11-03/
LOCATION:Moore County Senior Enrichment Center\, 8040 Hwy 15-501\, West End\, NC\, 27376
CATEGORIES:Adults,Brain Change,Family,Health & Wellness,Meeting,Moore County Events,Pinehurst Events,Senior,Social,Support Group,Volunteer,West End Events
ATTACH;FMTTYPE=image/jpeg:https://thepinestimes.com/wp-content/uploads/MooreCountySeniorEnrichmentCenterFeature.jpg
END:VEVENT
BEGIN:VEVENT
DTSTART;TZID=America/New_York:20261117T110000
DTEND;TZID=America/New_York:20261117T120000
DTSTAMP:20260421T082456
CREATED:20260219T132252Z
LAST-MODIFIED:20260328T154426Z
UID:10085275-1794913200-1794916800@thepinestimes.com
SUMMARY:Senior Enrichment Center: Caregiver Support Group 3rd Tuesday
DESCRIPTION:Please join at the Senior Enrichment Center of Moore County for an opportunity to share your feelings\, develop friendships\, receive Emotional support\, and discuss solutions to common Caregiver issues with other Caregivers. The group is held every third Tuesday of the month from 11AM-12PM. To reserve your seat\, call or email Alveda Person\, Family Caregiver Advisor at 910-947-4186 or aperson1@moorecountync.gov.
URL:https://thepinestimes.com/event/family-caregiver-support-group-2/2026-11-17/
LOCATION:Moore County Senior Enrichment Center\, 8040 Hwy 15-501\, West End\, NC\, 27376
CATEGORIES:Adults,Brain Change,Family,Health & Wellness,Meeting,Moore County Events,Pinehurst Events,Senior,Social,Support Group,Volunteer,West End Events
ATTACH;FMTTYPE=image/jpeg:https://thepinestimes.com/wp-content/uploads/MooreCountySeniorEnrichmentCenterFeature.jpg
END:VEVENT
BEGIN:VEVENT
DTSTART;TZID=America/New_York:20261201T110000
DTEND;TZID=America/New_York:20261201T120000
DTSTAMP:20260421T082456
CREATED:20260219T132538Z
LAST-MODIFIED:20260328T154234Z
UID:10081221-1796122800-1796126400@thepinestimes.com
SUMMARY:Senior Enrichment Center: Caregiver Support Group 1st Tuesday
DESCRIPTION:Please join at the Senior Enrichment Center of Moore County for an opportunity to share your feelings\, develop friendships\, receive Emotional support\, and discuss solutions to common Caregiver issues with other Caregivers. The group is held every First  Tuesday of the month from 11AM-12PM. To reserve your seat\, call or email Alveda Person\, Family Caregiver Advisor at 910-947-4186 or aperson1@moorecountync.gov.
URL:https://thepinestimes.com/event/senior-enrichment-center-caregiver-support-group/2026-12-01/
LOCATION:Moore County Senior Enrichment Center\, 8040 Hwy 15-501\, West End\, NC\, 27376
CATEGORIES:Adults,Brain Change,Family,Health & Wellness,Meeting,Moore County Events,Pinehurst Events,Senior,Social,Support Group,Volunteer,West End Events
ATTACH;FMTTYPE=image/jpeg:https://thepinestimes.com/wp-content/uploads/MooreCountySeniorEnrichmentCenterFeature.jpg
END:VEVENT
BEGIN:VEVENT
DTSTART;TZID=America/New_York:20261215T110000
DTEND;TZID=America/New_York:20261215T120000
DTSTAMP:20260421T082456
CREATED:20260219T132252Z
LAST-MODIFIED:20260328T154426Z
UID:10085276-1797332400-1797336000@thepinestimes.com
SUMMARY:Senior Enrichment Center: Caregiver Support Group 3rd Tuesday
DESCRIPTION:Please join at the Senior Enrichment Center of Moore County for an opportunity to share your feelings\, develop friendships\, receive Emotional support\, and discuss solutions to common Caregiver issues with other Caregivers. The group is held every third Tuesday of the month from 11AM-12PM. To reserve your seat\, call or email Alveda Person\, Family Caregiver Advisor at 910-947-4186 or aperson1@moorecountync.gov.
URL:https://thepinestimes.com/event/family-caregiver-support-group-2/2026-12-15/
LOCATION:Moore County Senior Enrichment Center\, 8040 Hwy 15-501\, West End\, NC\, 27376
CATEGORIES:Adults,Brain Change,Family,Health & Wellness,Meeting,Moore County Events,Pinehurst Events,Senior,Social,Support Group,Volunteer,West End Events
ATTACH;FMTTYPE=image/jpeg:https://thepinestimes.com/wp-content/uploads/MooreCountySeniorEnrichmentCenterFeature.jpg
END:VEVENT
BEGIN:VEVENT
DTSTART;TZID=America/New_York:20270105T110000
DTEND;TZID=America/New_York:20270105T120000
DTSTAMP:20260421T082456
CREATED:20260219T132538Z
LAST-MODIFIED:20260328T154234Z
UID:10081222-1799146800-1799150400@thepinestimes.com
SUMMARY:Senior Enrichment Center: Caregiver Support Group 1st Tuesday
DESCRIPTION:Please join at the Senior Enrichment Center of Moore County for an opportunity to share your feelings\, develop friendships\, receive Emotional support\, and discuss solutions to common Caregiver issues with other Caregivers. The group is held every First  Tuesday of the month from 11AM-12PM. To reserve your seat\, call or email Alveda Person\, Family Caregiver Advisor at 910-947-4186 or aperson1@moorecountync.gov.
URL:https://thepinestimes.com/event/senior-enrichment-center-caregiver-support-group/2027-01-05/
LOCATION:Moore County Senior Enrichment Center\, 8040 Hwy 15-501\, West End\, NC\, 27376
CATEGORIES:Adults,Brain Change,Family,Health & Wellness,Meeting,Moore County Events,Pinehurst Events,Senior,Social,Support Group,Volunteer,West End Events
ATTACH;FMTTYPE=image/jpeg:https://thepinestimes.com/wp-content/uploads/MooreCountySeniorEnrichmentCenterFeature.jpg
END:VEVENT
BEGIN:VEVENT
DTSTART;TZID=America/New_York:20270202T110000
DTEND;TZID=America/New_York:20270202T120000
DTSTAMP:20260421T082456
CREATED:20260219T132538Z
LAST-MODIFIED:20260328T154234Z
UID:10081223-1801566000-1801569600@thepinestimes.com
SUMMARY:Senior Enrichment Center: Caregiver Support Group 1st Tuesday
DESCRIPTION:Please join at the Senior Enrichment Center of Moore County for an opportunity to share your feelings\, develop friendships\, receive Emotional support\, and discuss solutions to common Caregiver issues with other Caregivers. The group is held every First  Tuesday of the month from 11AM-12PM. To reserve your seat\, call or email Alveda Person\, Family Caregiver Advisor at 910-947-4186 or aperson1@moorecountync.gov.
URL:https://thepinestimes.com/event/senior-enrichment-center-caregiver-support-group/2027-02-02/
LOCATION:Moore County Senior Enrichment Center\, 8040 Hwy 15-501\, West End\, NC\, 27376
CATEGORIES:Adults,Brain Change,Family,Health & Wellness,Meeting,Moore County Events,Pinehurst Events,Senior,Social,Support Group,Volunteer,West End Events
ATTACH;FMTTYPE=image/jpeg:https://thepinestimes.com/wp-content/uploads/MooreCountySeniorEnrichmentCenterFeature.jpg
END:VEVENT
END:VCALENDAR