BEGIN:VCALENDAR
VERSION:2.0
PRODID:-//The Pines Times - ECPv6.15.20//NONSGML v1.0//EN
CALSCALE:GREGORIAN
METHOD:PUBLISH
X-WR-CALNAME:The Pines Times
X-ORIGINAL-URL:https://thepinestimes.com
X-WR-CALDESC:Events for The Pines Times
REFRESH-INTERVAL;VALUE=DURATION:PT1H
X-Robots-Tag:noindex
X-PUBLISHED-TTL:PT1H
BEGIN:VTIMEZONE
TZID:America/New_York
BEGIN:DAYLIGHT
TZOFFSETFROM:-0500
TZOFFSETTO:-0400
TZNAME:EDT
DTSTART:20250309T070000
END:DAYLIGHT
BEGIN:STANDARD
TZOFFSETFROM:-0400
TZOFFSETTO:-0500
TZNAME:EST
DTSTART:20251102T060000
END:STANDARD
BEGIN:DAYLIGHT
TZOFFSETFROM:-0500
TZOFFSETTO:-0400
TZNAME:EDT
DTSTART:20260308T070000
END:DAYLIGHT
BEGIN:STANDARD
TZOFFSETFROM:-0400
TZOFFSETTO:-0500
TZNAME:EST
DTSTART:20261101T060000
END:STANDARD
BEGIN:DAYLIGHT
TZOFFSETFROM:-0500
TZOFFSETTO:-0400
TZNAME:EDT
DTSTART:20270314T070000
END:DAYLIGHT
BEGIN:STANDARD
TZOFFSETFROM:-0400
TZOFFSETTO:-0500
TZNAME:EST
DTSTART:20271107T060000
END:STANDARD
END:VTIMEZONE
BEGIN:VEVENT
DTSTART;TZID=America/New_York:20260424T170000
DTEND;TZID=America/New_York:20260424T213000
DTSTAMP:20260422T100646
CREATED:20260422T131227Z
LAST-MODIFIED:20260422T131408Z
UID:10087081-1777050000-1777066200@thepinestimes.com
SUMMARY:The Fayetteville Dogwood Fall Festival 2026
DESCRIPTION:Celebrate 44 years of The Fayetteville Dogwood Festival\, taking place Friday\, April 24th-Sunday\, April 26th at Festival Park! Enjoy this weekend full of festivities that includes free concerts\, a street fair with many vendors & makers\, carnival rides\, great food\, live music\, entertainment\, a classic car & truck cruise in and much more. There will be children’s activities and much fun for all ages! For the full schedule of events\, follow the link provided below. \nThis massive\, free-to-attend community celebration at Festival Park features a jam-packed schedule starting Friday with a mechanical bull\, over 135 vendors\, and live performances by the Ying Yang Twins\, Trev Truth\, and DJ Yodo from 5:00PM-9:00PM. \nSaturday’s festivities expand to include a car show from 9:00AM-5:00PM\, an Earth Day event\, and concerts by Echostone\, Saved by the 90s\, and DJ Problem running until 9:00PM. \nSunday rounds out the weekend with a lineup of free fitness classes including Pure Barre and Burn Boot Camp\, alongside midway rides\, a dedicated kid zone\, and 26 diverse food and drink options available all weekend long. \nFriday: 5PM-9:30PM (Festival Park will open at 4PM)\nSaturday: 12PM-9:30PM (Festival Park will open at 11AM)\nSunday 12PM-8PM (Festival Park will open at 11AM)
URL:https://thepinestimes.com/event/the-fayetteville-dogwood-fall-festival-2026/2026-04-24/
LOCATION:Fayetteville Festival Park\, 335 Ray Avenue\, Fayetteville\, NC\, 28301\, United States
CATEGORIES:Adults,Art/Photography,Car Show/Motorcycle Show/Cruise In,Children,Concert,Crafts,Fair/Festival,Family,Fayetteville,Food,Hobby/Enthusiast,Live Entertainment,Live Music,Nature/Outdoors,Senior,Shopping,Social,Vendors
ATTACH;FMTTYPE=image/jpeg:https://thepinestimes.com/wp-content/uploads/DogwoodFestivalFeature.jpg
END:VEVENT
BEGIN:VEVENT
DTSTART;TZID=America/New_York:20260425T120000
DTEND;TZID=America/New_York:20260425T213000
DTSTAMP:20260422T100646
CREATED:20260422T131227Z
LAST-MODIFIED:20260422T131408Z
UID:10087082-1777118400-1777152600@thepinestimes.com
SUMMARY:The Fayetteville Dogwood Fall Festival 2026
DESCRIPTION:Celebrate 44 years of The Fayetteville Dogwood Festival\, taking place Friday\, April 24th-Sunday\, April 26th at Festival Park! Enjoy this weekend full of festivities that includes free concerts\, a street fair with many vendors & makers\, carnival rides\, great food\, live music\, entertainment\, a classic car & truck cruise in and much more. There will be children’s activities and much fun for all ages! For the full schedule of events\, follow the link provided below. \nThis massive\, free-to-attend community celebration at Festival Park features a jam-packed schedule starting Friday with a mechanical bull\, over 135 vendors\, and live performances by the Ying Yang Twins\, Trev Truth\, and DJ Yodo from 5:00PM-9:00PM. \nSaturday’s festivities expand to include a car show from 9:00AM-5:00PM\, an Earth Day event\, and concerts by Echostone\, Saved by the 90s\, and DJ Problem running until 9:00PM. \nSunday rounds out the weekend with a lineup of free fitness classes including Pure Barre and Burn Boot Camp\, alongside midway rides\, a dedicated kid zone\, and 26 diverse food and drink options available all weekend long. \nFriday: 5PM-9:30PM (Festival Park will open at 4PM)\nSaturday: 12PM-9:30PM (Festival Park will open at 11AM)\nSunday 12PM-8PM (Festival Park will open at 11AM)
URL:https://thepinestimes.com/event/the-fayetteville-dogwood-fall-festival-2026/2026-04-25/
LOCATION:Fayetteville Festival Park\, 335 Ray Avenue\, Fayetteville\, NC\, 28301\, United States
CATEGORIES:Adults,Art/Photography,Car Show/Motorcycle Show/Cruise In,Children,Concert,Crafts,Fair/Festival,Family,Fayetteville,Food,Hobby/Enthusiast,Live Entertainment,Live Music,Nature/Outdoors,Senior,Shopping,Social,Vendors
ATTACH;FMTTYPE=image/jpeg:https://thepinestimes.com/wp-content/uploads/DogwoodFestivalFeature.jpg
END:VEVENT
BEGIN:VEVENT
DTSTART;TZID=America/New_York:20260426T120000
DTEND;TZID=America/New_York:20260426T200000
DTSTAMP:20260422T100646
CREATED:20260422T131227Z
LAST-MODIFIED:20260422T131408Z
UID:10087083-1777204800-1777233600@thepinestimes.com
SUMMARY:The Fayetteville Dogwood Fall Festival 2026
DESCRIPTION:Celebrate 44 years of The Fayetteville Dogwood Festival\, taking place Friday\, April 24th-Sunday\, April 26th at Festival Park! Enjoy this weekend full of festivities that includes free concerts\, a street fair with many vendors & makers\, carnival rides\, great food\, live music\, entertainment\, a classic car & truck cruise in and much more. There will be children’s activities and much fun for all ages! For the full schedule of events\, follow the link provided below. \nThis massive\, free-to-attend community celebration at Festival Park features a jam-packed schedule starting Friday with a mechanical bull\, over 135 vendors\, and live performances by the Ying Yang Twins\, Trev Truth\, and DJ Yodo from 5:00PM-9:00PM. \nSaturday’s festivities expand to include a car show from 9:00AM-5:00PM\, an Earth Day event\, and concerts by Echostone\, Saved by the 90s\, and DJ Problem running until 9:00PM. \nSunday rounds out the weekend with a lineup of free fitness classes including Pure Barre and Burn Boot Camp\, alongside midway rides\, a dedicated kid zone\, and 26 diverse food and drink options available all weekend long. \nFriday: 5PM-9:30PM (Festival Park will open at 4PM)\nSaturday: 12PM-9:30PM (Festival Park will open at 11AM)\nSunday 12PM-8PM (Festival Park will open at 11AM)
URL:https://thepinestimes.com/event/the-fayetteville-dogwood-fall-festival-2026/2026-04-26/
LOCATION:Fayetteville Festival Park\, 335 Ray Avenue\, Fayetteville\, NC\, 28301\, United States
CATEGORIES:Adults,Art/Photography,Car Show/Motorcycle Show/Cruise In,Children,Concert,Crafts,Fair/Festival,Family,Fayetteville,Food,Hobby/Enthusiast,Live Entertainment,Live Music,Nature/Outdoors,Senior,Shopping,Social,Vendors
ATTACH;FMTTYPE=image/jpeg:https://thepinestimes.com/wp-content/uploads/DogwoodFestivalFeature.jpg
END:VEVENT
END:VCALENDAR