BEGIN:VCALENDAR
VERSION:2.0
PRODID:-//The Pines Times - ECPv6.15.20//NONSGML v1.0//EN
CALSCALE:GREGORIAN
METHOD:PUBLISH
X-WR-CALNAME:The Pines Times
X-ORIGINAL-URL:https://thepinestimes.com
X-WR-CALDESC:Events for The Pines Times
REFRESH-INTERVAL;VALUE=DURATION:PT1H
X-Robots-Tag:noindex
X-PUBLISHED-TTL:PT1H
BEGIN:VTIMEZONE
TZID:America/New_York
BEGIN:DAYLIGHT
TZOFFSETFROM:-0500
TZOFFSETTO:-0400
TZNAME:EDT
DTSTART:20250309T070000
END:DAYLIGHT
BEGIN:STANDARD
TZOFFSETFROM:-0400
TZOFFSETTO:-0500
TZNAME:EST
DTSTART:20251102T060000
END:STANDARD
BEGIN:DAYLIGHT
TZOFFSETFROM:-0500
TZOFFSETTO:-0400
TZNAME:EDT
DTSTART:20260308T070000
END:DAYLIGHT
BEGIN:STANDARD
TZOFFSETFROM:-0400
TZOFFSETTO:-0500
TZNAME:EST
DTSTART:20261101T060000
END:STANDARD
BEGIN:DAYLIGHT
TZOFFSETFROM:-0500
TZOFFSETTO:-0400
TZNAME:EDT
DTSTART:20270314T070000
END:DAYLIGHT
BEGIN:STANDARD
TZOFFSETFROM:-0400
TZOFFSETTO:-0500
TZNAME:EST
DTSTART:20271107T060000
END:STANDARD
END:VTIMEZONE
BEGIN:VEVENT
DTSTART;TZID=America/New_York:20260428T140000
DTEND;TZID=America/New_York:20260428T160000
DTSTAMP:20260422T110629
CREATED:20251224T135431Z
LAST-MODIFIED:20260328T152424Z
UID:10085247-1777384800-1777392000@thepinestimes.com
SUMMARY:Robbins Area Library: Crochet & Knitting Group
DESCRIPTION:The Robbins Area Library promises to keep you in stitches at their Crochet & Knitting Group! The group meets each Tuesday 2pm-4pm. You may bring your own project or join to begin a new one. For additional information\, contact the library at 910-948-4000.
URL:https://thepinestimes.com/event/robbins-area-library-crochet-knitting-group-2/2026-04-28/
LOCATION:Robbins Area Library\, 161 E Magnolia Dr\, Robbins\, NC\, 27325\, United States
CATEGORIES:Adults,Clubs,Educational,Hobby/Enthusiast,Library,Meeting,Robbins Events,Senior,Social
ATTACH;FMTTYPE=image/jpeg:https://thepinestimes.com/wp-content/uploads/SandhillRegionalLibrarySystemFeature1.jpg
END:VEVENT
BEGIN:VEVENT
DTSTART;TZID=America/New_York:20260505T140000
DTEND;TZID=America/New_York:20260505T160000
DTSTAMP:20260422T110629
CREATED:20251224T135431Z
LAST-MODIFIED:20260328T152424Z
UID:10085248-1777989600-1777996800@thepinestimes.com
SUMMARY:Robbins Area Library: Crochet & Knitting Group
DESCRIPTION:The Robbins Area Library promises to keep you in stitches at their Crochet & Knitting Group! The group meets each Tuesday 2pm-4pm. You may bring your own project or join to begin a new one. For additional information\, contact the library at 910-948-4000.
URL:https://thepinestimes.com/event/robbins-area-library-crochet-knitting-group-2/2026-05-05/
LOCATION:Robbins Area Library\, 161 E Magnolia Dr\, Robbins\, NC\, 27325\, United States
CATEGORIES:Adults,Clubs,Educational,Hobby/Enthusiast,Library,Meeting,Robbins Events,Senior,Social
ATTACH;FMTTYPE=image/jpeg:https://thepinestimes.com/wp-content/uploads/SandhillRegionalLibrarySystemFeature1.jpg
END:VEVENT
BEGIN:VEVENT
DTSTART;TZID=America/New_York:20260512T140000
DTEND;TZID=America/New_York:20260512T160000
DTSTAMP:20260422T110629
CREATED:20251224T135431Z
LAST-MODIFIED:20260328T152424Z
UID:10085249-1778594400-1778601600@thepinestimes.com
SUMMARY:Robbins Area Library: Crochet & Knitting Group
DESCRIPTION:The Robbins Area Library promises to keep you in stitches at their Crochet & Knitting Group! The group meets each Tuesday 2pm-4pm. You may bring your own project or join to begin a new one. For additional information\, contact the library at 910-948-4000.
URL:https://thepinestimes.com/event/robbins-area-library-crochet-knitting-group-2/2026-05-12/
LOCATION:Robbins Area Library\, 161 E Magnolia Dr\, Robbins\, NC\, 27325\, United States
CATEGORIES:Adults,Clubs,Educational,Hobby/Enthusiast,Library,Meeting,Robbins Events,Senior,Social
ATTACH;FMTTYPE=image/jpeg:https://thepinestimes.com/wp-content/uploads/SandhillRegionalLibrarySystemFeature1.jpg
END:VEVENT
BEGIN:VEVENT
DTSTART;TZID=America/New_York:20260519T140000
DTEND;TZID=America/New_York:20260519T160000
DTSTAMP:20260422T110629
CREATED:20251224T135431Z
LAST-MODIFIED:20260328T152424Z
UID:10085250-1779199200-1779206400@thepinestimes.com
SUMMARY:Robbins Area Library: Crochet & Knitting Group
DESCRIPTION:The Robbins Area Library promises to keep you in stitches at their Crochet & Knitting Group! The group meets each Tuesday 2pm-4pm. You may bring your own project or join to begin a new one. For additional information\, contact the library at 910-948-4000.
URL:https://thepinestimes.com/event/robbins-area-library-crochet-knitting-group-2/2026-05-19/
LOCATION:Robbins Area Library\, 161 E Magnolia Dr\, Robbins\, NC\, 27325\, United States
CATEGORIES:Adults,Clubs,Educational,Hobby/Enthusiast,Library,Meeting,Robbins Events,Senior,Social
ATTACH;FMTTYPE=image/jpeg:https://thepinestimes.com/wp-content/uploads/SandhillRegionalLibrarySystemFeature1.jpg
END:VEVENT
BEGIN:VEVENT
DTSTART;TZID=America/New_York:20260526T140000
DTEND;TZID=America/New_York:20260526T160000
DTSTAMP:20260422T110629
CREATED:20251224T135431Z
LAST-MODIFIED:20260328T152424Z
UID:10085251-1779804000-1779811200@thepinestimes.com
SUMMARY:Robbins Area Library: Crochet & Knitting Group
DESCRIPTION:The Robbins Area Library promises to keep you in stitches at their Crochet & Knitting Group! The group meets each Tuesday 2pm-4pm. You may bring your own project or join to begin a new one. For additional information\, contact the library at 910-948-4000.
URL:https://thepinestimes.com/event/robbins-area-library-crochet-knitting-group-2/2026-05-26/
LOCATION:Robbins Area Library\, 161 E Magnolia Dr\, Robbins\, NC\, 27325\, United States
CATEGORIES:Adults,Clubs,Educational,Hobby/Enthusiast,Library,Meeting,Robbins Events,Senior,Social
ATTACH;FMTTYPE=image/jpeg:https://thepinestimes.com/wp-content/uploads/SandhillRegionalLibrarySystemFeature1.jpg
END:VEVENT
BEGIN:VEVENT
DTSTART;TZID=America/New_York:20260602T140000
DTEND;TZID=America/New_York:20260602T160000
DTSTAMP:20260422T110629
CREATED:20251224T135431Z
LAST-MODIFIED:20260328T152424Z
UID:10085252-1780408800-1780416000@thepinestimes.com
SUMMARY:Robbins Area Library: Crochet & Knitting Group
DESCRIPTION:The Robbins Area Library promises to keep you in stitches at their Crochet & Knitting Group! The group meets each Tuesday 2pm-4pm. You may bring your own project or join to begin a new one. For additional information\, contact the library at 910-948-4000.
URL:https://thepinestimes.com/event/robbins-area-library-crochet-knitting-group-2/2026-06-02/
LOCATION:Robbins Area Library\, 161 E Magnolia Dr\, Robbins\, NC\, 27325\, United States
CATEGORIES:Adults,Clubs,Educational,Hobby/Enthusiast,Library,Meeting,Robbins Events,Senior,Social
ATTACH;FMTTYPE=image/jpeg:https://thepinestimes.com/wp-content/uploads/SandhillRegionalLibrarySystemFeature1.jpg
END:VEVENT
BEGIN:VEVENT
DTSTART;TZID=America/New_York:20260609T140000
DTEND;TZID=America/New_York:20260609T160000
DTSTAMP:20260422T110629
CREATED:20251224T135431Z
LAST-MODIFIED:20260328T152424Z
UID:10085253-1781013600-1781020800@thepinestimes.com
SUMMARY:Robbins Area Library: Crochet & Knitting Group
DESCRIPTION:The Robbins Area Library promises to keep you in stitches at their Crochet & Knitting Group! The group meets each Tuesday 2pm-4pm. You may bring your own project or join to begin a new one. For additional information\, contact the library at 910-948-4000.
URL:https://thepinestimes.com/event/robbins-area-library-crochet-knitting-group-2/2026-06-09/
LOCATION:Robbins Area Library\, 161 E Magnolia Dr\, Robbins\, NC\, 27325\, United States
CATEGORIES:Adults,Clubs,Educational,Hobby/Enthusiast,Library,Meeting,Robbins Events,Senior,Social
ATTACH;FMTTYPE=image/jpeg:https://thepinestimes.com/wp-content/uploads/SandhillRegionalLibrarySystemFeature1.jpg
END:VEVENT
BEGIN:VEVENT
DTSTART;TZID=America/New_York:20260616T140000
DTEND;TZID=America/New_York:20260616T160000
DTSTAMP:20260422T110629
CREATED:20251224T135431Z
LAST-MODIFIED:20260328T152424Z
UID:10085254-1781618400-1781625600@thepinestimes.com
SUMMARY:Robbins Area Library: Crochet & Knitting Group
DESCRIPTION:The Robbins Area Library promises to keep you in stitches at their Crochet & Knitting Group! The group meets each Tuesday 2pm-4pm. You may bring your own project or join to begin a new one. For additional information\, contact the library at 910-948-4000.
URL:https://thepinestimes.com/event/robbins-area-library-crochet-knitting-group-2/2026-06-16/
LOCATION:Robbins Area Library\, 161 E Magnolia Dr\, Robbins\, NC\, 27325\, United States
CATEGORIES:Adults,Clubs,Educational,Hobby/Enthusiast,Library,Meeting,Robbins Events,Senior,Social
ATTACH;FMTTYPE=image/jpeg:https://thepinestimes.com/wp-content/uploads/SandhillRegionalLibrarySystemFeature1.jpg
END:VEVENT
BEGIN:VEVENT
DTSTART;TZID=America/New_York:20260623T140000
DTEND;TZID=America/New_York:20260623T160000
DTSTAMP:20260422T110629
CREATED:20251224T135431Z
LAST-MODIFIED:20260328T152424Z
UID:10085255-1782223200-1782230400@thepinestimes.com
SUMMARY:Robbins Area Library: Crochet & Knitting Group
DESCRIPTION:The Robbins Area Library promises to keep you in stitches at their Crochet & Knitting Group! The group meets each Tuesday 2pm-4pm. You may bring your own project or join to begin a new one. For additional information\, contact the library at 910-948-4000.
URL:https://thepinestimes.com/event/robbins-area-library-crochet-knitting-group-2/2026-06-23/
LOCATION:Robbins Area Library\, 161 E Magnolia Dr\, Robbins\, NC\, 27325\, United States
CATEGORIES:Adults,Clubs,Educational,Hobby/Enthusiast,Library,Meeting,Robbins Events,Senior,Social
ATTACH;FMTTYPE=image/jpeg:https://thepinestimes.com/wp-content/uploads/SandhillRegionalLibrarySystemFeature1.jpg
END:VEVENT
END:VCALENDAR