BEGIN:VCALENDAR
VERSION:2.0
PRODID:-//The Pines Times - ECPv6.15.20//NONSGML v1.0//EN
CALSCALE:GREGORIAN
METHOD:PUBLISH
X-WR-CALNAME:The Pines Times
X-ORIGINAL-URL:https://thepinestimes.com
X-WR-CALDESC:Events for The Pines Times
REFRESH-INTERVAL;VALUE=DURATION:PT1H
X-Robots-Tag:noindex
X-PUBLISHED-TTL:PT1H
BEGIN:VTIMEZONE
TZID:America/New_York
BEGIN:DAYLIGHT
TZOFFSETFROM:-0500
TZOFFSETTO:-0400
TZNAME:EDT
DTSTART:20250309T070000
END:DAYLIGHT
BEGIN:STANDARD
TZOFFSETFROM:-0400
TZOFFSETTO:-0500
TZNAME:EST
DTSTART:20251102T060000
END:STANDARD
BEGIN:DAYLIGHT
TZOFFSETFROM:-0500
TZOFFSETTO:-0400
TZNAME:EDT
DTSTART:20260308T070000
END:DAYLIGHT
BEGIN:STANDARD
TZOFFSETFROM:-0400
TZOFFSETTO:-0500
TZNAME:EST
DTSTART:20261101T060000
END:STANDARD
BEGIN:DAYLIGHT
TZOFFSETFROM:-0500
TZOFFSETTO:-0400
TZNAME:EDT
DTSTART:20270314T070000
END:DAYLIGHT
BEGIN:STANDARD
TZOFFSETFROM:-0400
TZOFFSETTO:-0500
TZNAME:EST
DTSTART:20271107T060000
END:STANDARD
END:VTIMEZONE
BEGIN:VEVENT
DTSTART;TZID=America/New_York:20260508T190000
DTEND;TZID=America/New_York:20260508T220000
DTSTAMP:20260422T234632
CREATED:20260421T173754Z
LAST-MODIFIED:20260421T173754Z
UID:10087074-1778266800-1778277600@thepinestimes.com
SUMMARY:Salsa Fest Dance Party
DESCRIPTION:Join Carolina DanceWorks for a Salsa Dance Party on Friday\, May 8th\, from 7PM-10PM! Enjoy three hours of dancing\, fabulous fun for all ages and a free group class. Enjoy Miss Debby’s delicious Taco Bar and two free drinks. \nAre you looking for the hottest dance class in town?? How about the hottest Salsa party? Well look no further! Carolina DanceWorks in Southern Pines offers Salsa classes every Monday to help get you ready for our first SalsaFest of the year! You won’t want to miss this party. Ms. Debby’s famous taco bar will be available along with some tasty beverages and sides! And of course- dancing! You do not have to be a student and no membership is required. All our events are open to the public- no partner or experience necessary! So\, grab those dancing shoes and we will see you on the hottest dance floor in Moore County! \nFor additional details and to register\, call 910-725-1846.
URL:https://thepinestimes.com/event/salsa-fest-dance-party/
LOCATION:Carolina DanceWorks\, 712 SW Broad Street\, Southern Pines\, NC\, 28387\, United States
CATEGORIES:Adults,Beer and Wine,Children,Dance,Dance Class,Hobby/Enthusiast,HOMEPAGE Featured,Senior,Social,Southern Pines Events
ATTACH;FMTTYPE=image/jpeg:https://thepinestimes.com/wp-content/uploads/CarolinaDanceWorksFeature.jpg
END:VEVENT
END:VCALENDAR