BEGIN:VCALENDAR
VERSION:2.0
PRODID:-//The Pines Times - ECPv6.15.20//NONSGML v1.0//EN
CALSCALE:GREGORIAN
METHOD:PUBLISH
X-WR-CALNAME:The Pines Times
X-ORIGINAL-URL:https://thepinestimes.com
X-WR-CALDESC:Events for The Pines Times
REFRESH-INTERVAL;VALUE=DURATION:PT1H
X-Robots-Tag:noindex
X-PUBLISHED-TTL:PT1H
BEGIN:VTIMEZONE
TZID:America/New_York
BEGIN:DAYLIGHT
TZOFFSETFROM:-0500
TZOFFSETTO:-0400
TZNAME:EDT
DTSTART:20260308T070000
END:DAYLIGHT
BEGIN:STANDARD
TZOFFSETFROM:-0400
TZOFFSETTO:-0500
TZNAME:EST
DTSTART:20261101T060000
END:STANDARD
BEGIN:DAYLIGHT
TZOFFSETFROM:-0500
TZOFFSETTO:-0400
TZNAME:EDT
DTSTART:20270314T070000
END:DAYLIGHT
BEGIN:STANDARD
TZOFFSETFROM:-0400
TZOFFSETTO:-0500
TZNAME:EST
DTSTART:20271107T060000
END:STANDARD
BEGIN:DAYLIGHT
TZOFFSETFROM:-0500
TZOFFSETTO:-0400
TZNAME:EDT
DTSTART:20280312T070000
END:DAYLIGHT
BEGIN:STANDARD
TZOFFSETFROM:-0400
TZOFFSETTO:-0500
TZNAME:EST
DTSTART:20281105T060000
END:STANDARD
BEGIN:DAYLIGHT
TZOFFSETFROM:-0500
TZOFFSETTO:-0400
TZNAME:EDT
DTSTART:20290311T070000
END:DAYLIGHT
BEGIN:STANDARD
TZOFFSETFROM:-0400
TZOFFSETTO:-0500
TZNAME:EST
DTSTART:20291104T060000
END:STANDARD
END:VTIMEZONE
BEGIN:VEVENT
DTSTART;TZID=America/New_York:20270204T100000
DTEND;TZID=America/New_York:20270204T110000
DTSTAMP:20260421T141429
CREATED:20250923T200332Z
LAST-MODIFIED:20250923T200332Z
UID:10070925-1801735200-1801738800@thepinestimes.com
SUMMARY:Music Therapy for Parkinson's
DESCRIPTION:Improve vocals\, functional movements and practical daily living activities. No Music experience required. Monthly First Thursday. 10-11am. \n \n 
URL:https://thepinestimes.com/event/music-therapy-for-parkinsons-2/2027-02-04/
LOCATION:Clara McLean House\, 20 FirstVillage Dr\, Pinehurst\, NC\, 28374\, United States
CATEGORIES:Brain Change
ATTACH;FMTTYPE=image/png:https://thepinestimes.com/wp-content/uploads/Brain-Change-e1762089418327.png
END:VEVENT
BEGIN:VEVENT
DTSTART;TZID=America/New_York:20270209T080000
DTEND;TZID=America/New_York:20270209T170000
DTSTAMP:20260421T141429
CREATED:20250923T200030Z
LAST-MODIFIED:20250923T200030Z
UID:10070865-1802160000-1802192400@thepinestimes.com
SUMMARY:Parkinson's Support Group of the Sandhills
DESCRIPTION:Providing education\, support and encouragement to patients and families through connection with local resources as well as support group meetings. Monthly: Second Tuesday 10:30am.
URL:https://thepinestimes.com/event/parkinsons-support-group-of-the-sandhills-2/2027-02-09/
LOCATION:Clara McLean House\, 20 FirstVillage Dr\, Pinehurst\, NC\, 28374\, United States
CATEGORIES:Brain Change
ATTACH;FMTTYPE=image/png:https://thepinestimes.com/wp-content/uploads/Brain-Change-e1762089418327.png
END:VEVENT
BEGIN:VEVENT
DTSTART;TZID=America/New_York:20270304T100000
DTEND;TZID=America/New_York:20270304T110000
DTSTAMP:20260421T141429
CREATED:20250923T200332Z
LAST-MODIFIED:20250923T200332Z
UID:10070926-1804154400-1804158000@thepinestimes.com
SUMMARY:Music Therapy for Parkinson's
DESCRIPTION:Improve vocals\, functional movements and practical daily living activities. No Music experience required. Monthly First Thursday. 10-11am. \n \n 
URL:https://thepinestimes.com/event/music-therapy-for-parkinsons-2/2027-03-04/
LOCATION:Clara McLean House\, 20 FirstVillage Dr\, Pinehurst\, NC\, 28374\, United States
CATEGORIES:Brain Change
ATTACH;FMTTYPE=image/png:https://thepinestimes.com/wp-content/uploads/Brain-Change-e1762089418327.png
END:VEVENT
BEGIN:VEVENT
DTSTART;TZID=America/New_York:20270309T080000
DTEND;TZID=America/New_York:20270309T170000
DTSTAMP:20260421T141429
CREATED:20250923T200030Z
LAST-MODIFIED:20250923T200030Z
UID:10070866-1804579200-1804611600@thepinestimes.com
SUMMARY:Parkinson's Support Group of the Sandhills
DESCRIPTION:Providing education\, support and encouragement to patients and families through connection with local resources as well as support group meetings. Monthly: Second Tuesday 10:30am.
URL:https://thepinestimes.com/event/parkinsons-support-group-of-the-sandhills-2/2027-03-09/
LOCATION:Clara McLean House\, 20 FirstVillage Dr\, Pinehurst\, NC\, 28374\, United States
CATEGORIES:Brain Change
ATTACH;FMTTYPE=image/png:https://thepinestimes.com/wp-content/uploads/Brain-Change-e1762089418327.png
END:VEVENT
BEGIN:VEVENT
DTSTART;TZID=America/New_York:20270401T100000
DTEND;TZID=America/New_York:20270401T110000
DTSTAMP:20260421T141429
CREATED:20250923T200332Z
LAST-MODIFIED:20250923T200332Z
UID:10070927-1806573600-1806577200@thepinestimes.com
SUMMARY:Music Therapy for Parkinson's
DESCRIPTION:Improve vocals\, functional movements and practical daily living activities. No Music experience required. Monthly First Thursday. 10-11am. \n \n 
URL:https://thepinestimes.com/event/music-therapy-for-parkinsons-2/2027-04-01/
LOCATION:Clara McLean House\, 20 FirstVillage Dr\, Pinehurst\, NC\, 28374\, United States
CATEGORIES:Brain Change
ATTACH;FMTTYPE=image/png:https://thepinestimes.com/wp-content/uploads/Brain-Change-e1762089418327.png
END:VEVENT
BEGIN:VEVENT
DTSTART;TZID=America/New_York:20270413T080000
DTEND;TZID=America/New_York:20270413T170000
DTSTAMP:20260421T141429
CREATED:20250923T200030Z
LAST-MODIFIED:20250923T200030Z
UID:10070867-1807603200-1807635600@thepinestimes.com
SUMMARY:Parkinson's Support Group of the Sandhills
DESCRIPTION:Providing education\, support and encouragement to patients and families through connection with local resources as well as support group meetings. Monthly: Second Tuesday 10:30am.
URL:https://thepinestimes.com/event/parkinsons-support-group-of-the-sandhills-2/2027-04-13/
LOCATION:Clara McLean House\, 20 FirstVillage Dr\, Pinehurst\, NC\, 28374\, United States
CATEGORIES:Brain Change
ATTACH;FMTTYPE=image/png:https://thepinestimes.com/wp-content/uploads/Brain-Change-e1762089418327.png
END:VEVENT
BEGIN:VEVENT
DTSTART;TZID=America/New_York:20270506T100000
DTEND;TZID=America/New_York:20270506T110000
DTSTAMP:20260421T141429
CREATED:20250923T200332Z
LAST-MODIFIED:20250923T200332Z
UID:10070928-1809597600-1809601200@thepinestimes.com
SUMMARY:Music Therapy for Parkinson's
DESCRIPTION:Improve vocals\, functional movements and practical daily living activities. No Music experience required. Monthly First Thursday. 10-11am. \n \n 
URL:https://thepinestimes.com/event/music-therapy-for-parkinsons-2/2027-05-06/
LOCATION:Clara McLean House\, 20 FirstVillage Dr\, Pinehurst\, NC\, 28374\, United States
CATEGORIES:Brain Change
ATTACH;FMTTYPE=image/png:https://thepinestimes.com/wp-content/uploads/Brain-Change-e1762089418327.png
END:VEVENT
BEGIN:VEVENT
DTSTART;TZID=America/New_York:20270511T080000
DTEND;TZID=America/New_York:20270511T170000
DTSTAMP:20260421T141429
CREATED:20250923T200030Z
LAST-MODIFIED:20250923T200030Z
UID:10070868-1810022400-1810054800@thepinestimes.com
SUMMARY:Parkinson's Support Group of the Sandhills
DESCRIPTION:Providing education\, support and encouragement to patients and families through connection with local resources as well as support group meetings. Monthly: Second Tuesday 10:30am.
URL:https://thepinestimes.com/event/parkinsons-support-group-of-the-sandhills-2/2027-05-11/
LOCATION:Clara McLean House\, 20 FirstVillage Dr\, Pinehurst\, NC\, 28374\, United States
CATEGORIES:Brain Change
ATTACH;FMTTYPE=image/png:https://thepinestimes.com/wp-content/uploads/Brain-Change-e1762089418327.png
END:VEVENT
BEGIN:VEVENT
DTSTART;TZID=America/New_York:20270603T100000
DTEND;TZID=America/New_York:20270603T110000
DTSTAMP:20260421T141429
CREATED:20250923T200332Z
LAST-MODIFIED:20250923T200332Z
UID:10070929-1812016800-1812020400@thepinestimes.com
SUMMARY:Music Therapy for Parkinson's
DESCRIPTION:Improve vocals\, functional movements and practical daily living activities. No Music experience required. Monthly First Thursday. 10-11am. \n \n 
URL:https://thepinestimes.com/event/music-therapy-for-parkinsons-2/2027-06-03/
LOCATION:Clara McLean House\, 20 FirstVillage Dr\, Pinehurst\, NC\, 28374\, United States
CATEGORIES:Brain Change
ATTACH;FMTTYPE=image/png:https://thepinestimes.com/wp-content/uploads/Brain-Change-e1762089418327.png
END:VEVENT
BEGIN:VEVENT
DTSTART;TZID=America/New_York:20270608T080000
DTEND;TZID=America/New_York:20270608T170000
DTSTAMP:20260421T141429
CREATED:20250923T200030Z
LAST-MODIFIED:20250923T200030Z
UID:10070869-1812441600-1812474000@thepinestimes.com
SUMMARY:Parkinson's Support Group of the Sandhills
DESCRIPTION:Providing education\, support and encouragement to patients and families through connection with local resources as well as support group meetings. Monthly: Second Tuesday 10:30am.
URL:https://thepinestimes.com/event/parkinsons-support-group-of-the-sandhills-2/2027-06-08/
LOCATION:Clara McLean House\, 20 FirstVillage Dr\, Pinehurst\, NC\, 28374\, United States
CATEGORIES:Brain Change
ATTACH;FMTTYPE=image/png:https://thepinestimes.com/wp-content/uploads/Brain-Change-e1762089418327.png
END:VEVENT
BEGIN:VEVENT
DTSTART;TZID=America/New_York:20270701T100000
DTEND;TZID=America/New_York:20270701T110000
DTSTAMP:20260421T141429
CREATED:20250923T200332Z
LAST-MODIFIED:20250923T200332Z
UID:10070930-1814436000-1814439600@thepinestimes.com
SUMMARY:Music Therapy for Parkinson's
DESCRIPTION:Improve vocals\, functional movements and practical daily living activities. No Music experience required. Monthly First Thursday. 10-11am. \n \n 
URL:https://thepinestimes.com/event/music-therapy-for-parkinsons-2/2027-07-01/
LOCATION:Clara McLean House\, 20 FirstVillage Dr\, Pinehurst\, NC\, 28374\, United States
CATEGORIES:Brain Change
ATTACH;FMTTYPE=image/png:https://thepinestimes.com/wp-content/uploads/Brain-Change-e1762089418327.png
END:VEVENT
BEGIN:VEVENT
DTSTART;TZID=America/New_York:20270713T080000
DTEND;TZID=America/New_York:20270713T170000
DTSTAMP:20260421T141429
CREATED:20250923T200030Z
LAST-MODIFIED:20250923T200030Z
UID:10070870-1815465600-1815498000@thepinestimes.com
SUMMARY:Parkinson's Support Group of the Sandhills
DESCRIPTION:Providing education\, support and encouragement to patients and families through connection with local resources as well as support group meetings. Monthly: Second Tuesday 10:30am.
URL:https://thepinestimes.com/event/parkinsons-support-group-of-the-sandhills-2/2027-07-13/
LOCATION:Clara McLean House\, 20 FirstVillage Dr\, Pinehurst\, NC\, 28374\, United States
CATEGORIES:Brain Change
ATTACH;FMTTYPE=image/png:https://thepinestimes.com/wp-content/uploads/Brain-Change-e1762089418327.png
END:VEVENT
BEGIN:VEVENT
DTSTART;TZID=America/New_York:20270805T100000
DTEND;TZID=America/New_York:20270805T110000
DTSTAMP:20260421T141429
CREATED:20250923T200332Z
LAST-MODIFIED:20250923T200332Z
UID:10070931-1817460000-1817463600@thepinestimes.com
SUMMARY:Music Therapy for Parkinson's
DESCRIPTION:Improve vocals\, functional movements and practical daily living activities. No Music experience required. Monthly First Thursday. 10-11am. \n \n 
URL:https://thepinestimes.com/event/music-therapy-for-parkinsons-2/2027-08-05/
LOCATION:Clara McLean House\, 20 FirstVillage Dr\, Pinehurst\, NC\, 28374\, United States
CATEGORIES:Brain Change
ATTACH;FMTTYPE=image/png:https://thepinestimes.com/wp-content/uploads/Brain-Change-e1762089418327.png
END:VEVENT
BEGIN:VEVENT
DTSTART;TZID=America/New_York:20270810T080000
DTEND;TZID=America/New_York:20270810T170000
DTSTAMP:20260421T141429
CREATED:20250923T200030Z
LAST-MODIFIED:20250923T200030Z
UID:10070871-1817884800-1817917200@thepinestimes.com
SUMMARY:Parkinson's Support Group of the Sandhills
DESCRIPTION:Providing education\, support and encouragement to patients and families through connection with local resources as well as support group meetings. Monthly: Second Tuesday 10:30am.
URL:https://thepinestimes.com/event/parkinsons-support-group-of-the-sandhills-2/2027-08-10/
LOCATION:Clara McLean House\, 20 FirstVillage Dr\, Pinehurst\, NC\, 28374\, United States
CATEGORIES:Brain Change
ATTACH;FMTTYPE=image/png:https://thepinestimes.com/wp-content/uploads/Brain-Change-e1762089418327.png
END:VEVENT
BEGIN:VEVENT
DTSTART;TZID=America/New_York:20270902T100000
DTEND;TZID=America/New_York:20270902T110000
DTSTAMP:20260421T141429
CREATED:20250923T200332Z
LAST-MODIFIED:20250923T200332Z
UID:10070932-1819879200-1819882800@thepinestimes.com
SUMMARY:Music Therapy for Parkinson's
DESCRIPTION:Improve vocals\, functional movements and practical daily living activities. No Music experience required. Monthly First Thursday. 10-11am. \n \n 
URL:https://thepinestimes.com/event/music-therapy-for-parkinsons-2/2027-09-02/
LOCATION:Clara McLean House\, 20 FirstVillage Dr\, Pinehurst\, NC\, 28374\, United States
CATEGORIES:Brain Change
ATTACH;FMTTYPE=image/png:https://thepinestimes.com/wp-content/uploads/Brain-Change-e1762089418327.png
END:VEVENT
BEGIN:VEVENT
DTSTART;TZID=America/New_York:20270914T080000
DTEND;TZID=America/New_York:20270914T170000
DTSTAMP:20260421T141429
CREATED:20250923T200030Z
LAST-MODIFIED:20250923T200030Z
UID:10070872-1820908800-1820941200@thepinestimes.com
SUMMARY:Parkinson's Support Group of the Sandhills
DESCRIPTION:Providing education\, support and encouragement to patients and families through connection with local resources as well as support group meetings. Monthly: Second Tuesday 10:30am.
URL:https://thepinestimes.com/event/parkinsons-support-group-of-the-sandhills-2/2027-09-14/
LOCATION:Clara McLean House\, 20 FirstVillage Dr\, Pinehurst\, NC\, 28374\, United States
CATEGORIES:Brain Change
ATTACH;FMTTYPE=image/png:https://thepinestimes.com/wp-content/uploads/Brain-Change-e1762089418327.png
END:VEVENT
BEGIN:VEVENT
DTSTART;TZID=America/New_York:20271007T100000
DTEND;TZID=America/New_York:20271007T110000
DTSTAMP:20260421T141429
CREATED:20250923T200332Z
LAST-MODIFIED:20250923T200332Z
UID:10070933-1822903200-1822906800@thepinestimes.com
SUMMARY:Music Therapy for Parkinson's
DESCRIPTION:Improve vocals\, functional movements and practical daily living activities. No Music experience required. Monthly First Thursday. 10-11am. \n \n 
URL:https://thepinestimes.com/event/music-therapy-for-parkinsons-2/2027-10-07/
LOCATION:Clara McLean House\, 20 FirstVillage Dr\, Pinehurst\, NC\, 28374\, United States
CATEGORIES:Brain Change
ATTACH;FMTTYPE=image/png:https://thepinestimes.com/wp-content/uploads/Brain-Change-e1762089418327.png
END:VEVENT
BEGIN:VEVENT
DTSTART;TZID=America/New_York:20271012T080000
DTEND;TZID=America/New_York:20271012T170000
DTSTAMP:20260421T141429
CREATED:20250923T200030Z
LAST-MODIFIED:20250923T200030Z
UID:10070873-1823328000-1823360400@thepinestimes.com
SUMMARY:Parkinson's Support Group of the Sandhills
DESCRIPTION:Providing education\, support and encouragement to patients and families through connection with local resources as well as support group meetings. Monthly: Second Tuesday 10:30am.
URL:https://thepinestimes.com/event/parkinsons-support-group-of-the-sandhills-2/2027-10-12/
LOCATION:Clara McLean House\, 20 FirstVillage Dr\, Pinehurst\, NC\, 28374\, United States
CATEGORIES:Brain Change
ATTACH;FMTTYPE=image/png:https://thepinestimes.com/wp-content/uploads/Brain-Change-e1762089418327.png
END:VEVENT
BEGIN:VEVENT
DTSTART;TZID=America/New_York:20271104T100000
DTEND;TZID=America/New_York:20271104T110000
DTSTAMP:20260421T141429
CREATED:20250923T200332Z
LAST-MODIFIED:20250923T200332Z
UID:10070934-1825322400-1825326000@thepinestimes.com
SUMMARY:Music Therapy for Parkinson's
DESCRIPTION:Improve vocals\, functional movements and practical daily living activities. No Music experience required. Monthly First Thursday. 10-11am. \n \n 
URL:https://thepinestimes.com/event/music-therapy-for-parkinsons-2/2027-11-04/
LOCATION:Clara McLean House\, 20 FirstVillage Dr\, Pinehurst\, NC\, 28374\, United States
CATEGORIES:Brain Change
ATTACH;FMTTYPE=image/png:https://thepinestimes.com/wp-content/uploads/Brain-Change-e1762089418327.png
END:VEVENT
BEGIN:VEVENT
DTSTART;TZID=America/New_York:20271109T080000
DTEND;TZID=America/New_York:20271109T170000
DTSTAMP:20260421T141429
CREATED:20250923T200030Z
LAST-MODIFIED:20250923T200030Z
UID:10070874-1825747200-1825779600@thepinestimes.com
SUMMARY:Parkinson's Support Group of the Sandhills
DESCRIPTION:Providing education\, support and encouragement to patients and families through connection with local resources as well as support group meetings. Monthly: Second Tuesday 10:30am.
URL:https://thepinestimes.com/event/parkinsons-support-group-of-the-sandhills-2/2027-11-09/
LOCATION:Clara McLean House\, 20 FirstVillage Dr\, Pinehurst\, NC\, 28374\, United States
CATEGORIES:Brain Change
ATTACH;FMTTYPE=image/png:https://thepinestimes.com/wp-content/uploads/Brain-Change-e1762089418327.png
END:VEVENT
BEGIN:VEVENT
DTSTART;TZID=America/New_York:20271202T100000
DTEND;TZID=America/New_York:20271202T110000
DTSTAMP:20260421T141429
CREATED:20250923T200332Z
LAST-MODIFIED:20250923T200332Z
UID:10070935-1827741600-1827745200@thepinestimes.com
SUMMARY:Music Therapy for Parkinson's
DESCRIPTION:Improve vocals\, functional movements and practical daily living activities. No Music experience required. Monthly First Thursday. 10-11am. \n \n 
URL:https://thepinestimes.com/event/music-therapy-for-parkinsons-2/2027-12-02/
LOCATION:Clara McLean House\, 20 FirstVillage Dr\, Pinehurst\, NC\, 28374\, United States
CATEGORIES:Brain Change
ATTACH;FMTTYPE=image/png:https://thepinestimes.com/wp-content/uploads/Brain-Change-e1762089418327.png
END:VEVENT
BEGIN:VEVENT
DTSTART;TZID=America/New_York:20271214T080000
DTEND;TZID=America/New_York:20271214T170000
DTSTAMP:20260421T141429
CREATED:20250923T200030Z
LAST-MODIFIED:20250923T200030Z
UID:10070875-1828771200-1828803600@thepinestimes.com
SUMMARY:Parkinson's Support Group of the Sandhills
DESCRIPTION:Providing education\, support and encouragement to patients and families through connection with local resources as well as support group meetings. Monthly: Second Tuesday 10:30am.
URL:https://thepinestimes.com/event/parkinsons-support-group-of-the-sandhills-2/2027-12-14/
LOCATION:Clara McLean House\, 20 FirstVillage Dr\, Pinehurst\, NC\, 28374\, United States
CATEGORIES:Brain Change
ATTACH;FMTTYPE=image/png:https://thepinestimes.com/wp-content/uploads/Brain-Change-e1762089418327.png
END:VEVENT
BEGIN:VEVENT
DTSTART;TZID=America/New_York:20280106T100000
DTEND;TZID=America/New_York:20280106T110000
DTSTAMP:20260421T141429
CREATED:20250923T200332Z
LAST-MODIFIED:20250923T200332Z
UID:10070936-1830765600-1830769200@thepinestimes.com
SUMMARY:Music Therapy for Parkinson's
DESCRIPTION:Improve vocals\, functional movements and practical daily living activities. No Music experience required. Monthly First Thursday. 10-11am. \n \n 
URL:https://thepinestimes.com/event/music-therapy-for-parkinsons-2/2028-01-06/
LOCATION:Clara McLean House\, 20 FirstVillage Dr\, Pinehurst\, NC\, 28374\, United States
CATEGORIES:Brain Change
ATTACH;FMTTYPE=image/png:https://thepinestimes.com/wp-content/uploads/Brain-Change-e1762089418327.png
END:VEVENT
BEGIN:VEVENT
DTSTART;TZID=America/New_York:20280111T080000
DTEND;TZID=America/New_York:20280111T170000
DTSTAMP:20260421T141429
CREATED:20250923T200030Z
LAST-MODIFIED:20250923T200030Z
UID:10070876-1831190400-1831222800@thepinestimes.com
SUMMARY:Parkinson's Support Group of the Sandhills
DESCRIPTION:Providing education\, support and encouragement to patients and families through connection with local resources as well as support group meetings. Monthly: Second Tuesday 10:30am.
URL:https://thepinestimes.com/event/parkinsons-support-group-of-the-sandhills-2/2028-01-11/
LOCATION:Clara McLean House\, 20 FirstVillage Dr\, Pinehurst\, NC\, 28374\, United States
CATEGORIES:Brain Change
ATTACH;FMTTYPE=image/png:https://thepinestimes.com/wp-content/uploads/Brain-Change-e1762089418327.png
END:VEVENT
BEGIN:VEVENT
DTSTART;TZID=America/New_York:20280203T100000
DTEND;TZID=America/New_York:20280203T110000
DTSTAMP:20260421T141429
CREATED:20250923T200332Z
LAST-MODIFIED:20250923T200332Z
UID:10070937-1833184800-1833188400@thepinestimes.com
SUMMARY:Music Therapy for Parkinson's
DESCRIPTION:Improve vocals\, functional movements and practical daily living activities. No Music experience required. Monthly First Thursday. 10-11am. \n \n 
URL:https://thepinestimes.com/event/music-therapy-for-parkinsons-2/2028-02-03/
LOCATION:Clara McLean House\, 20 FirstVillage Dr\, Pinehurst\, NC\, 28374\, United States
CATEGORIES:Brain Change
ATTACH;FMTTYPE=image/png:https://thepinestimes.com/wp-content/uploads/Brain-Change-e1762089418327.png
END:VEVENT
BEGIN:VEVENT
DTSTART;TZID=America/New_York:20280208T080000
DTEND;TZID=America/New_York:20280208T170000
DTSTAMP:20260421T141429
CREATED:20250923T200030Z
LAST-MODIFIED:20250923T200030Z
UID:10070877-1833609600-1833642000@thepinestimes.com
SUMMARY:Parkinson's Support Group of the Sandhills
DESCRIPTION:Providing education\, support and encouragement to patients and families through connection with local resources as well as support group meetings. Monthly: Second Tuesday 10:30am.
URL:https://thepinestimes.com/event/parkinsons-support-group-of-the-sandhills-2/2028-02-08/
LOCATION:Clara McLean House\, 20 FirstVillage Dr\, Pinehurst\, NC\, 28374\, United States
CATEGORIES:Brain Change
ATTACH;FMTTYPE=image/png:https://thepinestimes.com/wp-content/uploads/Brain-Change-e1762089418327.png
END:VEVENT
BEGIN:VEVENT
DTSTART;TZID=America/New_York:20280302T100000
DTEND;TZID=America/New_York:20280302T110000
DTSTAMP:20260421T141429
CREATED:20250923T200332Z
LAST-MODIFIED:20250923T200332Z
UID:10070938-1835604000-1835607600@thepinestimes.com
SUMMARY:Music Therapy for Parkinson's
DESCRIPTION:Improve vocals\, functional movements and practical daily living activities. No Music experience required. Monthly First Thursday. 10-11am. \n \n 
URL:https://thepinestimes.com/event/music-therapy-for-parkinsons-2/2028-03-02/
LOCATION:Clara McLean House\, 20 FirstVillage Dr\, Pinehurst\, NC\, 28374\, United States
CATEGORIES:Brain Change
ATTACH;FMTTYPE=image/png:https://thepinestimes.com/wp-content/uploads/Brain-Change-e1762089418327.png
END:VEVENT
BEGIN:VEVENT
DTSTART;TZID=America/New_York:20280314T080000
DTEND;TZID=America/New_York:20280314T170000
DTSTAMP:20260421T141429
CREATED:20250923T200030Z
LAST-MODIFIED:20250923T200030Z
UID:10070878-1836633600-1836666000@thepinestimes.com
SUMMARY:Parkinson's Support Group of the Sandhills
DESCRIPTION:Providing education\, support and encouragement to patients and families through connection with local resources as well as support group meetings. Monthly: Second Tuesday 10:30am.
URL:https://thepinestimes.com/event/parkinsons-support-group-of-the-sandhills-2/2028-03-14/
LOCATION:Clara McLean House\, 20 FirstVillage Dr\, Pinehurst\, NC\, 28374\, United States
CATEGORIES:Brain Change
ATTACH;FMTTYPE=image/png:https://thepinestimes.com/wp-content/uploads/Brain-Change-e1762089418327.png
END:VEVENT
BEGIN:VEVENT
DTSTART;TZID=America/New_York:20280406T100000
DTEND;TZID=America/New_York:20280406T110000
DTSTAMP:20260421T141429
CREATED:20250923T200332Z
LAST-MODIFIED:20250923T200332Z
UID:10070939-1838628000-1838631600@thepinestimes.com
SUMMARY:Music Therapy for Parkinson's
DESCRIPTION:Improve vocals\, functional movements and practical daily living activities. No Music experience required. Monthly First Thursday. 10-11am. \n \n 
URL:https://thepinestimes.com/event/music-therapy-for-parkinsons-2/2028-04-06/
LOCATION:Clara McLean House\, 20 FirstVillage Dr\, Pinehurst\, NC\, 28374\, United States
CATEGORIES:Brain Change
ATTACH;FMTTYPE=image/png:https://thepinestimes.com/wp-content/uploads/Brain-Change-e1762089418327.png
END:VEVENT
BEGIN:VEVENT
DTSTART;TZID=America/New_York:20280411T080000
DTEND;TZID=America/New_York:20280411T170000
DTSTAMP:20260421T141429
CREATED:20250923T200030Z
LAST-MODIFIED:20250923T200030Z
UID:10070879-1839052800-1839085200@thepinestimes.com
SUMMARY:Parkinson's Support Group of the Sandhills
DESCRIPTION:Providing education\, support and encouragement to patients and families through connection with local resources as well as support group meetings. Monthly: Second Tuesday 10:30am.
URL:https://thepinestimes.com/event/parkinsons-support-group-of-the-sandhills-2/2028-04-11/
LOCATION:Clara McLean House\, 20 FirstVillage Dr\, Pinehurst\, NC\, 28374\, United States
CATEGORIES:Brain Change
ATTACH;FMTTYPE=image/png:https://thepinestimes.com/wp-content/uploads/Brain-Change-e1762089418327.png
END:VEVENT
END:VCALENDAR