BEGIN:VCALENDAR
VERSION:2.0
PRODID:-//The Pines Times - ECPv6.15.20//NONSGML v1.0//EN
CALSCALE:GREGORIAN
METHOD:PUBLISH
X-WR-CALNAME:The Pines Times
X-ORIGINAL-URL:https://thepinestimes.com
X-WR-CALDESC:Events for The Pines Times
REFRESH-INTERVAL;VALUE=DURATION:PT1H
X-Robots-Tag:noindex
X-PUBLISHED-TTL:PT1H
BEGIN:VTIMEZONE
TZID:America/New_York
BEGIN:DAYLIGHT
TZOFFSETFROM:-0500
TZOFFSETTO:-0400
TZNAME:EDT
DTSTART:20250309T070000
END:DAYLIGHT
BEGIN:STANDARD
TZOFFSETFROM:-0400
TZOFFSETTO:-0500
TZNAME:EST
DTSTART:20251102T060000
END:STANDARD
BEGIN:DAYLIGHT
TZOFFSETFROM:-0500
TZOFFSETTO:-0400
TZNAME:EDT
DTSTART:20260308T070000
END:DAYLIGHT
BEGIN:STANDARD
TZOFFSETFROM:-0400
TZOFFSETTO:-0500
TZNAME:EST
DTSTART:20261101T060000
END:STANDARD
BEGIN:DAYLIGHT
TZOFFSETFROM:-0500
TZOFFSETTO:-0400
TZNAME:EDT
DTSTART:20270314T070000
END:DAYLIGHT
BEGIN:STANDARD
TZOFFSETFROM:-0400
TZOFFSETTO:-0500
TZNAME:EST
DTSTART:20271107T060000
END:STANDARD
END:VTIMEZONE
BEGIN:VEVENT
DTSTART;TZID=America/New_York:20260625T190000
DTEND;TZID=America/New_York:20260625T190000
DTSTAMP:20260423T141220
CREATED:20230322T132144Z
LAST-MODIFIED:20260306T161007Z
UID:10082472-1782414000-1782414000@thepinestimes.com
SUMMARY:Thursday Music Bingo
DESCRIPTION:Come out to 715 Bar & Grill for Top Shelf Trivia Music Bingo! The fun takes place each Thursday 7pm-9pm.
URL:https://thepinestimes.com/event/715-bar-grill-music-bingo/2026-06-25/
LOCATION:715 Bar & Grill\, 715 SW Broad St\, Southern Pines\, NC\, 28387\, United States
CATEGORIES:Adult Connections,Adults,Games,Hobby/Enthusiast,Night Life,Pines Connector,Senior,Social,Southern Pines Events
ATTACH;FMTTYPE=image/png:https://thepinestimes.com/wp-content/uploads/Music-Bingo.png
END:VEVENT
BEGIN:VEVENT
DTSTART;TZID=America/New_York:20260701T200000
DTEND;TZID=America/New_York:20260701T230000
DTSTAMP:20260423T141220
CREATED:20230127T133549Z
LAST-MODIFIED:20260306T161134Z
UID:10082515-1782936000-1782946800@thepinestimes.com
SUMMARY:Karaoke Wednesday
DESCRIPTION:Come out for KJ’s Karaoke each Wednesday at 715 Bar & Grill from 8:00pm-11:00pm!
URL:https://thepinestimes.com/event/karaoke-wednesday-2/2026-07-01/
LOCATION:715 Bar & Grill\, 715 SW Broad St\, Southern Pines\, NC\, 28387\, United States
CATEGORIES:Adults,Beer and Wine,Hobby/Enthusiast,Music,Night Life,Pines Connector,Social,Southern Pines Events
ATTACH;FMTTYPE=image/png:https://thepinestimes.com/wp-content/uploads/Karaoke-e1754409547503.png
END:VEVENT
BEGIN:VEVENT
DTSTART;TZID=America/New_York:20260702T190000
DTEND;TZID=America/New_York:20260702T190000
DTSTAMP:20260423T141220
CREATED:20230322T132144Z
LAST-MODIFIED:20260306T161007Z
UID:10082473-1783018800-1783018800@thepinestimes.com
SUMMARY:Thursday Music Bingo
DESCRIPTION:Come out to 715 Bar & Grill for Top Shelf Trivia Music Bingo! The fun takes place each Thursday 7pm-9pm.
URL:https://thepinestimes.com/event/715-bar-grill-music-bingo/2026-07-02/
LOCATION:715 Bar & Grill\, 715 SW Broad St\, Southern Pines\, NC\, 28387\, United States
CATEGORIES:Adult Connections,Adults,Games,Hobby/Enthusiast,Night Life,Pines Connector,Senior,Social,Southern Pines Events
ATTACH;FMTTYPE=image/png:https://thepinestimes.com/wp-content/uploads/Music-Bingo.png
END:VEVENT
BEGIN:VEVENT
DTSTART;TZID=America/New_York:20260708T200000
DTEND;TZID=America/New_York:20260708T230000
DTSTAMP:20260423T141220
CREATED:20230127T133549Z
LAST-MODIFIED:20260306T161134Z
UID:10082516-1783540800-1783551600@thepinestimes.com
SUMMARY:Karaoke Wednesday
DESCRIPTION:Come out for KJ’s Karaoke each Wednesday at 715 Bar & Grill from 8:00pm-11:00pm!
URL:https://thepinestimes.com/event/karaoke-wednesday-2/2026-07-08/
LOCATION:715 Bar & Grill\, 715 SW Broad St\, Southern Pines\, NC\, 28387\, United States
CATEGORIES:Adults,Beer and Wine,Hobby/Enthusiast,Music,Night Life,Pines Connector,Social,Southern Pines Events
ATTACH;FMTTYPE=image/png:https://thepinestimes.com/wp-content/uploads/Karaoke-e1754409547503.png
END:VEVENT
BEGIN:VEVENT
DTSTART;TZID=America/New_York:20260709T190000
DTEND;TZID=America/New_York:20260709T190000
DTSTAMP:20260423T141220
CREATED:20230322T132144Z
LAST-MODIFIED:20260306T161007Z
UID:10082474-1783623600-1783623600@thepinestimes.com
SUMMARY:Thursday Music Bingo
DESCRIPTION:Come out to 715 Bar & Grill for Top Shelf Trivia Music Bingo! The fun takes place each Thursday 7pm-9pm.
URL:https://thepinestimes.com/event/715-bar-grill-music-bingo/2026-07-09/
LOCATION:715 Bar & Grill\, 715 SW Broad St\, Southern Pines\, NC\, 28387\, United States
CATEGORIES:Adult Connections,Adults,Games,Hobby/Enthusiast,Night Life,Pines Connector,Senior,Social,Southern Pines Events
ATTACH;FMTTYPE=image/png:https://thepinestimes.com/wp-content/uploads/Music-Bingo.png
END:VEVENT
BEGIN:VEVENT
DTSTART;TZID=America/New_York:20260715T200000
DTEND;TZID=America/New_York:20260715T230000
DTSTAMP:20260423T141220
CREATED:20230127T133549Z
LAST-MODIFIED:20260306T161134Z
UID:10082517-1784145600-1784156400@thepinestimes.com
SUMMARY:Karaoke Wednesday
DESCRIPTION:Come out for KJ’s Karaoke each Wednesday at 715 Bar & Grill from 8:00pm-11:00pm!
URL:https://thepinestimes.com/event/karaoke-wednesday-2/2026-07-15/
LOCATION:715 Bar & Grill\, 715 SW Broad St\, Southern Pines\, NC\, 28387\, United States
CATEGORIES:Adults,Beer and Wine,Hobby/Enthusiast,Music,Night Life,Pines Connector,Social,Southern Pines Events
ATTACH;FMTTYPE=image/png:https://thepinestimes.com/wp-content/uploads/Karaoke-e1754409547503.png
END:VEVENT
BEGIN:VEVENT
DTSTART;TZID=America/New_York:20260716T190000
DTEND;TZID=America/New_York:20260716T190000
DTSTAMP:20260423T141220
CREATED:20230322T132144Z
LAST-MODIFIED:20260306T161007Z
UID:10082475-1784228400-1784228400@thepinestimes.com
SUMMARY:Thursday Music Bingo
DESCRIPTION:Come out to 715 Bar & Grill for Top Shelf Trivia Music Bingo! The fun takes place each Thursday 7pm-9pm.
URL:https://thepinestimes.com/event/715-bar-grill-music-bingo/2026-07-16/
LOCATION:715 Bar & Grill\, 715 SW Broad St\, Southern Pines\, NC\, 28387\, United States
CATEGORIES:Adult Connections,Adults,Games,Hobby/Enthusiast,Night Life,Pines Connector,Senior,Social,Southern Pines Events
ATTACH;FMTTYPE=image/png:https://thepinestimes.com/wp-content/uploads/Music-Bingo.png
END:VEVENT
BEGIN:VEVENT
DTSTART;TZID=America/New_York:20260722T200000
DTEND;TZID=America/New_York:20260722T230000
DTSTAMP:20260423T141220
CREATED:20230127T133549Z
LAST-MODIFIED:20260306T161134Z
UID:10082518-1784750400-1784761200@thepinestimes.com
SUMMARY:Karaoke Wednesday
DESCRIPTION:Come out for KJ’s Karaoke each Wednesday at 715 Bar & Grill from 8:00pm-11:00pm!
URL:https://thepinestimes.com/event/karaoke-wednesday-2/2026-07-22/
LOCATION:715 Bar & Grill\, 715 SW Broad St\, Southern Pines\, NC\, 28387\, United States
CATEGORIES:Adults,Beer and Wine,Hobby/Enthusiast,Music,Night Life,Pines Connector,Social,Southern Pines Events
ATTACH;FMTTYPE=image/png:https://thepinestimes.com/wp-content/uploads/Karaoke-e1754409547503.png
END:VEVENT
BEGIN:VEVENT
DTSTART;TZID=America/New_York:20260723T190000
DTEND;TZID=America/New_York:20260723T190000
DTSTAMP:20260423T141220
CREATED:20230322T132144Z
LAST-MODIFIED:20260306T161007Z
UID:10082476-1784833200-1784833200@thepinestimes.com
SUMMARY:Thursday Music Bingo
DESCRIPTION:Come out to 715 Bar & Grill for Top Shelf Trivia Music Bingo! The fun takes place each Thursday 7pm-9pm.
URL:https://thepinestimes.com/event/715-bar-grill-music-bingo/2026-07-23/
LOCATION:715 Bar & Grill\, 715 SW Broad St\, Southern Pines\, NC\, 28387\, United States
CATEGORIES:Adult Connections,Adults,Games,Hobby/Enthusiast,Night Life,Pines Connector,Senior,Social,Southern Pines Events
ATTACH;FMTTYPE=image/png:https://thepinestimes.com/wp-content/uploads/Music-Bingo.png
END:VEVENT
BEGIN:VEVENT
DTSTART;TZID=America/New_York:20260729T200000
DTEND;TZID=America/New_York:20260729T230000
DTSTAMP:20260423T141220
CREATED:20230127T133549Z
LAST-MODIFIED:20260306T161134Z
UID:10082519-1785355200-1785366000@thepinestimes.com
SUMMARY:Karaoke Wednesday
DESCRIPTION:Come out for KJ’s Karaoke each Wednesday at 715 Bar & Grill from 8:00pm-11:00pm!
URL:https://thepinestimes.com/event/karaoke-wednesday-2/2026-07-29/
LOCATION:715 Bar & Grill\, 715 SW Broad St\, Southern Pines\, NC\, 28387\, United States
CATEGORIES:Adults,Beer and Wine,Hobby/Enthusiast,Music,Night Life,Pines Connector,Social,Southern Pines Events
ATTACH;FMTTYPE=image/png:https://thepinestimes.com/wp-content/uploads/Karaoke-e1754409547503.png
END:VEVENT
BEGIN:VEVENT
DTSTART;TZID=America/New_York:20260730T190000
DTEND;TZID=America/New_York:20260730T190000
DTSTAMP:20260423T141220
CREATED:20230322T132144Z
LAST-MODIFIED:20260306T161007Z
UID:10082477-1785438000-1785438000@thepinestimes.com
SUMMARY:Thursday Music Bingo
DESCRIPTION:Come out to 715 Bar & Grill for Top Shelf Trivia Music Bingo! The fun takes place each Thursday 7pm-9pm.
URL:https://thepinestimes.com/event/715-bar-grill-music-bingo/2026-07-30/
LOCATION:715 Bar & Grill\, 715 SW Broad St\, Southern Pines\, NC\, 28387\, United States
CATEGORIES:Adult Connections,Adults,Games,Hobby/Enthusiast,Night Life,Pines Connector,Senior,Social,Southern Pines Events
ATTACH;FMTTYPE=image/png:https://thepinestimes.com/wp-content/uploads/Music-Bingo.png
END:VEVENT
BEGIN:VEVENT
DTSTART;TZID=America/New_York:20260801T200000
DTEND;TZID=America/New_York:20260801T230000
DTSTAMP:20260423T141220
CREATED:20250820T133201Z
LAST-MODIFIED:20260407T141011Z
UID:10080951-1785614400-1785625200@thepinestimes.com
SUMMARY:Live Music: Grey Abbey Band-Classic Rock Band
DESCRIPTION:Hey rock & rollers! Come out to 715 Bar & Grill in Southern Pines for live music from Grey Abbey Band! They will be rocking the place down with your favorite Classic Rock from the 60’s to the 90’s! \n \n  \n 
URL:https://thepinestimes.com/event/live-music-grey-abbey-band/2026-08-01/
LOCATION:715 Bar & Grill\, 715 SW Broad St\, Southern Pines\, NC\, 28387\, United States
CATEGORIES:Adult Connections,Adults,Beer and Wine,Hobby/Enthusiast,Live Music,Music,Night Life,Senior,Social,Southern Pines Events
ATTACH;FMTTYPE=image/jpeg:https://thepinestimes.com/wp-content/uploads/LiveMusicFeature.jpg
END:VEVENT
BEGIN:VEVENT
DTSTART;TZID=America/New_York:20260805T200000
DTEND;TZID=America/New_York:20260805T230000
DTSTAMP:20260423T141220
CREATED:20230127T133549Z
LAST-MODIFIED:20260306T161134Z
UID:10082520-1785960000-1785970800@thepinestimes.com
SUMMARY:Karaoke Wednesday
DESCRIPTION:Come out for KJ’s Karaoke each Wednesday at 715 Bar & Grill from 8:00pm-11:00pm!
URL:https://thepinestimes.com/event/karaoke-wednesday-2/2026-08-05/
LOCATION:715 Bar & Grill\, 715 SW Broad St\, Southern Pines\, NC\, 28387\, United States
CATEGORIES:Adults,Beer and Wine,Hobby/Enthusiast,Music,Night Life,Pines Connector,Social,Southern Pines Events
ATTACH;FMTTYPE=image/png:https://thepinestimes.com/wp-content/uploads/Karaoke-e1754409547503.png
END:VEVENT
BEGIN:VEVENT
DTSTART;TZID=America/New_York:20260806T190000
DTEND;TZID=America/New_York:20260806T190000
DTSTAMP:20260423T141220
CREATED:20230322T132144Z
LAST-MODIFIED:20260306T161007Z
UID:10082478-1786042800-1786042800@thepinestimes.com
SUMMARY:Thursday Music Bingo
DESCRIPTION:Come out to 715 Bar & Grill for Top Shelf Trivia Music Bingo! The fun takes place each Thursday 7pm-9pm.
URL:https://thepinestimes.com/event/715-bar-grill-music-bingo/2026-08-06/
LOCATION:715 Bar & Grill\, 715 SW Broad St\, Southern Pines\, NC\, 28387\, United States
CATEGORIES:Adult Connections,Adults,Games,Hobby/Enthusiast,Night Life,Pines Connector,Senior,Social,Southern Pines Events
ATTACH;FMTTYPE=image/png:https://thepinestimes.com/wp-content/uploads/Music-Bingo.png
END:VEVENT
BEGIN:VEVENT
DTSTART;TZID=America/New_York:20260812T200000
DTEND;TZID=America/New_York:20260812T230000
DTSTAMP:20260423T141220
CREATED:20230127T133549Z
LAST-MODIFIED:20260306T161134Z
UID:10082521-1786564800-1786575600@thepinestimes.com
SUMMARY:Karaoke Wednesday
DESCRIPTION:Come out for KJ’s Karaoke each Wednesday at 715 Bar & Grill from 8:00pm-11:00pm!
URL:https://thepinestimes.com/event/karaoke-wednesday-2/2026-08-12/
LOCATION:715 Bar & Grill\, 715 SW Broad St\, Southern Pines\, NC\, 28387\, United States
CATEGORIES:Adults,Beer and Wine,Hobby/Enthusiast,Music,Night Life,Pines Connector,Social,Southern Pines Events
ATTACH;FMTTYPE=image/png:https://thepinestimes.com/wp-content/uploads/Karaoke-e1754409547503.png
END:VEVENT
BEGIN:VEVENT
DTSTART;TZID=America/New_York:20260813T190000
DTEND;TZID=America/New_York:20260813T190000
DTSTAMP:20260423T141220
CREATED:20230322T132144Z
LAST-MODIFIED:20260306T161007Z
UID:10082479-1786647600-1786647600@thepinestimes.com
SUMMARY:Thursday Music Bingo
DESCRIPTION:Come out to 715 Bar & Grill for Top Shelf Trivia Music Bingo! The fun takes place each Thursday 7pm-9pm.
URL:https://thepinestimes.com/event/715-bar-grill-music-bingo/2026-08-13/
LOCATION:715 Bar & Grill\, 715 SW Broad St\, Southern Pines\, NC\, 28387\, United States
CATEGORIES:Adult Connections,Adults,Games,Hobby/Enthusiast,Night Life,Pines Connector,Senior,Social,Southern Pines Events
ATTACH;FMTTYPE=image/png:https://thepinestimes.com/wp-content/uploads/Music-Bingo.png
END:VEVENT
BEGIN:VEVENT
DTSTART;TZID=America/New_York:20260819T200000
DTEND;TZID=America/New_York:20260819T230000
DTSTAMP:20260423T141220
CREATED:20230127T133549Z
LAST-MODIFIED:20260306T161134Z
UID:10082522-1787169600-1787180400@thepinestimes.com
SUMMARY:Karaoke Wednesday
DESCRIPTION:Come out for KJ’s Karaoke each Wednesday at 715 Bar & Grill from 8:00pm-11:00pm!
URL:https://thepinestimes.com/event/karaoke-wednesday-2/2026-08-19/
LOCATION:715 Bar & Grill\, 715 SW Broad St\, Southern Pines\, NC\, 28387\, United States
CATEGORIES:Adults,Beer and Wine,Hobby/Enthusiast,Music,Night Life,Pines Connector,Social,Southern Pines Events
ATTACH;FMTTYPE=image/png:https://thepinestimes.com/wp-content/uploads/Karaoke-e1754409547503.png
END:VEVENT
BEGIN:VEVENT
DTSTART;TZID=America/New_York:20260820T190000
DTEND;TZID=America/New_York:20260820T190000
DTSTAMP:20260423T141220
CREATED:20230322T132144Z
LAST-MODIFIED:20260306T161007Z
UID:10082480-1787252400-1787252400@thepinestimes.com
SUMMARY:Thursday Music Bingo
DESCRIPTION:Come out to 715 Bar & Grill for Top Shelf Trivia Music Bingo! The fun takes place each Thursday 7pm-9pm.
URL:https://thepinestimes.com/event/715-bar-grill-music-bingo/2026-08-20/
LOCATION:715 Bar & Grill\, 715 SW Broad St\, Southern Pines\, NC\, 28387\, United States
CATEGORIES:Adult Connections,Adults,Games,Hobby/Enthusiast,Night Life,Pines Connector,Senior,Social,Southern Pines Events
ATTACH;FMTTYPE=image/png:https://thepinestimes.com/wp-content/uploads/Music-Bingo.png
END:VEVENT
BEGIN:VEVENT
DTSTART;TZID=America/New_York:20260826T200000
DTEND;TZID=America/New_York:20260826T230000
DTSTAMP:20260423T141220
CREATED:20230127T133549Z
LAST-MODIFIED:20260306T161134Z
UID:10082523-1787774400-1787785200@thepinestimes.com
SUMMARY:Karaoke Wednesday
DESCRIPTION:Come out for KJ’s Karaoke each Wednesday at 715 Bar & Grill from 8:00pm-11:00pm!
URL:https://thepinestimes.com/event/karaoke-wednesday-2/2026-08-26/
LOCATION:715 Bar & Grill\, 715 SW Broad St\, Southern Pines\, NC\, 28387\, United States
CATEGORIES:Adults,Beer and Wine,Hobby/Enthusiast,Music,Night Life,Pines Connector,Social,Southern Pines Events
ATTACH;FMTTYPE=image/png:https://thepinestimes.com/wp-content/uploads/Karaoke-e1754409547503.png
END:VEVENT
BEGIN:VEVENT
DTSTART;TZID=America/New_York:20260827T190000
DTEND;TZID=America/New_York:20260827T190000
DTSTAMP:20260423T141220
CREATED:20230322T132144Z
LAST-MODIFIED:20260306T161007Z
UID:10082481-1787857200-1787857200@thepinestimes.com
SUMMARY:Thursday Music Bingo
DESCRIPTION:Come out to 715 Bar & Grill for Top Shelf Trivia Music Bingo! The fun takes place each Thursday 7pm-9pm.
URL:https://thepinestimes.com/event/715-bar-grill-music-bingo/2026-08-27/
LOCATION:715 Bar & Grill\, 715 SW Broad St\, Southern Pines\, NC\, 28387\, United States
CATEGORIES:Adult Connections,Adults,Games,Hobby/Enthusiast,Night Life,Pines Connector,Senior,Social,Southern Pines Events
ATTACH;FMTTYPE=image/png:https://thepinestimes.com/wp-content/uploads/Music-Bingo.png
END:VEVENT
BEGIN:VEVENT
DTSTART;TZID=America/New_York:20260902T200000
DTEND;TZID=America/New_York:20260902T230000
DTSTAMP:20260423T141220
CREATED:20230127T133549Z
LAST-MODIFIED:20260306T161134Z
UID:10082524-1788379200-1788390000@thepinestimes.com
SUMMARY:Karaoke Wednesday
DESCRIPTION:Come out for KJ’s Karaoke each Wednesday at 715 Bar & Grill from 8:00pm-11:00pm!
URL:https://thepinestimes.com/event/karaoke-wednesday-2/2026-09-02/
LOCATION:715 Bar & Grill\, 715 SW Broad St\, Southern Pines\, NC\, 28387\, United States
CATEGORIES:Adults,Beer and Wine,Hobby/Enthusiast,Music,Night Life,Pines Connector,Social,Southern Pines Events
ATTACH;FMTTYPE=image/png:https://thepinestimes.com/wp-content/uploads/Karaoke-e1754409547503.png
END:VEVENT
BEGIN:VEVENT
DTSTART;TZID=America/New_York:20260903T190000
DTEND;TZID=America/New_York:20260903T190000
DTSTAMP:20260423T141220
CREATED:20230322T132144Z
LAST-MODIFIED:20260306T161007Z
UID:10082482-1788462000-1788462000@thepinestimes.com
SUMMARY:Thursday Music Bingo
DESCRIPTION:Come out to 715 Bar & Grill for Top Shelf Trivia Music Bingo! The fun takes place each Thursday 7pm-9pm.
URL:https://thepinestimes.com/event/715-bar-grill-music-bingo/2026-09-03/
LOCATION:715 Bar & Grill\, 715 SW Broad St\, Southern Pines\, NC\, 28387\, United States
CATEGORIES:Adult Connections,Adults,Games,Hobby/Enthusiast,Night Life,Pines Connector,Senior,Social,Southern Pines Events
ATTACH;FMTTYPE=image/png:https://thepinestimes.com/wp-content/uploads/Music-Bingo.png
END:VEVENT
BEGIN:VEVENT
DTSTART;TZID=America/New_York:20260909T200000
DTEND;TZID=America/New_York:20260909T230000
DTSTAMP:20260423T141220
CREATED:20230127T133549Z
LAST-MODIFIED:20260306T161134Z
UID:10082525-1788984000-1788994800@thepinestimes.com
SUMMARY:Karaoke Wednesday
DESCRIPTION:Come out for KJ’s Karaoke each Wednesday at 715 Bar & Grill from 8:00pm-11:00pm!
URL:https://thepinestimes.com/event/karaoke-wednesday-2/2026-09-09/
LOCATION:715 Bar & Grill\, 715 SW Broad St\, Southern Pines\, NC\, 28387\, United States
CATEGORIES:Adults,Beer and Wine,Hobby/Enthusiast,Music,Night Life,Pines Connector,Social,Southern Pines Events
ATTACH;FMTTYPE=image/png:https://thepinestimes.com/wp-content/uploads/Karaoke-e1754409547503.png
END:VEVENT
BEGIN:VEVENT
DTSTART;TZID=America/New_York:20260910T190000
DTEND;TZID=America/New_York:20260910T190000
DTSTAMP:20260423T141220
CREATED:20230322T132144Z
LAST-MODIFIED:20260306T161007Z
UID:10082483-1789066800-1789066800@thepinestimes.com
SUMMARY:Thursday Music Bingo
DESCRIPTION:Come out to 715 Bar & Grill for Top Shelf Trivia Music Bingo! The fun takes place each Thursday 7pm-9pm.
URL:https://thepinestimes.com/event/715-bar-grill-music-bingo/2026-09-10/
LOCATION:715 Bar & Grill\, 715 SW Broad St\, Southern Pines\, NC\, 28387\, United States
CATEGORIES:Adult Connections,Adults,Games,Hobby/Enthusiast,Night Life,Pines Connector,Senior,Social,Southern Pines Events
ATTACH;FMTTYPE=image/png:https://thepinestimes.com/wp-content/uploads/Music-Bingo.png
END:VEVENT
BEGIN:VEVENT
DTSTART;TZID=America/New_York:20260916T200000
DTEND;TZID=America/New_York:20260916T230000
DTSTAMP:20260423T141220
CREATED:20230127T133549Z
LAST-MODIFIED:20260306T161134Z
UID:10082526-1789588800-1789599600@thepinestimes.com
SUMMARY:Karaoke Wednesday
DESCRIPTION:Come out for KJ’s Karaoke each Wednesday at 715 Bar & Grill from 8:00pm-11:00pm!
URL:https://thepinestimes.com/event/karaoke-wednesday-2/2026-09-16/
LOCATION:715 Bar & Grill\, 715 SW Broad St\, Southern Pines\, NC\, 28387\, United States
CATEGORIES:Adults,Beer and Wine,Hobby/Enthusiast,Music,Night Life,Pines Connector,Social,Southern Pines Events
ATTACH;FMTTYPE=image/png:https://thepinestimes.com/wp-content/uploads/Karaoke-e1754409547503.png
END:VEVENT
BEGIN:VEVENT
DTSTART;TZID=America/New_York:20260917T190000
DTEND;TZID=America/New_York:20260917T190000
DTSTAMP:20260423T141220
CREATED:20230322T132144Z
LAST-MODIFIED:20260306T161007Z
UID:10082484-1789671600-1789671600@thepinestimes.com
SUMMARY:Thursday Music Bingo
DESCRIPTION:Come out to 715 Bar & Grill for Top Shelf Trivia Music Bingo! The fun takes place each Thursday 7pm-9pm.
URL:https://thepinestimes.com/event/715-bar-grill-music-bingo/2026-09-17/
LOCATION:715 Bar & Grill\, 715 SW Broad St\, Southern Pines\, NC\, 28387\, United States
CATEGORIES:Adult Connections,Adults,Games,Hobby/Enthusiast,Night Life,Pines Connector,Senior,Social,Southern Pines Events
ATTACH;FMTTYPE=image/png:https://thepinestimes.com/wp-content/uploads/Music-Bingo.png
END:VEVENT
BEGIN:VEVENT
DTSTART;TZID=America/New_York:20260923T200000
DTEND;TZID=America/New_York:20260923T230000
DTSTAMP:20260423T141220
CREATED:20230127T133549Z
LAST-MODIFIED:20260306T161134Z
UID:10082527-1790193600-1790204400@thepinestimes.com
SUMMARY:Karaoke Wednesday
DESCRIPTION:Come out for KJ’s Karaoke each Wednesday at 715 Bar & Grill from 8:00pm-11:00pm!
URL:https://thepinestimes.com/event/karaoke-wednesday-2/2026-09-23/
LOCATION:715 Bar & Grill\, 715 SW Broad St\, Southern Pines\, NC\, 28387\, United States
CATEGORIES:Adults,Beer and Wine,Hobby/Enthusiast,Music,Night Life,Pines Connector,Social,Southern Pines Events
ATTACH;FMTTYPE=image/png:https://thepinestimes.com/wp-content/uploads/Karaoke-e1754409547503.png
END:VEVENT
BEGIN:VEVENT
DTSTART;TZID=America/New_York:20260924T190000
DTEND;TZID=America/New_York:20260924T190000
DTSTAMP:20260423T141220
CREATED:20230322T132144Z
LAST-MODIFIED:20260306T161007Z
UID:10082485-1790276400-1790276400@thepinestimes.com
SUMMARY:Thursday Music Bingo
DESCRIPTION:Come out to 715 Bar & Grill for Top Shelf Trivia Music Bingo! The fun takes place each Thursday 7pm-9pm.
URL:https://thepinestimes.com/event/715-bar-grill-music-bingo/2026-09-24/
LOCATION:715 Bar & Grill\, 715 SW Broad St\, Southern Pines\, NC\, 28387\, United States
CATEGORIES:Adult Connections,Adults,Games,Hobby/Enthusiast,Night Life,Pines Connector,Senior,Social,Southern Pines Events
ATTACH;FMTTYPE=image/png:https://thepinestimes.com/wp-content/uploads/Music-Bingo.png
END:VEVENT
BEGIN:VEVENT
DTSTART;TZID=America/New_York:20260930T200000
DTEND;TZID=America/New_York:20260930T230000
DTSTAMP:20260423T141220
CREATED:20230127T133549Z
LAST-MODIFIED:20260306T161134Z
UID:10082528-1790798400-1790809200@thepinestimes.com
SUMMARY:Karaoke Wednesday
DESCRIPTION:Come out for KJ’s Karaoke each Wednesday at 715 Bar & Grill from 8:00pm-11:00pm!
URL:https://thepinestimes.com/event/karaoke-wednesday-2/2026-09-30/
LOCATION:715 Bar & Grill\, 715 SW Broad St\, Southern Pines\, NC\, 28387\, United States
CATEGORIES:Adults,Beer and Wine,Hobby/Enthusiast,Music,Night Life,Pines Connector,Social,Southern Pines Events
ATTACH;FMTTYPE=image/png:https://thepinestimes.com/wp-content/uploads/Karaoke-e1754409547503.png
END:VEVENT
BEGIN:VEVENT
DTSTART;TZID=America/New_York:20261001T190000
DTEND;TZID=America/New_York:20261001T190000
DTSTAMP:20260423T141220
CREATED:20230322T132144Z
LAST-MODIFIED:20260306T161007Z
UID:10082486-1790881200-1790881200@thepinestimes.com
SUMMARY:Thursday Music Bingo
DESCRIPTION:Come out to 715 Bar & Grill for Top Shelf Trivia Music Bingo! The fun takes place each Thursday 7pm-9pm.
URL:https://thepinestimes.com/event/715-bar-grill-music-bingo/2026-10-01/
LOCATION:715 Bar & Grill\, 715 SW Broad St\, Southern Pines\, NC\, 28387\, United States
CATEGORIES:Adult Connections,Adults,Games,Hobby/Enthusiast,Night Life,Pines Connector,Senior,Social,Southern Pines Events
ATTACH;FMTTYPE=image/png:https://thepinestimes.com/wp-content/uploads/Music-Bingo.png
END:VEVENT
END:VCALENDAR