BEGIN:VCALENDAR
VERSION:2.0
PRODID:-//The Pines Times - ECPv6.15.20//NONSGML v1.0//EN
CALSCALE:GREGORIAN
METHOD:PUBLISH
X-WR-CALNAME:The Pines Times
X-ORIGINAL-URL:https://thepinestimes.com
X-WR-CALDESC:Events for The Pines Times
REFRESH-INTERVAL;VALUE=DURATION:PT1H
X-Robots-Tag:noindex
X-PUBLISHED-TTL:PT1H
BEGIN:VTIMEZONE
TZID:America/New_York
BEGIN:DAYLIGHT
TZOFFSETFROM:-0500
TZOFFSETTO:-0400
TZNAME:EDT
DTSTART:20250309T070000
END:DAYLIGHT
BEGIN:STANDARD
TZOFFSETFROM:-0400
TZOFFSETTO:-0500
TZNAME:EST
DTSTART:20251102T060000
END:STANDARD
BEGIN:DAYLIGHT
TZOFFSETFROM:-0500
TZOFFSETTO:-0400
TZNAME:EDT
DTSTART:20260308T070000
END:DAYLIGHT
BEGIN:STANDARD
TZOFFSETFROM:-0400
TZOFFSETTO:-0500
TZNAME:EST
DTSTART:20261101T060000
END:STANDARD
BEGIN:DAYLIGHT
TZOFFSETFROM:-0500
TZOFFSETTO:-0400
TZNAME:EDT
DTSTART:20270314T070000
END:DAYLIGHT
BEGIN:STANDARD
TZOFFSETFROM:-0400
TZOFFSETTO:-0500
TZNAME:EST
DTSTART:20271107T060000
END:STANDARD
END:VTIMEZONE
BEGIN:VEVENT
DTSTART;TZID=America/New_York:20260424T200000
DTEND;TZID=America/New_York:20260424T235900
DTSTAMP:20260419T192042
CREATED:20240929T185536Z
LAST-MODIFIED:20260109T135948Z
UID:10078139-1777060800-1777075140@thepinestimes.com
SUMMARY:Karaoke and Dance Party
DESCRIPTION:Come out to Time Out Sports Grill in Carthage! Enjoy karaoke\, music and dancing! Must be 21+ after 9:00pm. Hosted by Rick Enright. \n 
URL:https://thepinestimes.com/event/karaoke-and-dance-party/2026-04-24/
LOCATION:Time Out Sports Grill\, 1005 Monroe St.\, Carthage\, NC\, 28327\, United States
CATEGORIES:Adults,Beer and Wine,Carthage Events,Dance,Hobby/Enthusiast,Social
ATTACH;FMTTYPE=image/png:https://thepinestimes.com/wp-content/uploads/Karaoke-e1754409547503.png
ORGANIZER;CN="Time Out Sports Grill":MAILTO:www.TOSG@mail.com
END:VEVENT
BEGIN:VEVENT
DTSTART;TZID=America/New_York:20260501T200000
DTEND;TZID=America/New_York:20260501T235900
DTSTAMP:20260419T192042
CREATED:20240929T185536Z
LAST-MODIFIED:20260109T135948Z
UID:10078141-1777665600-1777679940@thepinestimes.com
SUMMARY:Karaoke and Dance Party
DESCRIPTION:Come out to Time Out Sports Grill in Carthage! Enjoy karaoke\, music and dancing! Must be 21+ after 9:00pm. Hosted by Rick Enright. \n 
URL:https://thepinestimes.com/event/karaoke-and-dance-party/2026-05-01/
LOCATION:Time Out Sports Grill\, 1005 Monroe St.\, Carthage\, NC\, 28327\, United States
CATEGORIES:Adults,Beer and Wine,Carthage Events,Dance,Hobby/Enthusiast,Social
ATTACH;FMTTYPE=image/png:https://thepinestimes.com/wp-content/uploads/Karaoke-e1754409547503.png
ORGANIZER;CN="Time Out Sports Grill":MAILTO:www.TOSG@mail.com
END:VEVENT
BEGIN:VEVENT
DTSTART;TZID=America/New_York:20260508T200000
DTEND;TZID=America/New_York:20260508T235900
DTSTAMP:20260419T192042
CREATED:20240929T185536Z
LAST-MODIFIED:20260109T135948Z
UID:10078143-1778270400-1778284740@thepinestimes.com
SUMMARY:Karaoke and Dance Party
DESCRIPTION:Come out to Time Out Sports Grill in Carthage! Enjoy karaoke\, music and dancing! Must be 21+ after 9:00pm. Hosted by Rick Enright. \n 
URL:https://thepinestimes.com/event/karaoke-and-dance-party/2026-05-08/
LOCATION:Time Out Sports Grill\, 1005 Monroe St.\, Carthage\, NC\, 28327\, United States
CATEGORIES:Adults,Beer and Wine,Carthage Events,Dance,Hobby/Enthusiast,Social
ATTACH;FMTTYPE=image/png:https://thepinestimes.com/wp-content/uploads/Karaoke-e1754409547503.png
ORGANIZER;CN="Time Out Sports Grill":MAILTO:www.TOSG@mail.com
END:VEVENT
BEGIN:VEVENT
DTSTART;TZID=America/New_York:20260515T200000
DTEND;TZID=America/New_York:20260515T235900
DTSTAMP:20260419T192042
CREATED:20240929T185536Z
LAST-MODIFIED:20260109T135948Z
UID:10078145-1778875200-1778889540@thepinestimes.com
SUMMARY:Karaoke and Dance Party
DESCRIPTION:Come out to Time Out Sports Grill in Carthage! Enjoy karaoke\, music and dancing! Must be 21+ after 9:00pm. Hosted by Rick Enright. \n 
URL:https://thepinestimes.com/event/karaoke-and-dance-party/2026-05-15/
LOCATION:Time Out Sports Grill\, 1005 Monroe St.\, Carthage\, NC\, 28327\, United States
CATEGORIES:Adults,Beer and Wine,Carthage Events,Dance,Hobby/Enthusiast,Social
ATTACH;FMTTYPE=image/png:https://thepinestimes.com/wp-content/uploads/Karaoke-e1754409547503.png
ORGANIZER;CN="Time Out Sports Grill":MAILTO:www.TOSG@mail.com
END:VEVENT
BEGIN:VEVENT
DTSTART;TZID=America/New_York:20260522T200000
DTEND;TZID=America/New_York:20260522T235900
DTSTAMP:20260419T192042
CREATED:20240929T185536Z
LAST-MODIFIED:20260109T135948Z
UID:10078147-1779480000-1779494340@thepinestimes.com
SUMMARY:Karaoke and Dance Party
DESCRIPTION:Come out to Time Out Sports Grill in Carthage! Enjoy karaoke\, music and dancing! Must be 21+ after 9:00pm. Hosted by Rick Enright. \n 
URL:https://thepinestimes.com/event/karaoke-and-dance-party/2026-05-22/
LOCATION:Time Out Sports Grill\, 1005 Monroe St.\, Carthage\, NC\, 28327\, United States
CATEGORIES:Adults,Beer and Wine,Carthage Events,Dance,Hobby/Enthusiast,Social
ATTACH;FMTTYPE=image/png:https://thepinestimes.com/wp-content/uploads/Karaoke-e1754409547503.png
ORGANIZER;CN="Time Out Sports Grill":MAILTO:www.TOSG@mail.com
END:VEVENT
BEGIN:VEVENT
DTSTART;TZID=America/New_York:20260529T200000
DTEND;TZID=America/New_York:20260529T235900
DTSTAMP:20260419T192042
CREATED:20240929T185536Z
LAST-MODIFIED:20260109T135948Z
UID:10078149-1780084800-1780099140@thepinestimes.com
SUMMARY:Karaoke and Dance Party
DESCRIPTION:Come out to Time Out Sports Grill in Carthage! Enjoy karaoke\, music and dancing! Must be 21+ after 9:00pm. Hosted by Rick Enright. \n 
URL:https://thepinestimes.com/event/karaoke-and-dance-party/2026-05-29/
LOCATION:Time Out Sports Grill\, 1005 Monroe St.\, Carthage\, NC\, 28327\, United States
CATEGORIES:Adults,Beer and Wine,Carthage Events,Dance,Hobby/Enthusiast,Social
ATTACH;FMTTYPE=image/png:https://thepinestimes.com/wp-content/uploads/Karaoke-e1754409547503.png
ORGANIZER;CN="Time Out Sports Grill":MAILTO:www.TOSG@mail.com
END:VEVENT
BEGIN:VEVENT
DTSTART;TZID=America/New_York:20260605T200000
DTEND;TZID=America/New_York:20260605T235900
DTSTAMP:20260419T192042
CREATED:20240929T185536Z
LAST-MODIFIED:20260109T135948Z
UID:10078151-1780689600-1780703940@thepinestimes.com
SUMMARY:Karaoke and Dance Party
DESCRIPTION:Come out to Time Out Sports Grill in Carthage! Enjoy karaoke\, music and dancing! Must be 21+ after 9:00pm. Hosted by Rick Enright. \n 
URL:https://thepinestimes.com/event/karaoke-and-dance-party/2026-06-05/
LOCATION:Time Out Sports Grill\, 1005 Monroe St.\, Carthage\, NC\, 28327\, United States
CATEGORIES:Adults,Beer and Wine,Carthage Events,Dance,Hobby/Enthusiast,Social
ATTACH;FMTTYPE=image/png:https://thepinestimes.com/wp-content/uploads/Karaoke-e1754409547503.png
ORGANIZER;CN="Time Out Sports Grill":MAILTO:www.TOSG@mail.com
END:VEVENT
BEGIN:VEVENT
DTSTART;TZID=America/New_York:20260612T200000
DTEND;TZID=America/New_York:20260612T235900
DTSTAMP:20260419T192042
CREATED:20240929T185536Z
LAST-MODIFIED:20260109T135948Z
UID:10078153-1781294400-1781308740@thepinestimes.com
SUMMARY:Karaoke and Dance Party
DESCRIPTION:Come out to Time Out Sports Grill in Carthage! Enjoy karaoke\, music and dancing! Must be 21+ after 9:00pm. Hosted by Rick Enright. \n 
URL:https://thepinestimes.com/event/karaoke-and-dance-party/2026-06-12/
LOCATION:Time Out Sports Grill\, 1005 Monroe St.\, Carthage\, NC\, 28327\, United States
CATEGORIES:Adults,Beer and Wine,Carthage Events,Dance,Hobby/Enthusiast,Social
ATTACH;FMTTYPE=image/png:https://thepinestimes.com/wp-content/uploads/Karaoke-e1754409547503.png
ORGANIZER;CN="Time Out Sports Grill":MAILTO:www.TOSG@mail.com
END:VEVENT
BEGIN:VEVENT
DTSTART;TZID=America/New_York:20260619T200000
DTEND;TZID=America/New_York:20260619T235900
DTSTAMP:20260419T192042
CREATED:20240929T185536Z
LAST-MODIFIED:20260109T135948Z
UID:10078155-1781899200-1781913540@thepinestimes.com
SUMMARY:Karaoke and Dance Party
DESCRIPTION:Come out to Time Out Sports Grill in Carthage! Enjoy karaoke\, music and dancing! Must be 21+ after 9:00pm. Hosted by Rick Enright. \n 
URL:https://thepinestimes.com/event/karaoke-and-dance-party/2026-06-19/
LOCATION:Time Out Sports Grill\, 1005 Monroe St.\, Carthage\, NC\, 28327\, United States
CATEGORIES:Adults,Beer and Wine,Carthage Events,Dance,Hobby/Enthusiast,Social
ATTACH;FMTTYPE=image/png:https://thepinestimes.com/wp-content/uploads/Karaoke-e1754409547503.png
ORGANIZER;CN="Time Out Sports Grill":MAILTO:www.TOSG@mail.com
END:VEVENT
BEGIN:VEVENT
DTSTART;TZID=America/New_York:20260626T200000
DTEND;TZID=America/New_York:20260626T235900
DTSTAMP:20260419T192042
CREATED:20240929T185536Z
LAST-MODIFIED:20260109T135948Z
UID:10078157-1782504000-1782518340@thepinestimes.com
SUMMARY:Karaoke and Dance Party
DESCRIPTION:Come out to Time Out Sports Grill in Carthage! Enjoy karaoke\, music and dancing! Must be 21+ after 9:00pm. Hosted by Rick Enright. \n 
URL:https://thepinestimes.com/event/karaoke-and-dance-party/2026-06-26/
LOCATION:Time Out Sports Grill\, 1005 Monroe St.\, Carthage\, NC\, 28327\, United States
CATEGORIES:Adults,Beer and Wine,Carthage Events,Dance,Hobby/Enthusiast,Social
ATTACH;FMTTYPE=image/png:https://thepinestimes.com/wp-content/uploads/Karaoke-e1754409547503.png
ORGANIZER;CN="Time Out Sports Grill":MAILTO:www.TOSG@mail.com
END:VEVENT
END:VCALENDAR