BEGIN:VCALENDAR
VERSION:2.0
PRODID:-//The Pines Times - ECPv6.15.20//NONSGML v1.0//EN
CALSCALE:GREGORIAN
METHOD:PUBLISH
X-ORIGINAL-URL:https://thepinestimes.com
X-WR-CALDESC:Events for The Pines Times
REFRESH-INTERVAL;VALUE=DURATION:PT1H
X-Robots-Tag:noindex
X-PUBLISHED-TTL:PT1H
BEGIN:VTIMEZONE
TZID:America/New_York
BEGIN:DAYLIGHT
TZOFFSETFROM:-0500
TZOFFSETTO:-0400
TZNAME:EDT
DTSTART:20250309T070000
END:DAYLIGHT
BEGIN:STANDARD
TZOFFSETFROM:-0400
TZOFFSETTO:-0500
TZNAME:EST
DTSTART:20251102T060000
END:STANDARD
BEGIN:DAYLIGHT
TZOFFSETFROM:-0500
TZOFFSETTO:-0400
TZNAME:EDT
DTSTART:20260308T070000
END:DAYLIGHT
BEGIN:STANDARD
TZOFFSETFROM:-0400
TZOFFSETTO:-0500
TZNAME:EST
DTSTART:20261101T060000
END:STANDARD
BEGIN:DAYLIGHT
TZOFFSETFROM:-0500
TZOFFSETTO:-0400
TZNAME:EDT
DTSTART:20270314T070000
END:DAYLIGHT
BEGIN:STANDARD
TZOFFSETFROM:-0400
TZOFFSETTO:-0500
TZNAME:EST
DTSTART:20271107T060000
END:STANDARD
END:VTIMEZONE
BEGIN:VEVENT
DTSTART;TZID=America/New_York:20260318T183000
DTEND;TZID=America/New_York:20260318T203000
DTSTAMP:20260422T222727
CREATED:20260311T204053Z
LAST-MODIFIED:20260311T204119Z
UID:10083328-1773858600-1773865800@thepinestimes.com
SUMMARY:DIY Wednesday: Paint Your Own Flower Pot
DESCRIPTION:Get Creative at the Rec Room with DIY Wednesday! Join on Wednesday\, March 18th at 6:30PM for a special DIY night hosted by 9th of September Paint Your Own Pottery Studio. For this session\, you’ll be painting your very own flower pot—just in time for spring planting! Spaces for this event are limited and tend to fill up fast! Be sure to call 910-420-2052 today to secure your spot or to ask any questions.
URL:https://thepinestimes.com/event/diy-wednesday-paint-your-own-flower-pot/
LOCATION:Rec Room Bar + Arcade\, 750 SW Broad St\, Southern Pines\, NC\, 28387\, United States
CATEGORIES:Adults,Art/Craft Workshops,Art/Photography,Arts,Hobby/Enthusiast,Pop Ups,Social,Southern Pines Events
ATTACH;FMTTYPE=image/jpeg:https://thepinestimes.com/wp-content/uploads/ArtCraftWorkshopFeature.jpg
END:VEVENT
END:VCALENDAR