BEGIN:VCALENDAR
VERSION:2.0
PRODID:-//The Pines Times - ECPv6.15.20//NONSGML v1.0//EN
CALSCALE:GREGORIAN
METHOD:PUBLISH
X-ORIGINAL-URL:https://thepinestimes.com
X-WR-CALDESC:Events for The Pines Times
REFRESH-INTERVAL;VALUE=DURATION:PT1H
X-Robots-Tag:noindex
X-PUBLISHED-TTL:PT1H
BEGIN:VTIMEZONE
TZID:America/New_York
BEGIN:DAYLIGHT
TZOFFSETFROM:-0500
TZOFFSETTO:-0400
TZNAME:EDT
DTSTART:20250309T070000
END:DAYLIGHT
BEGIN:STANDARD
TZOFFSETFROM:-0400
TZOFFSETTO:-0500
TZNAME:EST
DTSTART:20251102T060000
END:STANDARD
BEGIN:DAYLIGHT
TZOFFSETFROM:-0500
TZOFFSETTO:-0400
TZNAME:EDT
DTSTART:20260308T070000
END:DAYLIGHT
BEGIN:STANDARD
TZOFFSETFROM:-0400
TZOFFSETTO:-0500
TZNAME:EST
DTSTART:20261101T060000
END:STANDARD
BEGIN:DAYLIGHT
TZOFFSETFROM:-0500
TZOFFSETTO:-0400
TZNAME:EDT
DTSTART:20270314T070000
END:DAYLIGHT
BEGIN:STANDARD
TZOFFSETFROM:-0400
TZOFFSETTO:-0500
TZNAME:EST
DTSTART:20271107T060000
END:STANDARD
END:VTIMEZONE
BEGIN:VEVENT
DTSTART;TZID=America/New_York:20260703T130000
DTEND;TZID=America/New_York:20260703T150000
DTSTAMP:20260421T183604
CREATED:20250517T153126Z
LAST-MODIFIED:20260320T122858Z
UID:10083586-1783083600-1783090800@thepinestimes.com
SUMMARY:Aberdeen Carolina & Western Railway Shop Tours
DESCRIPTION:Aberdeen Carolina & Western Railway Shop Tours take place on the first Friday of each month at 1:00pm! Guests will enjoy a behind-the-scenes look at some of our rail equipment. Tours are two hours long. The cost is $25. For additional information and registration\, follow the event website link provided below.
URL:https://thepinestimes.com/event/aberdeen-carolina-western-railway-shop-tours/2026-07-03/
LOCATION:Aberdeen Carolina & Western Railway Company\, 967 NC Highway 211 E\, Candor\, NC\, 27229\, United States
CATEGORIES:ACW Railway,Adults,Candor,Educational,Family,Hobby/Enthusiast,Live Entertainment,Out of Town,Senior,Social,Tours
ATTACH;FMTTYPE=image/jpeg:https://thepinestimes.com/wp-content/uploads/AberdeenCarolinaWesternRailwayFeature.jpg
END:VEVENT
BEGIN:VEVENT
DTSTART;TZID=America/New_York:20260718T090000
DTEND;TZID=America/New_York:20260718T130000
DTSTAMP:20260421T183604
CREATED:20260324T142558Z
LAST-MODIFIED:20260327T161345Z
UID:10083778-1784365200-1784379600@thepinestimes.com
SUMMARY:ACWR: Christmas In July
DESCRIPTION:Hop on with Aberdeen Carolina & Western Railway for Christmas in July on Saturday\, July 18th! Beat the Heat with the Grinch! Join Santa for holiday storytelling\, play reindeer games\, and enjoy cold treats — a fun summer twist on the holidays! \nEnjoy a train ride and activities with Santa & Friends\, food\, story and games! \nWhat’s included: Train Ride\, Christmas Treat\, Santa Visits\, Reindeer Games \nThe train departs from 140 South Sycamore Street in Aberdeen. Tickets are $30. For full details and to secure your tickets\, CLICK HERE.
URL:https://thepinestimes.com/event/acwr-christmas-in-july/
LOCATION:Aberdeen Carolina & Western Railway-Aberdeen\, 140 South Sycamore Street\, Aberdeen\, 28315\, United States
CATEGORIES:Aberdeen Events,ACW Railway,Children,Christmas in July,Family,Food,Games,Holiday Events,HOMEPAGE Featured,Music,Piney's Kids,Piney's Tiny's,Social,Teen Activities,Tours
ATTACH;FMTTYPE=image/jpeg:https://thepinestimes.com/wp-content/uploads/AberdeenCarolinaWesternRailwayFeature.jpg
END:VEVENT
BEGIN:VEVENT
DTSTART;TZID=America/New_York:20260723T180000
DTEND;TZID=America/New_York:20260723T203000
DTSTAMP:20260421T183604
CREATED:20260319T230027Z
LAST-MODIFIED:20260329T141658Z
UID:10083612-1784829600-1784838600@thepinestimes.com
SUMMARY:ACWR: A Journey In Time-An Enchanting Evening on the Rails
DESCRIPTION:Step back in time and immerse yourself in a memorable classic train social experience as you embark on a journey through the sandhills aboard our passenger coaches. Indulge in cocktails and a savory meal while mingling with fellow travelers and enjoying an enchanting evening on the rails. Bring your own group or join others at a shared table for an opportunity to connect with new people. Duration-2.5 hours \nThe cost is $150. What’s included:\n*Enjoy a 2.5-hour train ride through the Sandhills\n*Savor a delicious three-course meal\n*Additional alcoholic and non-alcoholic beverages available for purchase\n*Boarding begins 30 minutes prior to departure\n*Resort Casual\n*Cash tips are appreciated but never expected\n*We recommend bringing a light sweater or jacket. \nItinerary\nBegin your evening with amuse-bouche and cocktails in our panoramic full-length dome railcar as you await to be escorted to your table for dinner. \nFor full details and to secure your tickets\, CLICK HERE.
URL:https://thepinestimes.com/event/acwr-a-journey-in-time-an-enchanting-evening-on-the-rails/2026-07-23/
LOCATION:Downtown Aberdeen Greenspace\, 140 S Sycamore St.\, Aberdeen\, 28315\, United States
CATEGORIES:Aberdeen Events,ACW Railway,Adult Connections,Adults,Historical,Hobby/Enthusiast,Holiday Events,Men,Moore County Events,Tours,Women
ATTACH;FMTTYPE=image/jpeg:https://thepinestimes.com/wp-content/uploads/ACWR-F-Unit.jpg
END:VEVENT
BEGIN:VEVENT
DTSTART;TZID=America/New_York:20260724T180000
DTEND;TZID=America/New_York:20260724T203000
DTSTAMP:20260421T183604
CREATED:20260319T230027Z
LAST-MODIFIED:20260329T141658Z
UID:10083613-1784916000-1784925000@thepinestimes.com
SUMMARY:ACWR: A Journey In Time-An Enchanting Evening on the Rails
DESCRIPTION:Step back in time and immerse yourself in a memorable classic train social experience as you embark on a journey through the sandhills aboard our passenger coaches. Indulge in cocktails and a savory meal while mingling with fellow travelers and enjoying an enchanting evening on the rails. Bring your own group or join others at a shared table for an opportunity to connect with new people. Duration-2.5 hours \nThe cost is $150. What’s included:\n*Enjoy a 2.5-hour train ride through the Sandhills\n*Savor a delicious three-course meal\n*Additional alcoholic and non-alcoholic beverages available for purchase\n*Boarding begins 30 minutes prior to departure\n*Resort Casual\n*Cash tips are appreciated but never expected\n*We recommend bringing a light sweater or jacket. \nItinerary\nBegin your evening with amuse-bouche and cocktails in our panoramic full-length dome railcar as you await to be escorted to your table for dinner. \nFor full details and to secure your tickets\, CLICK HERE.
URL:https://thepinestimes.com/event/acwr-a-journey-in-time-an-enchanting-evening-on-the-rails/2026-07-24/
LOCATION:Downtown Aberdeen Greenspace\, 140 S Sycamore St.\, Aberdeen\, 28315\, United States
CATEGORIES:Aberdeen Events,ACW Railway,Adult Connections,Adults,Historical,Hobby/Enthusiast,Holiday Events,Men,Moore County Events,Tours,Women
ATTACH;FMTTYPE=image/jpeg:https://thepinestimes.com/wp-content/uploads/ACWR-F-Unit.jpg
END:VEVENT
BEGIN:VEVENT
DTSTART;TZID=America/New_York:20260725T180000
DTEND;TZID=America/New_York:20260725T203000
DTSTAMP:20260421T183604
CREATED:20260319T230027Z
LAST-MODIFIED:20260329T141658Z
UID:10083614-1785002400-1785011400@thepinestimes.com
SUMMARY:ACWR: A Journey In Time-An Enchanting Evening on the Rails
DESCRIPTION:Step back in time and immerse yourself in a memorable classic train social experience as you embark on a journey through the sandhills aboard our passenger coaches. Indulge in cocktails and a savory meal while mingling with fellow travelers and enjoying an enchanting evening on the rails. Bring your own group or join others at a shared table for an opportunity to connect with new people. Duration-2.5 hours \nThe cost is $150. What’s included:\n*Enjoy a 2.5-hour train ride through the Sandhills\n*Savor a delicious three-course meal\n*Additional alcoholic and non-alcoholic beverages available for purchase\n*Boarding begins 30 minutes prior to departure\n*Resort Casual\n*Cash tips are appreciated but never expected\n*We recommend bringing a light sweater or jacket. \nItinerary\nBegin your evening with amuse-bouche and cocktails in our panoramic full-length dome railcar as you await to be escorted to your table for dinner. \nFor full details and to secure your tickets\, CLICK HERE.
URL:https://thepinestimes.com/event/acwr-a-journey-in-time-an-enchanting-evening-on-the-rails/2026-07-25/
LOCATION:Downtown Aberdeen Greenspace\, 140 S Sycamore St.\, Aberdeen\, 28315\, United States
CATEGORIES:Aberdeen Events,ACW Railway,Adult Connections,Adults,Historical,Hobby/Enthusiast,Holiday Events,Men,Moore County Events,Tours,Women
ATTACH;FMTTYPE=image/jpeg:https://thepinestimes.com/wp-content/uploads/ACWR-F-Unit.jpg
END:VEVENT
BEGIN:VEVENT
DTSTART;TZID=America/New_York:20260807T130000
DTEND;TZID=America/New_York:20260807T150000
DTSTAMP:20260421T183604
CREATED:20250517T153126Z
LAST-MODIFIED:20260320T122858Z
UID:10083587-1786107600-1786114800@thepinestimes.com
SUMMARY:Aberdeen Carolina & Western Railway Shop Tours
DESCRIPTION:Aberdeen Carolina & Western Railway Shop Tours take place on the first Friday of each month at 1:00pm! Guests will enjoy a behind-the-scenes look at some of our rail equipment. Tours are two hours long. The cost is $25. For additional information and registration\, follow the event website link provided below.
URL:https://thepinestimes.com/event/aberdeen-carolina-western-railway-shop-tours/2026-08-07/
LOCATION:Aberdeen Carolina & Western Railway Company\, 967 NC Highway 211 E\, Candor\, NC\, 27229\, United States
CATEGORIES:ACW Railway,Adults,Candor,Educational,Family,Hobby/Enthusiast,Live Entertainment,Out of Town,Senior,Social,Tours
ATTACH;FMTTYPE=image/jpeg:https://thepinestimes.com/wp-content/uploads/AberdeenCarolinaWesternRailwayFeature.jpg
END:VEVENT
BEGIN:VEVENT
DTSTART;TZID=America/New_York:20260828T180000
DTEND;TZID=America/New_York:20260828T203000
DTSTAMP:20260421T183604
CREATED:20260319T230027Z
LAST-MODIFIED:20260329T141658Z
UID:10083615-1787940000-1787949000@thepinestimes.com
SUMMARY:ACWR: A Journey In Time-An Enchanting Evening on the Rails
DESCRIPTION:Step back in time and immerse yourself in a memorable classic train social experience as you embark on a journey through the sandhills aboard our passenger coaches. Indulge in cocktails and a savory meal while mingling with fellow travelers and enjoying an enchanting evening on the rails. Bring your own group or join others at a shared table for an opportunity to connect with new people. Duration-2.5 hours \nThe cost is $150. What’s included:\n*Enjoy a 2.5-hour train ride through the Sandhills\n*Savor a delicious three-course meal\n*Additional alcoholic and non-alcoholic beverages available for purchase\n*Boarding begins 30 minutes prior to departure\n*Resort Casual\n*Cash tips are appreciated but never expected\n*We recommend bringing a light sweater or jacket. \nItinerary\nBegin your evening with amuse-bouche and cocktails in our panoramic full-length dome railcar as you await to be escorted to your table for dinner. \nFor full details and to secure your tickets\, CLICK HERE.
URL:https://thepinestimes.com/event/acwr-a-journey-in-time-an-enchanting-evening-on-the-rails/2026-08-28/
LOCATION:Downtown Aberdeen Greenspace\, 140 S Sycamore St.\, Aberdeen\, 28315\, United States
CATEGORIES:Aberdeen Events,ACW Railway,Adult Connections,Adults,Historical,Hobby/Enthusiast,Holiday Events,Men,Moore County Events,Tours,Women
ATTACH;FMTTYPE=image/jpeg:https://thepinestimes.com/wp-content/uploads/ACWR-F-Unit.jpg
END:VEVENT
BEGIN:VEVENT
DTSTART;TZID=America/New_York:20260829T180000
DTEND;TZID=America/New_York:20260829T203000
DTSTAMP:20260421T183604
CREATED:20260319T230027Z
LAST-MODIFIED:20260329T141658Z
UID:10083616-1788026400-1788035400@thepinestimes.com
SUMMARY:ACWR: A Journey In Time-An Enchanting Evening on the Rails
DESCRIPTION:Step back in time and immerse yourself in a memorable classic train social experience as you embark on a journey through the sandhills aboard our passenger coaches. Indulge in cocktails and a savory meal while mingling with fellow travelers and enjoying an enchanting evening on the rails. Bring your own group or join others at a shared table for an opportunity to connect with new people. Duration-2.5 hours \nThe cost is $150. What’s included:\n*Enjoy a 2.5-hour train ride through the Sandhills\n*Savor a delicious three-course meal\n*Additional alcoholic and non-alcoholic beverages available for purchase\n*Boarding begins 30 minutes prior to departure\n*Resort Casual\n*Cash tips are appreciated but never expected\n*We recommend bringing a light sweater or jacket. \nItinerary\nBegin your evening with amuse-bouche and cocktails in our panoramic full-length dome railcar as you await to be escorted to your table for dinner. \nFor full details and to secure your tickets\, CLICK HERE.
URL:https://thepinestimes.com/event/acwr-a-journey-in-time-an-enchanting-evening-on-the-rails/2026-08-29/
LOCATION:Downtown Aberdeen Greenspace\, 140 S Sycamore St.\, Aberdeen\, 28315\, United States
CATEGORIES:Aberdeen Events,ACW Railway,Adult Connections,Adults,Historical,Hobby/Enthusiast,Holiday Events,Men,Moore County Events,Tours,Women
ATTACH;FMTTYPE=image/jpeg:https://thepinestimes.com/wp-content/uploads/ACWR-F-Unit.jpg
END:VEVENT
BEGIN:VEVENT
DTSTART;TZID=America/New_York:20260830T180000
DTEND;TZID=America/New_York:20260830T203000
DTSTAMP:20260421T183604
CREATED:20260319T230027Z
LAST-MODIFIED:20260329T141658Z
UID:10083617-1788112800-1788121800@thepinestimes.com
SUMMARY:ACWR: A Journey In Time-An Enchanting Evening on the Rails
DESCRIPTION:Step back in time and immerse yourself in a memorable classic train social experience as you embark on a journey through the sandhills aboard our passenger coaches. Indulge in cocktails and a savory meal while mingling with fellow travelers and enjoying an enchanting evening on the rails. Bring your own group or join others at a shared table for an opportunity to connect with new people. Duration-2.5 hours \nThe cost is $150. What’s included:\n*Enjoy a 2.5-hour train ride through the Sandhills\n*Savor a delicious three-course meal\n*Additional alcoholic and non-alcoholic beverages available for purchase\n*Boarding begins 30 minutes prior to departure\n*Resort Casual\n*Cash tips are appreciated but never expected\n*We recommend bringing a light sweater or jacket. \nItinerary\nBegin your evening with amuse-bouche and cocktails in our panoramic full-length dome railcar as you await to be escorted to your table for dinner. \nFor full details and to secure your tickets\, CLICK HERE.
URL:https://thepinestimes.com/event/acwr-a-journey-in-time-an-enchanting-evening-on-the-rails/2026-08-30/
LOCATION:Downtown Aberdeen Greenspace\, 140 S Sycamore St.\, Aberdeen\, 28315\, United States
CATEGORIES:Aberdeen Events,ACW Railway,Adult Connections,Adults,Historical,Hobby/Enthusiast,Holiday Events,Men,Moore County Events,Tours,Women
ATTACH;FMTTYPE=image/jpeg:https://thepinestimes.com/wp-content/uploads/ACWR-F-Unit.jpg
END:VEVENT
BEGIN:VEVENT
DTSTART;TZID=America/New_York:20260904T130000
DTEND;TZID=America/New_York:20260904T150000
DTSTAMP:20260421T183604
CREATED:20250517T153126Z
LAST-MODIFIED:20260320T122858Z
UID:10083588-1788526800-1788534000@thepinestimes.com
SUMMARY:Aberdeen Carolina & Western Railway Shop Tours
DESCRIPTION:Aberdeen Carolina & Western Railway Shop Tours take place on the first Friday of each month at 1:00pm! Guests will enjoy a behind-the-scenes look at some of our rail equipment. Tours are two hours long. The cost is $25. For additional information and registration\, follow the event website link provided below.
URL:https://thepinestimes.com/event/aberdeen-carolina-western-railway-shop-tours/2026-09-04/
LOCATION:Aberdeen Carolina & Western Railway Company\, 967 NC Highway 211 E\, Candor\, NC\, 27229\, United States
CATEGORIES:ACW Railway,Adults,Candor,Educational,Family,Hobby/Enthusiast,Live Entertainment,Out of Town,Senior,Social,Tours
ATTACH;FMTTYPE=image/jpeg:https://thepinestimes.com/wp-content/uploads/AberdeenCarolinaWesternRailwayFeature.jpg
END:VEVENT
BEGIN:VEVENT
DTSTART;TZID=America/New_York:20260924T180000
DTEND;TZID=America/New_York:20260924T203000
DTSTAMP:20260421T183604
CREATED:20260319T230027Z
LAST-MODIFIED:20260329T141658Z
UID:10083618-1790272800-1790281800@thepinestimes.com
SUMMARY:ACWR: A Journey In Time-An Enchanting Evening on the Rails
DESCRIPTION:Step back in time and immerse yourself in a memorable classic train social experience as you embark on a journey through the sandhills aboard our passenger coaches. Indulge in cocktails and a savory meal while mingling with fellow travelers and enjoying an enchanting evening on the rails. Bring your own group or join others at a shared table for an opportunity to connect with new people. Duration-2.5 hours \nThe cost is $150. What’s included:\n*Enjoy a 2.5-hour train ride through the Sandhills\n*Savor a delicious three-course meal\n*Additional alcoholic and non-alcoholic beverages available for purchase\n*Boarding begins 30 minutes prior to departure\n*Resort Casual\n*Cash tips are appreciated but never expected\n*We recommend bringing a light sweater or jacket. \nItinerary\nBegin your evening with amuse-bouche and cocktails in our panoramic full-length dome railcar as you await to be escorted to your table for dinner. \nFor full details and to secure your tickets\, CLICK HERE.
URL:https://thepinestimes.com/event/acwr-a-journey-in-time-an-enchanting-evening-on-the-rails/2026-09-24/
LOCATION:Downtown Aberdeen Greenspace\, 140 S Sycamore St.\, Aberdeen\, 28315\, United States
CATEGORIES:Aberdeen Events,ACW Railway,Adult Connections,Adults,Historical,Hobby/Enthusiast,Holiday Events,Men,Moore County Events,Tours,Women
ATTACH;FMTTYPE=image/jpeg:https://thepinestimes.com/wp-content/uploads/ACWR-F-Unit.jpg
END:VEVENT
BEGIN:VEVENT
DTSTART;TZID=America/New_York:20260925T180000
DTEND;TZID=America/New_York:20260925T203000
DTSTAMP:20260421T183604
CREATED:20260319T230027Z
LAST-MODIFIED:20260329T141658Z
UID:10083619-1790359200-1790368200@thepinestimes.com
SUMMARY:ACWR: A Journey In Time-An Enchanting Evening on the Rails
DESCRIPTION:Step back in time and immerse yourself in a memorable classic train social experience as you embark on a journey through the sandhills aboard our passenger coaches. Indulge in cocktails and a savory meal while mingling with fellow travelers and enjoying an enchanting evening on the rails. Bring your own group or join others at a shared table for an opportunity to connect with new people. Duration-2.5 hours \nThe cost is $150. What’s included:\n*Enjoy a 2.5-hour train ride through the Sandhills\n*Savor a delicious three-course meal\n*Additional alcoholic and non-alcoholic beverages available for purchase\n*Boarding begins 30 minutes prior to departure\n*Resort Casual\n*Cash tips are appreciated but never expected\n*We recommend bringing a light sweater or jacket. \nItinerary\nBegin your evening with amuse-bouche and cocktails in our panoramic full-length dome railcar as you await to be escorted to your table for dinner. \nFor full details and to secure your tickets\, CLICK HERE.
URL:https://thepinestimes.com/event/acwr-a-journey-in-time-an-enchanting-evening-on-the-rails/2026-09-25/
LOCATION:Downtown Aberdeen Greenspace\, 140 S Sycamore St.\, Aberdeen\, 28315\, United States
CATEGORIES:Aberdeen Events,ACW Railway,Adult Connections,Adults,Historical,Hobby/Enthusiast,Holiday Events,Men,Moore County Events,Tours,Women
ATTACH;FMTTYPE=image/jpeg:https://thepinestimes.com/wp-content/uploads/ACWR-F-Unit.jpg
END:VEVENT
BEGIN:VEVENT
DTSTART;TZID=America/New_York:20260926T180000
DTEND;TZID=America/New_York:20260926T203000
DTSTAMP:20260421T183604
CREATED:20260319T230027Z
LAST-MODIFIED:20260329T141658Z
UID:10083620-1790445600-1790454600@thepinestimes.com
SUMMARY:ACWR: A Journey In Time-An Enchanting Evening on the Rails
DESCRIPTION:Step back in time and immerse yourself in a memorable classic train social experience as you embark on a journey through the sandhills aboard our passenger coaches. Indulge in cocktails and a savory meal while mingling with fellow travelers and enjoying an enchanting evening on the rails. Bring your own group or join others at a shared table for an opportunity to connect with new people. Duration-2.5 hours \nThe cost is $150. What’s included:\n*Enjoy a 2.5-hour train ride through the Sandhills\n*Savor a delicious three-course meal\n*Additional alcoholic and non-alcoholic beverages available for purchase\n*Boarding begins 30 minutes prior to departure\n*Resort Casual\n*Cash tips are appreciated but never expected\n*We recommend bringing a light sweater or jacket. \nItinerary\nBegin your evening with amuse-bouche and cocktails in our panoramic full-length dome railcar as you await to be escorted to your table for dinner. \nFor full details and to secure your tickets\, CLICK HERE.
URL:https://thepinestimes.com/event/acwr-a-journey-in-time-an-enchanting-evening-on-the-rails/2026-09-26/
LOCATION:Downtown Aberdeen Greenspace\, 140 S Sycamore St.\, Aberdeen\, 28315\, United States
CATEGORIES:Aberdeen Events,ACW Railway,Adult Connections,Adults,Historical,Hobby/Enthusiast,Holiday Events,Men,Moore County Events,Tours,Women
ATTACH;FMTTYPE=image/jpeg:https://thepinestimes.com/wp-content/uploads/ACWR-F-Unit.jpg
END:VEVENT
BEGIN:VEVENT
DTSTART;TZID=America/New_York:20261002T130000
DTEND;TZID=America/New_York:20261002T150000
DTSTAMP:20260421T183604
CREATED:20250517T153126Z
LAST-MODIFIED:20260320T122858Z
UID:10083589-1790946000-1790953200@thepinestimes.com
SUMMARY:Aberdeen Carolina & Western Railway Shop Tours
DESCRIPTION:Aberdeen Carolina & Western Railway Shop Tours take place on the first Friday of each month at 1:00pm! Guests will enjoy a behind-the-scenes look at some of our rail equipment. Tours are two hours long. The cost is $25. For additional information and registration\, follow the event website link provided below.
URL:https://thepinestimes.com/event/aberdeen-carolina-western-railway-shop-tours/2026-10-02/
LOCATION:Aberdeen Carolina & Western Railway Company\, 967 NC Highway 211 E\, Candor\, NC\, 27229\, United States
CATEGORIES:ACW Railway,Adults,Candor,Educational,Family,Hobby/Enthusiast,Live Entertainment,Out of Town,Senior,Social,Tours
ATTACH;FMTTYPE=image/jpeg:https://thepinestimes.com/wp-content/uploads/AberdeenCarolinaWesternRailwayFeature.jpg
END:VEVENT
END:VCALENDAR