BEGIN:VCALENDAR
VERSION:2.0
PRODID:-//The Pines Times - ECPv6.15.20//NONSGML v1.0//EN
CALSCALE:GREGORIAN
METHOD:PUBLISH
X-ORIGINAL-URL:https://thepinestimes.com
X-WR-CALDESC:Events for The Pines Times
REFRESH-INTERVAL;VALUE=DURATION:PT1H
X-Robots-Tag:noindex
X-PUBLISHED-TTL:PT1H
BEGIN:VTIMEZONE
TZID:America/New_York
BEGIN:DAYLIGHT
TZOFFSETFROM:-0500
TZOFFSETTO:-0400
TZNAME:EDT
DTSTART:20250309T070000
END:DAYLIGHT
BEGIN:STANDARD
TZOFFSETFROM:-0400
TZOFFSETTO:-0500
TZNAME:EST
DTSTART:20251102T060000
END:STANDARD
BEGIN:DAYLIGHT
TZOFFSETFROM:-0500
TZOFFSETTO:-0400
TZNAME:EDT
DTSTART:20260308T070000
END:DAYLIGHT
BEGIN:STANDARD
TZOFFSETFROM:-0400
TZOFFSETTO:-0500
TZNAME:EST
DTSTART:20261101T060000
END:STANDARD
BEGIN:DAYLIGHT
TZOFFSETFROM:-0500
TZOFFSETTO:-0400
TZNAME:EDT
DTSTART:20270314T070000
END:DAYLIGHT
BEGIN:STANDARD
TZOFFSETFROM:-0400
TZOFFSETTO:-0500
TZNAME:EST
DTSTART:20271107T060000
END:STANDARD
END:VTIMEZONE
BEGIN:VEVENT
DTSTART;TZID=America/New_York:20260926T180000
DTEND;TZID=America/New_York:20260926T203000
DTSTAMP:20260421T143217
CREATED:20260319T230027Z
LAST-MODIFIED:20260329T141658Z
UID:10083620-1790445600-1790454600@thepinestimes.com
SUMMARY:ACWR: A Journey In Time-An Enchanting Evening on the Rails
DESCRIPTION:Step back in time and immerse yourself in a memorable classic train social experience as you embark on a journey through the sandhills aboard our passenger coaches. Indulge in cocktails and a savory meal while mingling with fellow travelers and enjoying an enchanting evening on the rails. Bring your own group or join others at a shared table for an opportunity to connect with new people. Duration-2.5 hours \nThe cost is $150. What’s included:\n*Enjoy a 2.5-hour train ride through the Sandhills\n*Savor a delicious three-course meal\n*Additional alcoholic and non-alcoholic beverages available for purchase\n*Boarding begins 30 minutes prior to departure\n*Resort Casual\n*Cash tips are appreciated but never expected\n*We recommend bringing a light sweater or jacket. \nItinerary\nBegin your evening with amuse-bouche and cocktails in our panoramic full-length dome railcar as you await to be escorted to your table for dinner. \nFor full details and to secure your tickets\, CLICK HERE.
URL:https://thepinestimes.com/event/acwr-a-journey-in-time-an-enchanting-evening-on-the-rails/2026-09-26/
LOCATION:Downtown Aberdeen Greenspace\, 140 S Sycamore St.\, Aberdeen\, 28315\, United States
CATEGORIES:Aberdeen Events,ACW Railway,Adult Connections,Adults,Historical,Hobby/Enthusiast,Holiday Events,Men,Moore County Events,Tours,Women
ATTACH;FMTTYPE=image/jpeg:https://thepinestimes.com/wp-content/uploads/ACWR-F-Unit.jpg
END:VEVENT
BEGIN:VEVENT
DTSTART;TZID=America/New_York:20261002T130000
DTEND;TZID=America/New_York:20261002T150000
DTSTAMP:20260421T143217
CREATED:20250517T153126Z
LAST-MODIFIED:20260320T122858Z
UID:10083589-1790946000-1790953200@thepinestimes.com
SUMMARY:Aberdeen Carolina & Western Railway Shop Tours
DESCRIPTION:Aberdeen Carolina & Western Railway Shop Tours take place on the first Friday of each month at 1:00pm! Guests will enjoy a behind-the-scenes look at some of our rail equipment. Tours are two hours long. The cost is $25. For additional information and registration\, follow the event website link provided below.
URL:https://thepinestimes.com/event/aberdeen-carolina-western-railway-shop-tours/2026-10-02/
LOCATION:Aberdeen Carolina & Western Railway Company\, 967 NC Highway 211 E\, Candor\, NC\, 27229\, United States
CATEGORIES:ACW Railway,Adults,Candor,Educational,Family,Hobby/Enthusiast,Live Entertainment,Out of Town,Senior,Social,Tours
ATTACH;FMTTYPE=image/jpeg:https://thepinestimes.com/wp-content/uploads/AberdeenCarolinaWesternRailwayFeature.jpg
END:VEVENT
END:VCALENDAR