BEGIN:VCALENDAR
VERSION:2.0
PRODID:-//The Pines Times - ECPv6.15.20//NONSGML v1.0//EN
CALSCALE:GREGORIAN
METHOD:PUBLISH
X-WR-CALNAME:The Pines Times
X-ORIGINAL-URL:https://thepinestimes.com
X-WR-CALDESC:Events for The Pines Times
REFRESH-INTERVAL;VALUE=DURATION:PT1H
X-Robots-Tag:noindex
X-PUBLISHED-TTL:PT1H
BEGIN:VTIMEZONE
TZID:America/New_York
BEGIN:DAYLIGHT
TZOFFSETFROM:-0500
TZOFFSETTO:-0400
TZNAME:EDT
DTSTART:20250309T070000
END:DAYLIGHT
BEGIN:STANDARD
TZOFFSETFROM:-0400
TZOFFSETTO:-0500
TZNAME:EST
DTSTART:20251102T060000
END:STANDARD
BEGIN:DAYLIGHT
TZOFFSETFROM:-0500
TZOFFSETTO:-0400
TZNAME:EDT
DTSTART:20260308T070000
END:DAYLIGHT
BEGIN:STANDARD
TZOFFSETFROM:-0400
TZOFFSETTO:-0500
TZNAME:EST
DTSTART:20261101T060000
END:STANDARD
BEGIN:DAYLIGHT
TZOFFSETFROM:-0500
TZOFFSETTO:-0400
TZNAME:EDT
DTSTART:20270314T070000
END:DAYLIGHT
BEGIN:STANDARD
TZOFFSETFROM:-0400
TZOFFSETTO:-0500
TZNAME:EST
DTSTART:20271107T060000
END:STANDARD
END:VTIMEZONE
BEGIN:VEVENT
DTSTART;TZID=America/New_York:20260702T093000
DTEND;TZID=America/New_York:20260702T100000
DTSTAMP:20260420T143400
CREATED:20260325T143045Z
LAST-MODIFIED:20260325T143045Z
UID:10084205-1782984600-1782986400@thepinestimes.com
SUMMARY:Aberdeen Library: Baby Storytime
DESCRIPTION:The Aberdeen Library is introducing a weekly Baby Storytime starting on Thursday\, April 9th! These sessions will be held every Thursday morning at 9:30AM at the library\, 123 Exchange Street in Aberdeen. For more information regarding this program\, interested families can contact the library directly at 910-944-1200. \n \n  \n 
URL:https://thepinestimes.com/event/aberdeen-library-baby-storytime/2026-07-02/
LOCATION:Aberdeen Library\, 123 Exchange St.\, Aberdeen\, NC\, 28315\, United States
CATEGORIES:Aberdeen Events,Educational,Family,Library,Piney's Tiny's,Social,Storytimes
ATTACH;FMTTYPE=image/jpeg:https://thepinestimes.com/wp-content/uploads/AberdeenLibraryFeature.jpg
END:VEVENT
BEGIN:VEVENT
DTSTART;TZID=America/New_York:20260709T093000
DTEND;TZID=America/New_York:20260709T100000
DTSTAMP:20260420T143400
CREATED:20260325T143045Z
LAST-MODIFIED:20260325T143045Z
UID:10084206-1783589400-1783591200@thepinestimes.com
SUMMARY:Aberdeen Library: Baby Storytime
DESCRIPTION:The Aberdeen Library is introducing a weekly Baby Storytime starting on Thursday\, April 9th! These sessions will be held every Thursday morning at 9:30AM at the library\, 123 Exchange Street in Aberdeen. For more information regarding this program\, interested families can contact the library directly at 910-944-1200. \n \n  \n 
URL:https://thepinestimes.com/event/aberdeen-library-baby-storytime/2026-07-09/
LOCATION:Aberdeen Library\, 123 Exchange St.\, Aberdeen\, NC\, 28315\, United States
CATEGORIES:Aberdeen Events,Educational,Family,Library,Piney's Tiny's,Social,Storytimes
ATTACH;FMTTYPE=image/jpeg:https://thepinestimes.com/wp-content/uploads/AberdeenLibraryFeature.jpg
END:VEVENT
BEGIN:VEVENT
DTSTART;TZID=America/New_York:20260716T093000
DTEND;TZID=America/New_York:20260716T100000
DTSTAMP:20260420T143400
CREATED:20260325T143045Z
LAST-MODIFIED:20260325T143045Z
UID:10084207-1784194200-1784196000@thepinestimes.com
SUMMARY:Aberdeen Library: Baby Storytime
DESCRIPTION:The Aberdeen Library is introducing a weekly Baby Storytime starting on Thursday\, April 9th! These sessions will be held every Thursday morning at 9:30AM at the library\, 123 Exchange Street in Aberdeen. For more information regarding this program\, interested families can contact the library directly at 910-944-1200. \n \n  \n 
URL:https://thepinestimes.com/event/aberdeen-library-baby-storytime/2026-07-16/
LOCATION:Aberdeen Library\, 123 Exchange St.\, Aberdeen\, NC\, 28315\, United States
CATEGORIES:Aberdeen Events,Educational,Family,Library,Piney's Tiny's,Social,Storytimes
ATTACH;FMTTYPE=image/jpeg:https://thepinestimes.com/wp-content/uploads/AberdeenLibraryFeature.jpg
END:VEVENT
BEGIN:VEVENT
DTSTART;TZID=America/New_York:20260723T093000
DTEND;TZID=America/New_York:20260723T100000
DTSTAMP:20260420T143400
CREATED:20260325T143045Z
LAST-MODIFIED:20260325T143045Z
UID:10084208-1784799000-1784800800@thepinestimes.com
SUMMARY:Aberdeen Library: Baby Storytime
DESCRIPTION:The Aberdeen Library is introducing a weekly Baby Storytime starting on Thursday\, April 9th! These sessions will be held every Thursday morning at 9:30AM at the library\, 123 Exchange Street in Aberdeen. For more information regarding this program\, interested families can contact the library directly at 910-944-1200. \n \n  \n 
URL:https://thepinestimes.com/event/aberdeen-library-baby-storytime/2026-07-23/
LOCATION:Aberdeen Library\, 123 Exchange St.\, Aberdeen\, NC\, 28315\, United States
CATEGORIES:Aberdeen Events,Educational,Family,Library,Piney's Tiny's,Social,Storytimes
ATTACH;FMTTYPE=image/jpeg:https://thepinestimes.com/wp-content/uploads/AberdeenLibraryFeature.jpg
END:VEVENT
BEGIN:VEVENT
DTSTART;TZID=America/New_York:20260730T093000
DTEND;TZID=America/New_York:20260730T100000
DTSTAMP:20260420T143400
CREATED:20260325T143045Z
LAST-MODIFIED:20260325T143045Z
UID:10084209-1785403800-1785405600@thepinestimes.com
SUMMARY:Aberdeen Library: Baby Storytime
DESCRIPTION:The Aberdeen Library is introducing a weekly Baby Storytime starting on Thursday\, April 9th! These sessions will be held every Thursday morning at 9:30AM at the library\, 123 Exchange Street in Aberdeen. For more information regarding this program\, interested families can contact the library directly at 910-944-1200. \n \n  \n 
URL:https://thepinestimes.com/event/aberdeen-library-baby-storytime/2026-07-30/
LOCATION:Aberdeen Library\, 123 Exchange St.\, Aberdeen\, NC\, 28315\, United States
CATEGORIES:Aberdeen Events,Educational,Family,Library,Piney's Tiny's,Social,Storytimes
ATTACH;FMTTYPE=image/jpeg:https://thepinestimes.com/wp-content/uploads/AberdeenLibraryFeature.jpg
END:VEVENT
BEGIN:VEVENT
DTSTART;TZID=America/New_York:20260806T093000
DTEND;TZID=America/New_York:20260806T100000
DTSTAMP:20260420T143400
CREATED:20260325T143045Z
LAST-MODIFIED:20260325T143045Z
UID:10084210-1786008600-1786010400@thepinestimes.com
SUMMARY:Aberdeen Library: Baby Storytime
DESCRIPTION:The Aberdeen Library is introducing a weekly Baby Storytime starting on Thursday\, April 9th! These sessions will be held every Thursday morning at 9:30AM at the library\, 123 Exchange Street in Aberdeen. For more information regarding this program\, interested families can contact the library directly at 910-944-1200. \n \n  \n 
URL:https://thepinestimes.com/event/aberdeen-library-baby-storytime/2026-08-06/
LOCATION:Aberdeen Library\, 123 Exchange St.\, Aberdeen\, NC\, 28315\, United States
CATEGORIES:Aberdeen Events,Educational,Family,Library,Piney's Tiny's,Social,Storytimes
ATTACH;FMTTYPE=image/jpeg:https://thepinestimes.com/wp-content/uploads/AberdeenLibraryFeature.jpg
END:VEVENT
BEGIN:VEVENT
DTSTART;TZID=America/New_York:20260813T093000
DTEND;TZID=America/New_York:20260813T100000
DTSTAMP:20260420T143400
CREATED:20260325T143045Z
LAST-MODIFIED:20260325T143045Z
UID:10084211-1786613400-1786615200@thepinestimes.com
SUMMARY:Aberdeen Library: Baby Storytime
DESCRIPTION:The Aberdeen Library is introducing a weekly Baby Storytime starting on Thursday\, April 9th! These sessions will be held every Thursday morning at 9:30AM at the library\, 123 Exchange Street in Aberdeen. For more information regarding this program\, interested families can contact the library directly at 910-944-1200. \n \n  \n 
URL:https://thepinestimes.com/event/aberdeen-library-baby-storytime/2026-08-13/
LOCATION:Aberdeen Library\, 123 Exchange St.\, Aberdeen\, NC\, 28315\, United States
CATEGORIES:Aberdeen Events,Educational,Family,Library,Piney's Tiny's,Social,Storytimes
ATTACH;FMTTYPE=image/jpeg:https://thepinestimes.com/wp-content/uploads/AberdeenLibraryFeature.jpg
END:VEVENT
BEGIN:VEVENT
DTSTART;TZID=America/New_York:20260820T093000
DTEND;TZID=America/New_York:20260820T100000
DTSTAMP:20260420T143400
CREATED:20260325T143045Z
LAST-MODIFIED:20260325T143045Z
UID:10084212-1787218200-1787220000@thepinestimes.com
SUMMARY:Aberdeen Library: Baby Storytime
DESCRIPTION:The Aberdeen Library is introducing a weekly Baby Storytime starting on Thursday\, April 9th! These sessions will be held every Thursday morning at 9:30AM at the library\, 123 Exchange Street in Aberdeen. For more information regarding this program\, interested families can contact the library directly at 910-944-1200. \n \n  \n 
URL:https://thepinestimes.com/event/aberdeen-library-baby-storytime/2026-08-20/
LOCATION:Aberdeen Library\, 123 Exchange St.\, Aberdeen\, NC\, 28315\, United States
CATEGORIES:Aberdeen Events,Educational,Family,Library,Piney's Tiny's,Social,Storytimes
ATTACH;FMTTYPE=image/jpeg:https://thepinestimes.com/wp-content/uploads/AberdeenLibraryFeature.jpg
END:VEVENT
BEGIN:VEVENT
DTSTART;TZID=America/New_York:20260827T093000
DTEND;TZID=America/New_York:20260827T100000
DTSTAMP:20260420T143400
CREATED:20260325T143045Z
LAST-MODIFIED:20260325T143045Z
UID:10084213-1787823000-1787824800@thepinestimes.com
SUMMARY:Aberdeen Library: Baby Storytime
DESCRIPTION:The Aberdeen Library is introducing a weekly Baby Storytime starting on Thursday\, April 9th! These sessions will be held every Thursday morning at 9:30AM at the library\, 123 Exchange Street in Aberdeen. For more information regarding this program\, interested families can contact the library directly at 910-944-1200. \n \n  \n 
URL:https://thepinestimes.com/event/aberdeen-library-baby-storytime/2026-08-27/
LOCATION:Aberdeen Library\, 123 Exchange St.\, Aberdeen\, NC\, 28315\, United States
CATEGORIES:Aberdeen Events,Educational,Family,Library,Piney's Tiny's,Social,Storytimes
ATTACH;FMTTYPE=image/jpeg:https://thepinestimes.com/wp-content/uploads/AberdeenLibraryFeature.jpg
END:VEVENT
BEGIN:VEVENT
DTSTART;TZID=America/New_York:20260903T093000
DTEND;TZID=America/New_York:20260903T100000
DTSTAMP:20260420T143400
CREATED:20260325T143045Z
LAST-MODIFIED:20260325T143045Z
UID:10084214-1788427800-1788429600@thepinestimes.com
SUMMARY:Aberdeen Library: Baby Storytime
DESCRIPTION:The Aberdeen Library is introducing a weekly Baby Storytime starting on Thursday\, April 9th! These sessions will be held every Thursday morning at 9:30AM at the library\, 123 Exchange Street in Aberdeen. For more information regarding this program\, interested families can contact the library directly at 910-944-1200. \n \n  \n 
URL:https://thepinestimes.com/event/aberdeen-library-baby-storytime/2026-09-03/
LOCATION:Aberdeen Library\, 123 Exchange St.\, Aberdeen\, NC\, 28315\, United States
CATEGORIES:Aberdeen Events,Educational,Family,Library,Piney's Tiny's,Social,Storytimes
ATTACH;FMTTYPE=image/jpeg:https://thepinestimes.com/wp-content/uploads/AberdeenLibraryFeature.jpg
END:VEVENT
BEGIN:VEVENT
DTSTART;TZID=America/New_York:20260910T093000
DTEND;TZID=America/New_York:20260910T100000
DTSTAMP:20260420T143400
CREATED:20260325T143045Z
LAST-MODIFIED:20260325T143045Z
UID:10084215-1789032600-1789034400@thepinestimes.com
SUMMARY:Aberdeen Library: Baby Storytime
DESCRIPTION:The Aberdeen Library is introducing a weekly Baby Storytime starting on Thursday\, April 9th! These sessions will be held every Thursday morning at 9:30AM at the library\, 123 Exchange Street in Aberdeen. For more information regarding this program\, interested families can contact the library directly at 910-944-1200. \n \n  \n 
URL:https://thepinestimes.com/event/aberdeen-library-baby-storytime/2026-09-10/
LOCATION:Aberdeen Library\, 123 Exchange St.\, Aberdeen\, NC\, 28315\, United States
CATEGORIES:Aberdeen Events,Educational,Family,Library,Piney's Tiny's,Social,Storytimes
ATTACH;FMTTYPE=image/jpeg:https://thepinestimes.com/wp-content/uploads/AberdeenLibraryFeature.jpg
END:VEVENT
BEGIN:VEVENT
DTSTART;TZID=America/New_York:20260917T093000
DTEND;TZID=America/New_York:20260917T100000
DTSTAMP:20260420T143400
CREATED:20260325T143045Z
LAST-MODIFIED:20260325T143045Z
UID:10084216-1789637400-1789639200@thepinestimes.com
SUMMARY:Aberdeen Library: Baby Storytime
DESCRIPTION:The Aberdeen Library is introducing a weekly Baby Storytime starting on Thursday\, April 9th! These sessions will be held every Thursday morning at 9:30AM at the library\, 123 Exchange Street in Aberdeen. For more information regarding this program\, interested families can contact the library directly at 910-944-1200. \n \n  \n 
URL:https://thepinestimes.com/event/aberdeen-library-baby-storytime/2026-09-17/
LOCATION:Aberdeen Library\, 123 Exchange St.\, Aberdeen\, NC\, 28315\, United States
CATEGORIES:Aberdeen Events,Educational,Family,Library,Piney's Tiny's,Social,Storytimes
ATTACH;FMTTYPE=image/jpeg:https://thepinestimes.com/wp-content/uploads/AberdeenLibraryFeature.jpg
END:VEVENT
BEGIN:VEVENT
DTSTART;TZID=America/New_York:20260924T093000
DTEND;TZID=America/New_York:20260924T100000
DTSTAMP:20260420T143400
CREATED:20260325T143045Z
LAST-MODIFIED:20260325T143045Z
UID:10084217-1790242200-1790244000@thepinestimes.com
SUMMARY:Aberdeen Library: Baby Storytime
DESCRIPTION:The Aberdeen Library is introducing a weekly Baby Storytime starting on Thursday\, April 9th! These sessions will be held every Thursday morning at 9:30AM at the library\, 123 Exchange Street in Aberdeen. For more information regarding this program\, interested families can contact the library directly at 910-944-1200. \n \n  \n 
URL:https://thepinestimes.com/event/aberdeen-library-baby-storytime/2026-09-24/
LOCATION:Aberdeen Library\, 123 Exchange St.\, Aberdeen\, NC\, 28315\, United States
CATEGORIES:Aberdeen Events,Educational,Family,Library,Piney's Tiny's,Social,Storytimes
ATTACH;FMTTYPE=image/jpeg:https://thepinestimes.com/wp-content/uploads/AberdeenLibraryFeature.jpg
END:VEVENT
BEGIN:VEVENT
DTSTART;TZID=America/New_York:20261001T093000
DTEND;TZID=America/New_York:20261001T100000
DTSTAMP:20260420T143400
CREATED:20260325T143045Z
LAST-MODIFIED:20260325T143045Z
UID:10084218-1790847000-1790848800@thepinestimes.com
SUMMARY:Aberdeen Library: Baby Storytime
DESCRIPTION:The Aberdeen Library is introducing a weekly Baby Storytime starting on Thursday\, April 9th! These sessions will be held every Thursday morning at 9:30AM at the library\, 123 Exchange Street in Aberdeen. For more information regarding this program\, interested families can contact the library directly at 910-944-1200. \n \n  \n 
URL:https://thepinestimes.com/event/aberdeen-library-baby-storytime/2026-10-01/
LOCATION:Aberdeen Library\, 123 Exchange St.\, Aberdeen\, NC\, 28315\, United States
CATEGORIES:Aberdeen Events,Educational,Family,Library,Piney's Tiny's,Social,Storytimes
ATTACH;FMTTYPE=image/jpeg:https://thepinestimes.com/wp-content/uploads/AberdeenLibraryFeature.jpg
END:VEVENT
BEGIN:VEVENT
DTSTART;TZID=America/New_York:20261008T093000
DTEND;TZID=America/New_York:20261008T100000
DTSTAMP:20260420T143400
CREATED:20260325T143045Z
LAST-MODIFIED:20260325T143045Z
UID:10084219-1791451800-1791453600@thepinestimes.com
SUMMARY:Aberdeen Library: Baby Storytime
DESCRIPTION:The Aberdeen Library is introducing a weekly Baby Storytime starting on Thursday\, April 9th! These sessions will be held every Thursday morning at 9:30AM at the library\, 123 Exchange Street in Aberdeen. For more information regarding this program\, interested families can contact the library directly at 910-944-1200. \n \n  \n 
URL:https://thepinestimes.com/event/aberdeen-library-baby-storytime/2026-10-08/
LOCATION:Aberdeen Library\, 123 Exchange St.\, Aberdeen\, NC\, 28315\, United States
CATEGORIES:Aberdeen Events,Educational,Family,Library,Piney's Tiny's,Social,Storytimes
ATTACH;FMTTYPE=image/jpeg:https://thepinestimes.com/wp-content/uploads/AberdeenLibraryFeature.jpg
END:VEVENT
BEGIN:VEVENT
DTSTART;TZID=America/New_York:20261015T093000
DTEND;TZID=America/New_York:20261015T100000
DTSTAMP:20260420T143400
CREATED:20260325T143045Z
LAST-MODIFIED:20260325T143045Z
UID:10084220-1792056600-1792058400@thepinestimes.com
SUMMARY:Aberdeen Library: Baby Storytime
DESCRIPTION:The Aberdeen Library is introducing a weekly Baby Storytime starting on Thursday\, April 9th! These sessions will be held every Thursday morning at 9:30AM at the library\, 123 Exchange Street in Aberdeen. For more information regarding this program\, interested families can contact the library directly at 910-944-1200. \n \n  \n 
URL:https://thepinestimes.com/event/aberdeen-library-baby-storytime/2026-10-15/
LOCATION:Aberdeen Library\, 123 Exchange St.\, Aberdeen\, NC\, 28315\, United States
CATEGORIES:Aberdeen Events,Educational,Family,Library,Piney's Tiny's,Social,Storytimes
ATTACH;FMTTYPE=image/jpeg:https://thepinestimes.com/wp-content/uploads/AberdeenLibraryFeature.jpg
END:VEVENT
BEGIN:VEVENT
DTSTART;TZID=America/New_York:20261022T093000
DTEND;TZID=America/New_York:20261022T100000
DTSTAMP:20260420T143400
CREATED:20260325T143045Z
LAST-MODIFIED:20260325T143045Z
UID:10084221-1792661400-1792663200@thepinestimes.com
SUMMARY:Aberdeen Library: Baby Storytime
DESCRIPTION:The Aberdeen Library is introducing a weekly Baby Storytime starting on Thursday\, April 9th! These sessions will be held every Thursday morning at 9:30AM at the library\, 123 Exchange Street in Aberdeen. For more information regarding this program\, interested families can contact the library directly at 910-944-1200. \n \n  \n 
URL:https://thepinestimes.com/event/aberdeen-library-baby-storytime/2026-10-22/
LOCATION:Aberdeen Library\, 123 Exchange St.\, Aberdeen\, NC\, 28315\, United States
CATEGORIES:Aberdeen Events,Educational,Family,Library,Piney's Tiny's,Social,Storytimes
ATTACH;FMTTYPE=image/jpeg:https://thepinestimes.com/wp-content/uploads/AberdeenLibraryFeature.jpg
END:VEVENT
BEGIN:VEVENT
DTSTART;TZID=America/New_York:20261029T093000
DTEND;TZID=America/New_York:20261029T100000
DTSTAMP:20260420T143400
CREATED:20260325T143045Z
LAST-MODIFIED:20260325T143045Z
UID:10084222-1793266200-1793268000@thepinestimes.com
SUMMARY:Aberdeen Library: Baby Storytime
DESCRIPTION:The Aberdeen Library is introducing a weekly Baby Storytime starting on Thursday\, April 9th! These sessions will be held every Thursday morning at 9:30AM at the library\, 123 Exchange Street in Aberdeen. For more information regarding this program\, interested families can contact the library directly at 910-944-1200. \n \n  \n 
URL:https://thepinestimes.com/event/aberdeen-library-baby-storytime/2026-10-29/
LOCATION:Aberdeen Library\, 123 Exchange St.\, Aberdeen\, NC\, 28315\, United States
CATEGORIES:Aberdeen Events,Educational,Family,Library,Piney's Tiny's,Social,Storytimes
ATTACH;FMTTYPE=image/jpeg:https://thepinestimes.com/wp-content/uploads/AberdeenLibraryFeature.jpg
END:VEVENT
BEGIN:VEVENT
DTSTART;TZID=America/New_York:20261105T093000
DTEND;TZID=America/New_York:20261105T100000
DTSTAMP:20260420T143400
CREATED:20260325T143045Z
LAST-MODIFIED:20260325T143045Z
UID:10084223-1793871000-1793872800@thepinestimes.com
SUMMARY:Aberdeen Library: Baby Storytime
DESCRIPTION:The Aberdeen Library is introducing a weekly Baby Storytime starting on Thursday\, April 9th! These sessions will be held every Thursday morning at 9:30AM at the library\, 123 Exchange Street in Aberdeen. For more information regarding this program\, interested families can contact the library directly at 910-944-1200. \n \n  \n 
URL:https://thepinestimes.com/event/aberdeen-library-baby-storytime/2026-11-05/
LOCATION:Aberdeen Library\, 123 Exchange St.\, Aberdeen\, NC\, 28315\, United States
CATEGORIES:Aberdeen Events,Educational,Family,Library,Piney's Tiny's,Social,Storytimes
ATTACH;FMTTYPE=image/jpeg:https://thepinestimes.com/wp-content/uploads/AberdeenLibraryFeature.jpg
END:VEVENT
BEGIN:VEVENT
DTSTART;TZID=America/New_York:20261112T093000
DTEND;TZID=America/New_York:20261112T100000
DTSTAMP:20260420T143400
CREATED:20260325T143045Z
LAST-MODIFIED:20260325T143045Z
UID:10084224-1794475800-1794477600@thepinestimes.com
SUMMARY:Aberdeen Library: Baby Storytime
DESCRIPTION:The Aberdeen Library is introducing a weekly Baby Storytime starting on Thursday\, April 9th! These sessions will be held every Thursday morning at 9:30AM at the library\, 123 Exchange Street in Aberdeen. For more information regarding this program\, interested families can contact the library directly at 910-944-1200. \n \n  \n 
URL:https://thepinestimes.com/event/aberdeen-library-baby-storytime/2026-11-12/
LOCATION:Aberdeen Library\, 123 Exchange St.\, Aberdeen\, NC\, 28315\, United States
CATEGORIES:Aberdeen Events,Educational,Family,Library,Piney's Tiny's,Social,Storytimes
ATTACH;FMTTYPE=image/jpeg:https://thepinestimes.com/wp-content/uploads/AberdeenLibraryFeature.jpg
END:VEVENT
BEGIN:VEVENT
DTSTART;TZID=America/New_York:20261119T093000
DTEND;TZID=America/New_York:20261119T100000
DTSTAMP:20260420T143400
CREATED:20260325T143045Z
LAST-MODIFIED:20260325T143045Z
UID:10084225-1795080600-1795082400@thepinestimes.com
SUMMARY:Aberdeen Library: Baby Storytime
DESCRIPTION:The Aberdeen Library is introducing a weekly Baby Storytime starting on Thursday\, April 9th! These sessions will be held every Thursday morning at 9:30AM at the library\, 123 Exchange Street in Aberdeen. For more information regarding this program\, interested families can contact the library directly at 910-944-1200. \n \n  \n 
URL:https://thepinestimes.com/event/aberdeen-library-baby-storytime/2026-11-19/
LOCATION:Aberdeen Library\, 123 Exchange St.\, Aberdeen\, NC\, 28315\, United States
CATEGORIES:Aberdeen Events,Educational,Family,Library,Piney's Tiny's,Social,Storytimes
ATTACH;FMTTYPE=image/jpeg:https://thepinestimes.com/wp-content/uploads/AberdeenLibraryFeature.jpg
END:VEVENT
BEGIN:VEVENT
DTSTART;TZID=America/New_York:20261126T093000
DTEND;TZID=America/New_York:20261126T100000
DTSTAMP:20260420T143400
CREATED:20260325T143045Z
LAST-MODIFIED:20260325T143045Z
UID:10084226-1795685400-1795687200@thepinestimes.com
SUMMARY:Aberdeen Library: Baby Storytime
DESCRIPTION:The Aberdeen Library is introducing a weekly Baby Storytime starting on Thursday\, April 9th! These sessions will be held every Thursday morning at 9:30AM at the library\, 123 Exchange Street in Aberdeen. For more information regarding this program\, interested families can contact the library directly at 910-944-1200. \n \n  \n 
URL:https://thepinestimes.com/event/aberdeen-library-baby-storytime/2026-11-26/
LOCATION:Aberdeen Library\, 123 Exchange St.\, Aberdeen\, NC\, 28315\, United States
CATEGORIES:Aberdeen Events,Educational,Family,Library,Piney's Tiny's,Social,Storytimes
ATTACH;FMTTYPE=image/jpeg:https://thepinestimes.com/wp-content/uploads/AberdeenLibraryFeature.jpg
END:VEVENT
BEGIN:VEVENT
DTSTART;TZID=America/New_York:20261203T093000
DTEND;TZID=America/New_York:20261203T100000
DTSTAMP:20260420T143400
CREATED:20260325T143045Z
LAST-MODIFIED:20260325T143045Z
UID:10084227-1796290200-1796292000@thepinestimes.com
SUMMARY:Aberdeen Library: Baby Storytime
DESCRIPTION:The Aberdeen Library is introducing a weekly Baby Storytime starting on Thursday\, April 9th! These sessions will be held every Thursday morning at 9:30AM at the library\, 123 Exchange Street in Aberdeen. For more information regarding this program\, interested families can contact the library directly at 910-944-1200. \n \n  \n 
URL:https://thepinestimes.com/event/aberdeen-library-baby-storytime/2026-12-03/
LOCATION:Aberdeen Library\, 123 Exchange St.\, Aberdeen\, NC\, 28315\, United States
CATEGORIES:Aberdeen Events,Educational,Family,Library,Piney's Tiny's,Social,Storytimes
ATTACH;FMTTYPE=image/jpeg:https://thepinestimes.com/wp-content/uploads/AberdeenLibraryFeature.jpg
END:VEVENT
BEGIN:VEVENT
DTSTART;TZID=America/New_York:20261210T093000
DTEND;TZID=America/New_York:20261210T100000
DTSTAMP:20260420T143400
CREATED:20260325T143045Z
LAST-MODIFIED:20260325T143045Z
UID:10084228-1796895000-1796896800@thepinestimes.com
SUMMARY:Aberdeen Library: Baby Storytime
DESCRIPTION:The Aberdeen Library is introducing a weekly Baby Storytime starting on Thursday\, April 9th! These sessions will be held every Thursday morning at 9:30AM at the library\, 123 Exchange Street in Aberdeen. For more information regarding this program\, interested families can contact the library directly at 910-944-1200. \n \n  \n 
URL:https://thepinestimes.com/event/aberdeen-library-baby-storytime/2026-12-10/
LOCATION:Aberdeen Library\, 123 Exchange St.\, Aberdeen\, NC\, 28315\, United States
CATEGORIES:Aberdeen Events,Educational,Family,Library,Piney's Tiny's,Social,Storytimes
ATTACH;FMTTYPE=image/jpeg:https://thepinestimes.com/wp-content/uploads/AberdeenLibraryFeature.jpg
END:VEVENT
BEGIN:VEVENT
DTSTART;TZID=America/New_York:20261217T093000
DTEND;TZID=America/New_York:20261217T100000
DTSTAMP:20260420T143400
CREATED:20260325T143045Z
LAST-MODIFIED:20260325T143045Z
UID:10084229-1797499800-1797501600@thepinestimes.com
SUMMARY:Aberdeen Library: Baby Storytime
DESCRIPTION:The Aberdeen Library is introducing a weekly Baby Storytime starting on Thursday\, April 9th! These sessions will be held every Thursday morning at 9:30AM at the library\, 123 Exchange Street in Aberdeen. For more information regarding this program\, interested families can contact the library directly at 910-944-1200. \n \n  \n 
URL:https://thepinestimes.com/event/aberdeen-library-baby-storytime/2026-12-17/
LOCATION:Aberdeen Library\, 123 Exchange St.\, Aberdeen\, NC\, 28315\, United States
CATEGORIES:Aberdeen Events,Educational,Family,Library,Piney's Tiny's,Social,Storytimes
ATTACH;FMTTYPE=image/jpeg:https://thepinestimes.com/wp-content/uploads/AberdeenLibraryFeature.jpg
END:VEVENT
END:VCALENDAR