BEGIN:VCALENDAR
VERSION:2.0
PRODID:-//The Pines Times - ECPv6.15.20//NONSGML v1.0//EN
CALSCALE:GREGORIAN
METHOD:PUBLISH
X-WR-CALNAME:The Pines Times
X-ORIGINAL-URL:https://thepinestimes.com
X-WR-CALDESC:Events for The Pines Times
REFRESH-INTERVAL;VALUE=DURATION:PT1H
X-Robots-Tag:noindex
X-PUBLISHED-TTL:PT1H
BEGIN:VTIMEZONE
TZID:America/New_York
BEGIN:DAYLIGHT
TZOFFSETFROM:-0500
TZOFFSETTO:-0400
TZNAME:EDT
DTSTART:20240310T070000
END:DAYLIGHT
BEGIN:STANDARD
TZOFFSETFROM:-0400
TZOFFSETTO:-0500
TZNAME:EST
DTSTART:20241103T060000
END:STANDARD
BEGIN:DAYLIGHT
TZOFFSETFROM:-0500
TZOFFSETTO:-0400
TZNAME:EDT
DTSTART:20250309T070000
END:DAYLIGHT
BEGIN:STANDARD
TZOFFSETFROM:-0400
TZOFFSETTO:-0500
TZNAME:EST
DTSTART:20251102T060000
END:STANDARD
BEGIN:DAYLIGHT
TZOFFSETFROM:-0500
TZOFFSETTO:-0400
TZNAME:EDT
DTSTART:20260308T070000
END:DAYLIGHT
BEGIN:STANDARD
TZOFFSETFROM:-0400
TZOFFSETTO:-0500
TZNAME:EST
DTSTART:20261101T060000
END:STANDARD
BEGIN:DAYLIGHT
TZOFFSETFROM:-0500
TZOFFSETTO:-0400
TZNAME:EDT
DTSTART:20270314T070000
END:DAYLIGHT
BEGIN:STANDARD
TZOFFSETFROM:-0400
TZOFFSETTO:-0500
TZNAME:EST
DTSTART:20271107T060000
END:STANDARD
END:VTIMEZONE
BEGIN:VEVENT
DTSTART;TZID=America/New_York:20260411T100000
DTEND;TZID=America/New_York:20260411T120000
DTSTAMP:20260421T233003
CREATED:20260404T222655Z
LAST-MODIFIED:20260404T222655Z
UID:10086137-1775901600-1775908800@thepinestimes.com
SUMMARY:Historical Open House Event
DESCRIPTION:Step inside a piece of Aberdeen’s story at the Open House event at the Aberdeen Postmaster’s House on Saturday\, April 11th. 10AM-2PM. Tour the oldest residence in Downtown Aberdeen and experience its timeless charm. Wander through its rooms\, hear the echoes of its past\, and discover how this treasured home can become the perfect setting for your next gathering. All are welcome.
URL:https://thepinestimes.com/event/historical-open-house-event/
LOCATION:Aberdeen Postmaster’s House\, 204 E South St\, Aberdeen\, NC\, 28315\, United States
CATEGORIES:Aberdeen Events,Historical,Open House,Social,Tours
ATTACH;FMTTYPE=image/jpeg:https://thepinestimes.com/wp-content/uploads/AberdeenPostmastersHouseFeature.jpg
ORGANIZER;CN="Aberdeen Postmaster's House":MAILTO:friendsofthepostmastershouse@gmail.com
END:VEVENT
BEGIN:VEVENT
DTSTART;TZID=America/New_York:20251213T110000
DTEND;TZID=America/New_York:20251213T140000
DTSTAMP:20260421T233003
CREATED:20251206T204136Z
LAST-MODIFIED:20251208T160212Z
UID:10077043-1765623600-1765634400@thepinestimes.com
SUMMARY:Holiday Open House at the Aberdeen Postmaster's House
DESCRIPTION:Step into a bit of Aberdeen history this parade day! Before or after the Aberdeen Christmas Parade kicks off at 11:00am\, stop by the Postmaster’s House—the oldest residence in town. Wander through the charming historic rooms\, then sip hot cider and enjoy warm cookies as you soak in the spirit of the season.
URL:https://thepinestimes.com/event/holiday-treat-and-tour-at-the-aberdeen-postmasters-house/
LOCATION:Aberdeen Postmaster’s House\, 204 E South St\, Aberdeen\, NC\, 28315\, United States
CATEGORIES:Aberdeen Events,Adults,Christmas,Family,Historical,Hobby/Enthusiast,Holiday Events,Open House,Piney's Kids,Senior,Social,Tasting,Tours,Young Adults
ATTACH;FMTTYPE=image/jpeg:https://thepinestimes.com/wp-content/uploads/AberdeenPostmastersHouseFeature-1.jpg
ORGANIZER;CN="Aberdeen Postmaster's House":MAILTO:friendsofthepostmastershouse@gmail.com
END:VEVENT
END:VCALENDAR