BEGIN:VCALENDAR
VERSION:2.0
PRODID:-//The Pines Times - ECPv6.15.20//NONSGML v1.0//EN
CALSCALE:GREGORIAN
METHOD:PUBLISH
X-ORIGINAL-URL:https://thepinestimes.com
X-WR-CALDESC:Events for The Pines Times
REFRESH-INTERVAL;VALUE=DURATION:PT1H
X-Robots-Tag:noindex
X-PUBLISHED-TTL:PT1H
BEGIN:VTIMEZONE
TZID:America/New_York
BEGIN:DAYLIGHT
TZOFFSETFROM:-0500
TZOFFSETTO:-0400
TZNAME:EDT
DTSTART:20250309T070000
END:DAYLIGHT
BEGIN:STANDARD
TZOFFSETFROM:-0400
TZOFFSETTO:-0500
TZNAME:EST
DTSTART:20251102T060000
END:STANDARD
BEGIN:DAYLIGHT
TZOFFSETFROM:-0500
TZOFFSETTO:-0400
TZNAME:EDT
DTSTART:20260308T070000
END:DAYLIGHT
BEGIN:STANDARD
TZOFFSETFROM:-0400
TZOFFSETTO:-0500
TZNAME:EST
DTSTART:20261101T060000
END:STANDARD
BEGIN:DAYLIGHT
TZOFFSETFROM:-0500
TZOFFSETTO:-0400
TZNAME:EDT
DTSTART:20270314T070000
END:DAYLIGHT
BEGIN:STANDARD
TZOFFSETFROM:-0400
TZOFFSETTO:-0500
TZNAME:EST
DTSTART:20271107T060000
END:STANDARD
END:VTIMEZONE
BEGIN:VEVENT
DTSTART;TZID=America/New_York:20260411T080000
DTEND;TZID=America/New_York:20260411T120000
DTSTAMP:20260421T134841
CREATED:20260410T142205Z
LAST-MODIFIED:20260410T142205Z
UID:10086693-1775894400-1775908800@thepinestimes.com
SUMMARY:Walk to Honor Dr. Joseph “Joey” Tyron Bell ​Benefiting ALS United North Carolina
DESCRIPTION:Join for the Walk to Honor Dr. Joseph “Joey” Tyron Bell\, benefiting ALS United North Carolina on Come together to remember Joey’s life\, honor his legacy\, and support North Carolinians living with ALS. \nJoey passed away on June 16\, 2025\, following a courageous journey with ALS. A devoted husband\, father\, grandfather\, and pediatrician\, Joey spent his life caring for others—serving children and families across North Carolina with compassion\, humility\, and unwavering dedication. In 1986\, he became the first Lumbee pediatrician and the first American Indian pediatrician in North Carolina\, leaving a lasting legacy in medicine and in his community. \nThis walk is both a tribute and a call to action. Funds raised will support ALS United North Carolina’s care services\, equipment loan program\, research\, and advocacy efforts\, ensuring that individuals and families facing ALS in our state have access to the care\, resources\, and support they need. \nDr. Bell was a trailblazer—the first Lumbee pediatrician and the first American Indian pediatrician in North Carolina. Let’s come together to celebrate his legacy and show our support. Kids are also welcome\, if you did not register please feel free to come out and celebrate.\n– Location: Grace P. Johnson Stadium\, UNC Pembroke\n– Registration: 8:00AM\n– Walk Begins: 9:30AM\, closing remarks at 12pm \nWe walk in honor of Joey. We walk for families across North Carolina impacted by ALS. We walk to support care today and progress toward a cure tomorrow. Walk with us and help ensure no one in North Carolina faces ALS alone.
URL:https://thepinestimes.com/event/walk-to-honor-dr-joseph-joey-tyron-bell-benefiting-als-united-north-carolina/
LOCATION:UNC Pembroke at Grace P. Johnson Stadium\, 1 University Rd\, Pembroke\, NC\, 28372\, United States
CATEGORIES:Adults,Benefit,Brain Change,Donation,Family,Fundraiser,Health & Wellness,Senior,Social,Walk/Run
ATTACH;FMTTYPE=image/jpeg:https://thepinestimes.com/wp-content/uploads/ALSwalkFeature.jpg
ORGANIZER;CN="ALS United North Carolina":MAILTO:Info@alsnc.org
END:VEVENT
END:VCALENDAR