BEGIN:VCALENDAR
VERSION:2.0
PRODID:-//The Pines Times - ECPv6.15.20//NONSGML v1.0//EN
CALSCALE:GREGORIAN
METHOD:PUBLISH
X-WR-CALNAME:The Pines Times
X-ORIGINAL-URL:https://thepinestimes.com
X-WR-CALDESC:Events for The Pines Times
REFRESH-INTERVAL;VALUE=DURATION:PT1H
X-Robots-Tag:noindex
X-PUBLISHED-TTL:PT1H
BEGIN:VTIMEZONE
TZID:America/New_York
BEGIN:DAYLIGHT
TZOFFSETFROM:-0500
TZOFFSETTO:-0400
TZNAME:EDT
DTSTART:20240310T070000
END:DAYLIGHT
BEGIN:STANDARD
TZOFFSETFROM:-0400
TZOFFSETTO:-0500
TZNAME:EST
DTSTART:20241103T060000
END:STANDARD
BEGIN:DAYLIGHT
TZOFFSETFROM:-0500
TZOFFSETTO:-0400
TZNAME:EDT
DTSTART:20250309T070000
END:DAYLIGHT
BEGIN:STANDARD
TZOFFSETFROM:-0400
TZOFFSETTO:-0500
TZNAME:EST
DTSTART:20251102T060000
END:STANDARD
BEGIN:DAYLIGHT
TZOFFSETFROM:-0500
TZOFFSETTO:-0400
TZNAME:EDT
DTSTART:20260308T070000
END:DAYLIGHT
BEGIN:STANDARD
TZOFFSETFROM:-0400
TZOFFSETTO:-0500
TZNAME:EST
DTSTART:20261101T060000
END:STANDARD
BEGIN:DAYLIGHT
TZOFFSETFROM:-0500
TZOFFSETTO:-0400
TZNAME:EDT
DTSTART:20270314T070000
END:DAYLIGHT
BEGIN:STANDARD
TZOFFSETFROM:-0400
TZOFFSETTO:-0500
TZNAME:EST
DTSTART:20271107T060000
END:STANDARD
END:VTIMEZONE
BEGIN:VEVENT
DTSTART;TZID=America/New_York:20260403T190000
DTEND;TZID=America/New_York:20260403T220000
DTSTAMP:20260424T045023
CREATED:20260203T150023Z
LAST-MODIFIED:20260208T143006Z
UID:10080689-1775242800-1775253600@thepinestimes.com
SUMMARY:First Friday Dance & Social Club
DESCRIPTION:Hamlet American Legion Post 49 invites you to the First Friday Dance & Social Club\, featuring professional DJs from the Carolinas playing the best of line dancing\, disco\, shag\, and old-time rock and roll! Doors open at 6:30pm with music from 7:00pm-10:00pm. There is $5 cover charge; American Legion membership is not required to attend. For more information\, call 910-334-0369.
URL:https://thepinestimes.com/event/first-friday-dance-social-club/2026-04-03/
LOCATION:American Legion Hamlet Post 49\, 402 Veterans Dr.\, Hamlet\, 28345\, United States
CATEGORIES:Adults,Clubs,Dance,Dance Class,Hamlet,Hobby/Enthusiast,Line Dancing,Music,Out of Town,Senior,Social,Young Adults
ATTACH;FMTTYPE=image/png:https://thepinestimes.com/wp-content/uploads/Dancing-in-the-Pines-e1755370461830.png
END:VEVENT
BEGIN:VEVENT
DTSTART;TZID=America/New_York:20260306T190000
DTEND;TZID=America/New_York:20260306T220000
DTSTAMP:20260424T045023
CREATED:20260203T150023Z
LAST-MODIFIED:20260208T143006Z
UID:10080688-1772823600-1772834400@thepinestimes.com
SUMMARY:First Friday Dance & Social Club
DESCRIPTION:Hamlet American Legion Post 49 invites you to the First Friday Dance & Social Club\, featuring professional DJs from the Carolinas playing the best of line dancing\, disco\, shag\, and old-time rock and roll! Doors open at 6:30pm with music from 7:00pm-10:00pm. There is $5 cover charge; American Legion membership is not required to attend. For more information\, call 910-334-0369.
URL:https://thepinestimes.com/event/first-friday-dance-social-club/2026-03-06/
LOCATION:American Legion Hamlet Post 49\, 402 Veterans Dr.\, Hamlet\, 28345\, United States
CATEGORIES:Adults,Clubs,Dance,Dance Class,Hamlet,Hobby/Enthusiast,Line Dancing,Music,Out of Town,Senior,Social,Young Adults
ATTACH;FMTTYPE=image/png:https://thepinestimes.com/wp-content/uploads/Dancing-in-the-Pines-e1755370461830.png
END:VEVENT
BEGIN:VEVENT
DTSTART;TZID=America/New_York:20260228T140000
DTEND;TZID=America/New_York:20260228T140000
DTSTAMP:20260424T045023
CREATED:20260225T150253Z
LAST-MODIFIED:20260225T150253Z
UID:10081671-1772287200-1772287200@thepinestimes.com
SUMMARY:Hamlet American Legion Post 49: Oyster Roast
DESCRIPTION:Head to the Hamlet American Legion Post 49 on Saturday\, February 28th\, for an afternoon of great food and community at their Oyster Roast. Starting at 2:00pm\, guests can enjoy a full spread for $30\, which includes oysters\, stews\, soups\, and desserts\, or opt for a $13 ticket for everything except the oysters. The event will be held at 402 Veterans Drive in Hamlet.
URL:https://thepinestimes.com/event/hamlet-american-legion-post-49-oyster-roast/
LOCATION:American Legion Hamlet Post 49 Oyster Roast\, 402 Veterans Drive\, Hamlet\, 28345\, United States
CATEGORIES:Adults,Family,Food,Fundraiser,Senior,Social,Young Adults
ATTACH;FMTTYPE=image/jpeg:https://thepinestimes.com/wp-content/uploads/HamletOysterRoastFeature.jpg
END:VEVENT
BEGIN:VEVENT
DTSTART;TZID=America/New_York:20260206T190000
DTEND;TZID=America/New_York:20260206T220000
DTSTAMP:20260424T045023
CREATED:20260203T150023Z
LAST-MODIFIED:20260208T143006Z
UID:10080477-1770404400-1770415200@thepinestimes.com
SUMMARY:First Friday Dance & Social Club
DESCRIPTION:Hamlet American Legion Post 49 invites you to the First Friday Dance & Social Club\, featuring professional DJs from the Carolinas playing the best of line dancing\, disco\, shag\, and old-time rock and roll! Doors open at 6:30pm with music from 7:00pm-10:00pm. There is $5 cover charge; American Legion membership is not required to attend. For more information\, call 910-334-0369.
URL:https://thepinestimes.com/event/first-friday-dance-social-club/2026-02-06/
LOCATION:American Legion Hamlet Post 49\, 402 Veterans Dr.\, Hamlet\, 28345\, United States
CATEGORIES:Adults,Clubs,Dance,Dance Class,Hamlet,Hobby/Enthusiast,Line Dancing,Music,Out of Town,Senior,Social,Young Adults
ATTACH;FMTTYPE=image/png:https://thepinestimes.com/wp-content/uploads/Dancing-in-the-Pines-e1755370461830.png
END:VEVENT
BEGIN:VEVENT
DTSTART;TZID=America/New_York:20250208T140000
DTEND;TZID=America/New_York:20250208T140000
DTSTAMP:20260424T045023
CREATED:20250201T183530Z
LAST-MODIFIED:20250206T133343Z
UID:10053289-1739023200-1739023200@thepinestimes.com
SUMMARY:American Legion Hamlet Post 49: Oyster Roast
DESCRIPTION:The American Legion Hamlet Post 49 is holding their Eighth Annual Oyster Roast on Saturday\, February 8th beginning at 2pm! Eric Whitfield will be providing live music for your enjoyment. The event is open to the public.
URL:https://thepinestimes.com/event/american-legion-hamlet-post-49-oyster-roast/
LOCATION:American Legion Hamlet Post 49\, 402 Veterans Dr.\, Hamlet\, 28345\, United States
CATEGORIES:Adults,Food,Hamlet,Live Music,Out of Town,Senior,Social,Veterans
ATTACH;FMTTYPE=image/jpeg:https://thepinestimes.com/wp-content/uploads/American-Legion-feature.jpg
END:VEVENT
END:VCALENDAR